Workbook
Name AnnTotGen1: 'Part V (Phase 2)'!$I$270:$J$270
Name AnnTotGen1: 'Part V (Phase 1)'!$I$270:$J$270
Name AvailFac: 'Part IV'!$J$46
Name BidderName: 'Part II'!$F$48
Name BidderRep: 'Part II'!$F$51
Name BidderRepTitle: 'Part II'!$D$53
Name Caddr1: 'Part II'!$E$72
Name Caddr1_2: 'Part II'!$E$83
Name Caddr2: 'Part II'!$E$73
Name Caddr2_2: 'Part II'!$E$84
Name CalcStorEff1: 'Part V (Phase 2)'!$O$265:$Q$265
Name CalcStorEff1: 'Part V (Phase 1)'!$O$265:$Q$265
Name CapGross: 'Part IV'!$G$16
Name CapNet: 'Part IV'!$J$16
Name CntMax: 'Part VII (Phase 2)'!$H$68*('Part VII (Phase 2)'!$H$70/100)
Name CntMax: 'Part VII (Phase 1)'!$H$68*('Part VII (Phase 1)'!$H$70/100)
Name CntName: 'Part II'!$E$69
Name CntName_2: 'Part II'!$E$80
Name DurationHrs: 'Part IV'!$J$20
Name DxMult: 'Part III'!$J$39
Name DxMultReservedMW: 'Part III'!$J$41
Name EligBidCategory: 'Part III'!$H$35:$O$35
Name Email: 'Part II'!$E$75
Name Email_2: 'Part II'!$E$86
Name EstCOD: 'Part IV'!$J$12
Name EvalCOD1: 'Part IV'!$J$14
Name IQ_CH: 110000
Name IQ_CQ: 5000
Name IQ_CY: 10000
Name IQ_DAILY: 500000
Name IQ_FH: 100000
Name IQ_FQ: 500
Name IQ_FY: 1000
Name IQ_LTM: 2000
Name IQ_MONTH: 15000
Name IQ_NTM: 6000
Name IQ_WEEK: 50000
Name IQ_YTD: 3000
Name LoadZone: 'Part IV'!$H$62
Name Maddr1: 'Part II'!$E$70
Name Maddr1_2: 'Part II'!$E$81
Name Maddr2: 'Part II'!$E$71
Name Maddr2_2: 'Part II'!$E$82
Name minChargeRate: 'Part IV'!$J$22
Name minDischargeRate: 'Part IV'!$J$28
Name MinPct: 'Part IV'!$J$56
Name MxChgRate1: 'Part IV'!$J$24
Name MxChgRate2: 'Part IV'!$J$95
Name MxDisch1: 'Part IV'!$J$30
Name MxDisch2: 'Part IV'!$J$101
Name PctAdj: 'Part IV'!$J$54
Name PctEnt: 'Part IV'!$J$50
Name PointDlvd: 'Part IV'!$G$60
Name ProjTitle: 'Part II'!$F$45
Name SignDate: 'Part II'!$I$53
Name SoQDate: 'Part III'!$J$45
Name StorageMWh: 'Part IV'!$J$18
Name StorCap: 'Part IV'!$J$18
Name StorEff1: 'Part IV'!$J$38
Name SumCSO: 'Part VIII'!$H$15

Sheet Part I
B2: ="Version " & Version -> Version RD2 FINAL
B3: Part I
F4: Guidelines and Instructions
B5: =Title2
B6: Certification, Project and Pricing Data (CPPD)
B40: ="Version " & Version -> Version RD2 FINAL
B41: Part I (continued)
F42: Guidelines and Instructions
B93: ="Version " & Version -> Version RD2 FINAL
B94: Part I (continued)
F95: Guidelines and Instructions

Sheet Part II
B2: ="Version " & Version -> Version RD2 FINAL
B3: Part II (a)
B4: Proposal Certification and Authorization (Appendix C)
B5: =Title1
B6: =Title2
D45: Project Title(s) | M45: =IF(F45="","<<< Required Information","") -> <<< Required Information
D46: (as Submitted to the Soliciting Parties)
D48: Bidder Name | M48: =IF(F48="","<<< Required Information","") -> <<< Required Information
D50: Bidder or Authorized
D51: Representative | M51: =IF(F51="","<<< Required Information","") -> <<< Required Information
M53: =IF(OR(D53="",I53=""),"<<< Required Information","") -> <<< Required Information
D54: Bidder Representative's Title | I54: Date
D56: See signed Certification form provided separately
D57: Signature of Bidder or Authorized Representative
B61: ="Version " & Version -> Version RD2 FINAL
B62: Part II (b)
B63: Bidder and Contact Information
C68: Contact Information For Project
C69: Name | M69: =IF(E69="","<<< Required Information","") -> <<< Required Information
C70: Mailing Address | M70: =IF(E70="","<<< Required Information","") -> <<< Required Information
C72: Courier Address (If Different)
C74: Telephone Number | M74: =IF(E74="","<<< Required Information","") -> <<< Required Information
C75: E-mail Address | M75: =IF(E75="","<<< Required Information","") -> <<< Required Information
C79: Alternate Contact (Optional)
C80: Name | M80: =IF(E80="","<<< Optional","") -> <<< Optional
C81: Mailing Address | M81: =IF(E81="","<<< Optional","") -> <<< Optional
C83: Courier Address (If Different)
C85: Telephone Number | M85: =IF(E85="","<<< Optional","") -> <<< Optional
C86: E-mail Address | M86: =IF(E86="","<<< Optional","") -> <<< Optional

Sheet Part III
B2: ="Version " & Version -> Version RD2 FINAL
B3: Part III
B4: Proposal Identification and Definitions
C6: Bidder Name | G6: =IF(BidderName<>"",BidderName,"") | Q6: =IF(G6="","<<< Enter Information in Part II","") -> <<< Enter Information in Part II
C8: Project Title | G8: =IF(ProjTitle<>"",ProjTitle,"") | Q8: =IF(G8="","<<< Enter Information in Part II","") -> <<< Enter Information in Part II
C10: How this proposal meets the definition of "Mid-duration Energy Storage System"?
Q12: =IF(C11="","<<< Required Information","") -> <<< Required Information
C16: Is the proposal a new or existing facility? If existing, but the proposal to compete for a long-term contract is only for an upgraded portion, select new.
L17: (New/Existing) | Q17: =IF(J17="","<<< Required Information","") -> <<< Required Information
C19: Is the proposal Transmission- or Distribution-Connected? | L19: (Tx/Dx) | Q19: =IF(I19="","<<< Required Information","") -> <<< Required Information
C21: Environmental Attribute Product: | L21: (CPEC/Other) | Q21: =IF(J21="","<<< Required Information","") -> <<< Required Information
C23: If other, please provide details of proposed Environmental Attribute:
Q25: =IF(J$21="Other",IF(C24="","<<< Required Information",""),"")
C29: How this proposal meets the definition of "Qualified Energy Storage System" per 225 CMR 21.02 of the Clean Peak Energy Portfolio Standard?
Q31: =IF(J$21="CPEC",IF(C30="","<<< Required Information",""),"")
C35: Indicate primary Eligibility Criteria to be used to demonstrate the project will be a Qualified Energy Storage System per 225 CMR 21.05 of the Clean Peak Energy Portfolio Standard: | Q35: =IF(J$21="CPEC",IF(H35="","<<< Required Information",""),"")
C37: Has this proposal reserved capacity or does the bidder intend to reserve the proposal capacity in either the Near-Term Resource Multiplier (NTRM) or Distribution Circuit Multiplier (DCM) programs within the CPS? | K37: (Yes, No, No - but intended, N/A) | Q37: =IF(AND($I$19="Distribution-Connected",J$21="CPEC"),IF(J37="","<<< Required Information",""),"")
D39: =IF(J37="Yes","If Yes, please identify which program and provide the reservation approval date as given in the approval letter from DOER.","If intended, please identify which program. A reservation approval date response is not required.") -> If intended, please identify which program. A reservation approval date response is not required. | K39: (DCM, NTRM, N/A) | N39: mm-dd-yyyy
D41: =IF(J37="Yes","If Yes, how much of the proposals capacity is reserved under the selected program?","If intended, how much of the proposals capacity might be reserved under the selected program?") -> If intended, how much of the proposals capacity might be reserved under the selected program? | K41: MW
C43: Has the proposal already received its Statement of Qualification (SoQ) from DOER? | K43: (Yes, No)
D45: =IF(J43="No","If the proposal has not received its SoQ, what is the assumed date the proposal with receive the SoQ? (This date will be used to determine the assumption around the 10 year application of the NTRM or DCM during the evaluation)","And when did the proposal receive its SoQ?") -> And when did the proposal receive its SoQ? | K45: mm-dd-yyyy

Sheet Part IV
B2: ="Version " & Version -> Version RD2 FINAL
B3: Part IV (a)
B4: Eligible Facility Summary Information
C6: Project Title | E6: =IF(ProjTitle<>"",ProjTitle,"") | M6: =IF(E6="","<<< Enter Information in Part II","") -> <<< Enter Information in Part II
C8: Does this proposal include a second phase of development? | K8: (Yes/No) | M8: =IF(J8="","<<< Required Information","") -> <<< Required Information
C9: =IF(J8="Yes","Complete Part IV (a) for the first phase and Part IV (b) for the second phase","")
C11: Guaranteed Commercial Operation Date (If an existing facility, please enter the proposed date of the Contract Services Term)
M12: =IF(J12="","<<< Required Information",IF(EstCOD>=DATE(2033,1,1),"COD must be before 1/1/2033","")) -> <<< Required Information
C14: For evaluation purposes, the term is assumed to start on the first day of the first full calendar month beginning on or after the Proposed Delivery Term Start Date or the Guaranteed Commercial Operation Date as applicable, as shown to the right: | J14: =MAX(EstCOD,IF(DAY(EstCOD)>1,DATE(YEAR(EstCOD),MONTH(EstCOD)+1,1),EstCOD)) -> 0
C16: Capacity of the proposal (MW) | G16: MW Full Rated Capacity | K16: MW Delivery | M16: =IF(OR(F16="",J16=""),"<<< Required Information","") -> <<< Required Information
J17: =IF(CapNet>CapGross,"(Value exceeds Gross Capacity)","")
C18: Storage Energy Capacity (MWh) | K18: MWh | M18: =IF(J18="","<<< Required Information","") -> <<< Required Information
C20: Discharge Duration at Full-Rated Capacity (hrs.) | K20: Hrs. | M20: =IF(J20="","<<< Required Information","") -> <<< Required Information
C22: Minimum Charge Rate (MW) | K22: MW | M22: =IF(J22="","<<< Required Information","") -> <<< Required Information
C24: Maximum Charge Rate (MW) | K24: MW | M24: =IF(J24="","<<< Required Information","") -> <<< Required Information
C26: Charge Ramp Rate (MW/min) | K26: MW/min | M26: =IF(J26="","<<< Required Information","") -> <<< Required Information
C28: Minimum Discharge Rate (MW) | K28: MW | M28: =IF(J28="","<<< Required Information","") -> <<< Required Information
C30: Maximum Discharge Rate (MW) | K30: MW | M30: =IF(J30="","<<< Required Information","") -> <<< Required Information
C32: Discharge Ramp Rate (MW/min)* | K32: MW/min | M32: =IF(J32="","<<< Required Information","") -> <<< Required Information
C34: Charging Efficiency (%) | K34: % | M34: =IF(J34="","<<< Required Information","") -> <<< Required Information
C36: Discharging Efficiency (%) | K36: % | M36: =IF(J36="","<<< Required Information","") -> <<< Required Information
C38: Round Trip Efficiency (%) | K38: % | M38: =IF(J38="","<<< Required Information","") -> <<< Required Information
C40: Maximum Station Service Load (kW) | K40: kW | M40: =IF(J40="","<<< Required Information","") -> <<< Required Information
... C50: Buyers' Percentage Entitlement of facility output | K50: % | M50: =IF(J50="","<<< Required Information","") -> <<< Required Information
C51: (Enter Percent relative to entire Facility)
C53: Is the Buyers' Percentage Entitlement scalable downward in the event that acceptance of the full amount offered would result in exceedance of the target procurement amount? (note: if the percentage the buyers would be entitled to is scalable, the full capacity of the facility must still be developed.)
K54: (Yes/No) | M54: =IF(J54="","<<< Required Information","") -> <<< Required Information
C56: What is the minimum Buyers' Percentage Entitlement acceptable ? | K56: % | M56: =IF(J56="","<<< Required Information","") -> <<< Required Information
C58: Does the bidder intend to seek additional buyers or offtakers, other than the MA EDCs included here? | K58: (Yes/No) | M58: =IF(J58="","<<< Required Information","") -> <<< Required Information
C60: Proposed Delivery Point(s)** | M60: =IF(G60="","<<< Required Information","") -> <<< Required Information
C62: ISO New England Load Zone for Proposed Delivery Point | M62: =IF(H62="","<<< Required Information","") -> <<< Required Information
C64: For distribution-connected only, proposed interconnection point is approved per ISA (yes/no)
K65: (Yes/No) | M65: =IF(AND(TxDx="Distribution-connected",H65=""),"<<< Required Information","")
C67: Note: Please provide any additional technical information about the Energy Storage System that the Evaluation Team would need to consider to evaluate the Opertional Information Bidder provided in Part V (e.g., Min/Max cycles per day or year or lifetime, factors that impact above stated technical information and how that technical information would change) as part of the response to Section A-3 of the Bidder Response Form.
B73: Please note: For transmission-connected projects, the Delivery Point must be the specific Node on the ISO-NE Pool Transmission Facilities, as determined by ISO-NE, where Seller shall transmit its Energy to Buyer, as set forth in Exhibit A to the contract. Seller shall be responsible for all applicable charges associated with transmission interconnection, service and delivery charges, including all related ISO-NE administrative fees and other FERC-approved charges in connection with the Delivery of Energy to the Delivery Point.
B74: * Ensure discharge rate complies with technical standards required by distribution systems companies **The single Delivery Point proposed by Buyer or if there are two proposed Delivery Points, only where there is a specified allocation of energy between the Delivery Points (in contrast to a proposed and alternative Delivery Point). For distribution projects only, please enter proposed interconnection point (i.e. substation, feeder) or reference the section of the bidder package that describes the facility and includes interconnection details.
B76: ="Version " & Version -> Version RD2 FINAL
B77: Part IV (b)
B78: Eligible Facility Summary Information, Phase 2 (if applicable)
C80: Project Title | E80: =IF(ProjTitle<>"",ProjTitle,"") | M80: =IF(J8="Yes",IF(E80="","<<< Enter Information in Part II",""),"")
C82: Guaranteed Commercial Operation Date (If an existing facility, please enter the proposed date of the Contract Services Term)
M83: =IF(J8="Yes",IF(J83="","<<< Required Information",IF(EstCOD>=DATE(2033,1,1),"COD must be before 1/1/2033","")),"")
C85: For evaluation purposes, the term is assumed to start on the first day of the first full calendar month beginning on or after the Proposed Delivery Term Start Date or the Guaranteed Commercial Operation Date as applicable, as shown to the right: | J85: =MAX(EstCOD,IF(DAY(EstCOD)>1,DATE(YEAR(EstCOD),MONTH(EstCOD)+1,1),EstCOD)) -> 0
C87: Capacity of the proposal (MW) | G87: MW Full Rated Capacity | K87: MW Delivery | M87: =IF(J8="Yes",IF(OR(F87="",J87=""),"<<< Required Information",""),"")
J88: =IF(CapNet>CapGross,"(Value exceeds Gross Capacity)","")
C89: Storage Energy Capacity (MWh) | K89: MWh | M89: =IF($J$8="Yes",IF(J89="","<<< Required Information",""),"")
C91: Discharge Duration at Full-Rated Capacity (hrs.) | K91: Hrs. | M91: =IF($J$8="Yes",IF(J91="","<<< Required Information",""),"")
C93: Minimum Charge Rate (MW) | K93: MW | M93: =IF($J$8="Yes",IF(J93="","<<< Required Information",""),"")
C95: Maximum Charge Rate (MW) | K95: MW | M95: =IF($J$8="Yes",IF(J95="","<<< Required Information",""),"")
C97: Charge Ramp Rate (MW/min) | K97: MW/min | M97: =IF($J$8="Yes",IF(J97="","<<< Required Information",""),"")
C99: Minimum Discharge Rate (MW) | K99: MW | M99: =IF($J$8="Yes",IF(J99="","<<< Required Information",""),"")
C101: Maximum Discharge Rate (MW) | K101: MW | M101: =IF($J$8="Yes",IF(J101="","<<< Required Information",""),"")
C103: Discharge Ramp Rate (MW/min)* | K103: MW/min | M103: =IF($J$8="Yes",IF(J103="","<<< Required Information",""),"")
C105: Charging Efficiency (%) | K105: % | M105: =IF($J$8="Yes",IF(J105="","<<< Required Information",""),"")
C107: Discharging Efficiency (%) | K107: % | M107: =IF($J$8="Yes",IF(J107="","<<< Required Information",""),"")
C109: Round Trip Efficiency (%) | K109: % | M109: =IF($J$8="Yes",IF(J109="","<<< Required Information",""),"")
C111: Maximum Station Service Load (kW) | K111: kW | M111: =IF($J$8="Yes",IF(J111="","<<< Required Information",""),"")
... C121: Buyers' Percentage Entitlement of facility output | K121: % | M121: =IF($J$8="Yes",IF(J121="","<<< Required Information",""),"")
C122: (Enter Percent relative to entire Facility)
C124: Is the Buyers' Percentage Entitlement scalable downward in the event that acceptance of the full amount offered would result in exceedance of the target procurement amount? (note: if the percentage the buyers would be entitled to is scalable, the full capacity of the facility must still be developed.)
K125: (Yes/No) | M125: =IF($J$8="Yes",IF(J125="","<<< Required Information",""),"")
C127: What is the minimum Buyers' Percentage Entitlement acceptable ? | K127: % | M127: =IF($J$8="Yes",IF(J127="","<<< Required Information",""),"")
C129: Does the bidder intend to seek additional buyers or offtakers, other than the MA EDCs included here? | K129: (Yes/No) | M129: =IF($J$8="Yes",IF(J129="","<<< Required Information",""),"")
C131: Proposed Delivery Point(s)** | M131: =IF($J$8="Yes",IF(J131="","<<< Required Information",""),"")
C133: ISO New England Load Zone for Proposed Delivery Point | M133: =IF($J$8="Yes",IF(J133="","<<< Required Information",""),"")
C135: For distribution-connected only, proposed interconnection point is approved per ISA (yes/no)
K136: (Yes/No) | M136: =IF(J8="Yes",IF(AND(TxDx="Distribution-connected",H136=""),"<<< Required Information",""),"")
C138: Note: Please provide any additional technical information about the Energy Storage System that the Evaluation Team would need to consider to evaluate the Opertional Information Bidder provided in Part V (e.g., Min/Max cycles per day or year or lifetime, factors that impact above stated technical information and how that technical information would change) as part of the response to Section A-3 of the Bidder Response Form.
B144: Please note: For transmission-connected projects, the Delivery Point must be the specific Node on the ISO-NE Pool Transmission Facilities, as determined by ISO-NE, where Seller shall transmit its Energy to Buyer, as set forth in Exhibit A to the contract. Seller shall be responsible for all applicable charges associated with transmission interconnection, service and delivery charges, including all related ISO-NE administrative fees and other FERC-approved charges in connection with the Delivery of Energy to the Delivery Point.
B145: * Ensure discharge rate complies with technical standards required by distribution systems companies **The single Delivery Point proposed by Buyer or if there are two proposed Delivery Points, only where there is a specified allocation of energy between the Delivery Points (in contrast to a proposed and alternative Delivery Point). For distribution projects only, please enter proposed interconnection point (i.e. substation, feeder) or reference the section of the bidder package that describes the facility and includes interconnection details.

Sheet Part V (Phase 1)
B1: =IF('Part IV'!J8="Yes","Storage Energy System - Phase 1 ONLY","Storage Energy System") -> Storage Energy System
B2: ="Version: " & Version -> Version: RD2 FINAL | X2: ="Version " & Version -> Version RD2 FINAL
B3: Part V (a) | X3: Part V (a) (i) - Energy Storage
B4: Operational Information - Energy Storage Charging/Discharging Schedule | R4: Data Entry | Y4: Representative Energy Storage Charging/Discharging Schedule in Representative Year
C5: Project Title | E5: =IF(ProjTitle="","Auto-Filled",ProjTitle) -> Auto-Filled | L5: Data Entry: | M5: Hourly Profile | T5: =IF(M5="","<<< Required Information",IF(M5="hourly profile"," Enter Hourly Profile in Part V(a) (i) >>>>>>","")) -> Enter Hourly Profile in Part V(a) (i) >>>>>>
Z6: Enter Representative Hourly Charging (-) and Discharging (+) Schedule for | AJ6: 2012 | AK6: weather year
X8: JANUARY | Z8: =IFERROR(SUMIF(Z11:Z34,">0",Z11:Z34)/-SUMIF(Z11:Z34,"<0",Z11:Z34),"") | AA8: =IFERROR(SUMIF(AA11:AA34,">0",AA11:AA34)/-SUMIF(AA11:AA34,"<0",AA11:AA34),"") | AB8: =IFERROR(SUMIF(AB11:AB34,">0",AB11:AB34)/-SUMIF(AB11:AB34,"<0",AB11:AB34),"") | AC8: =IFERROR(SUMIF(AC11:AC34,">0",AC11:AC34)/-SUMIF(AC11:AC34,"<0",AC11:AC34),"") | AD8: =IFERROR(SUMIF(AD11:AD34,">0",AD11:AD34)/-SUMIF(AD11:AD34,"<0",AD11:AD34),"") | AE8: =IFERROR(SUMIF(AE11:AE34,">0",AE11:AE34)/-SUMIF(AE11:AE34,"<0",AE11:AE34),"") | AF8: =IFERROR(SUMIF(AF11:AF34,">0",AF11:AF34)/-SUMIF(AF11:AF34,"<0",AF11:AF34),"") | AG8: =IFERROR(SUMIF(AG11:AG34,">0",AG11:AG34)/-SUMIF(AG11:AG34,"<0",AG11:AG34),"") | ... BD8: =IFERROR(SUMIF(BD11:BD34,">0",BD11:BD34)/-SUMIF(BD11:BD34,"<0",BD11:BD34),"")
Y9: HE | Z9: 1 | AA9: 2 | AB9: 3 | AC9: 4 | AD9: 5 | AE9: 6 | AF9: 7 | AG9: 8 | AH9: 9 | AI9: 10 | AJ9: 11 | AK9: 12 | AL9: 13 | AM9: 14 | AN9: 15 | AO9: 16 | AP9: 17 | AQ9: 18 | AR9: 19 | AS9: 20 | AT9: 21 | AU9: 22 | AV9: 23 | AW9: 24 | AX9: 25 | AY9: 26 | AZ9: 27 | BA9: 28 | BB9: 29 | BC9: 30 | BD9: 31 | BE9: Month | BG9: Off-Pk | BH9: On-Peak | BI9: Charging | BJ9: Discharging | BY9: VLOOKUP
Z10: =VLOOKUP(WEEKDAY(CONCATENATE("1","/",Z9,"/",$AJ$6)),$BY$11:$BZ$17,2,FALSE) -> Sun | AA10: =VLOOKUP(WEEKDAY(CONCATENATE("1","/",AA9,"/",$AJ$6)),$BY$11:$BZ$17,2,FALSE) -> Mon | AB10: =VLOOKUP(WEEKDAY(CONCATENATE("1","/",AB9,"/",$AJ$6)),$BY$11:$BZ$17,2,FALSE) -> Tues | AC10: =VLOOKUP(WEEKDAY(CONCATENATE("1","/",AC9,"/",$AJ$6)),$BY$11:$BZ$17,2,FALSE) -> Wed | AD10: =VLOOKUP(WEEKDAY(CONCATENATE("1","/",AD9,"/",$AJ$6)),$BY$11:$BZ$17,2,FALSE) -> Thur | AE10: =VLOOKUP(WEEKDAY(CONCATENATE("1","/",AE9,"/",$AJ$6)),$BY$11:$BZ$17,2,FALSE) -> Fri | AF10: =VLOOKUP(WEEKDAY(CONCATENATE("1","/",AF9,"/",$AJ$6)),$BY$11:$BZ$17,2,FALSE) -> Sat | AG10: =Z10 -> Sun | AH10: =AA10 -> Mon | AI10: =AB10 -> Tues | AJ10: =AC10 -> Wed | AK10: =AD10 -> Thur | AL10: =AE10 -> Fri | AM10: =AF10 -> Sat | AN10: =AG10 -> Sun | ... BD10: =AW10 -> Tues | BE10: Avg | BG10: MWh | BH10: MWh | BI10: MWh | BJ10: MWh | BK10: =COUNT(Z11:BD34,Z42:BA65,Z73:BD96,Z104:BC127,Z135:BD158,Z166:BC189,Z197:BD220,Z228:BD251,Z259:BC282,Z290:BD313,Z321:BC344,Z352:BD375) -> 0 | BL10: Cells with Contents | BY10: Weekday | BZ10: DayofWeek
Y11: 1 | BE11: =SUM(Z11:BD11)/COUNT(Z$9:BD$9) -> 0 | BF11: =SUM(AA11:BC11)/COUNT(AA$40:BC$40) -> 0 | BG11: =SUM($Z11:$BD11) -> 0 | BH11: 0 | BI11: =SUMIF(Z11:BD11,"<0",Z11:BD11) -> 0 | BJ11: =SUMIF(Z11:BD11,">0",Z11:BD11) -> 0 | BY11: 1 | BZ11: Sun
U12: =IF(AND(BK10<8760,M5="Hourly Profile"),"Full Hourly Matrix is Required Information>>>","") -> Full Hourly Matrix is Required Information>>> | Y12: 2 | BE12: =SUM(Z12:BD12)/COUNT(Z$9:BD$9) -> 0 | BF12: =SUM(AA12:BC12)/COUNT(AA$40:BC$40) -> 0 | BG12: =SUM($Z12:$BD12) -> 0 | BH12: 0 | BI12: =SUMIF(Z12:BD12,"<0",Z12:BD12) -> 0 | BJ12: =SUMIF(Z12:BD12,">0",Z12:BD12) -> 0 | BY12: 2 | BZ12: Mon
Y13: 3 | BE13: =SUM(Z13:BD13)/COUNT(Z$9:BD$9) -> 0 | BF13: =SUM(AA13:BC13)/COUNT(AA$40:BC$40) -> 0 | BG13: =SUM($Z13:$BD13) -> 0 | BH13: 0 | BI13: =SUMIF(Z13:BD13,"<0",Z13:BD13) -> 0 | BJ13: =SUMIF(Z13:BD13,">0",Z13:BD13) -> 0 | BY13: 3 | BZ13: Tues
R14: =IF(C13="","<<< Required Information","") -> <<< Required Information | V14: =IF(BL380>0,CONCATENATE("(",BL380,") Hours above Maximum Discharge Rate>>>"),"") | Y14: 4 | BE14: =SUM(Z14:BD14)/COUNT(Z$9:BD$9) -> 0 | BF14: =SUM(AA14:BC14)/COUNT(AA$40:BC$40) -> 0 | BG14: =SUM($Z14:$BD14) -> 0 | BH14: 0 | BI14: =SUMIF(Z14:BD14,"<0",Z14:BD14) -> 0 | BJ14: =SUMIF(Z14:BD14,">0",Z14:BD14) -> 0 | BY14: 4 | BZ14: Wed
Y15: 5 | BE15: =SUM(Z15:BD15)/COUNT(Z$9:BD$9) -> 0 | BF15: =SUM(AA15:BC15)/COUNT(AA$40:BC$40) -> 0 | BG15: =SUM($Z15:$BD15) -> 0 | BH15: 0 | BI15: =SUMIF(Z15:BD15,"<0",Z15:BD15) -> 0 | BJ15: =SUMIF(Z15:BD15,">0",Z15:BD15) -> 0 | BY15: 5 | BZ15: Thur
V16: =IF(BL381>0,CONCATENATE("(",BL381,") Hours above Maximum Charge Rate>>>"),"") | Y16: 6 | BE16: =SUM(Z16:BD16)/COUNT(Z$9:BD$9) -> 0 | BF16: =SUM(AA16:BC16)/COUNT(AA$40:BC$40) -> 0 | BG16: =SUM($Z16:$BD16) -> 0 | BH16: 0 | BI16: =SUMIF(Z16:BD16,"<0",Z16:BD16) -> 0 | BJ16: =SUMIF(Z16:BD16,">0",Z16:BD16) -> 0 | BY16: 6 | BZ16: Fri
Y17: 7 | BE17: =SUM(Z17:BD17)/COUNT(Z$9:BD$9) -> 0 | BF17: =SUM(AA17:BC17)/COUNT(AA$40:BC$40) -> 0 | BG17: =SUM($Z17:$BD17) -> 0 | BH17: 0 | BI17: =SUMIF(Z17:BD17,"<0",Z17:BD17) -> 0 | BJ17: =SUMIF(Z17:BD17,">0",Z17:BD17) -> 0 | BY17: 7 | BZ17: Sat
Y18: 8 | BE18: =SUM(Z18:BD18)/COUNT(Z$9:BD$9) -> 0 | BF18: =SUM(AA18:BC18)/COUNT(AA$40:BC$40) -> 0 | BG18: =(SUMIF($Z$10:$BD$10,"Sat",$Z18:$BD18)+SUMIF($Z$10:$BD$10,"Sun",$Z18:$BD18)) -> 0 | BH18: =(SUM($Z18:$BD18)-(SUMIF($Z$10:$BD$10,"Sat",$Z18:$BD18)+SUMIF($Z$10:$BD$10,"Sun",$Z18:$BD18))) -> 0 | BI18: =SUMIF(Z18:BD18,"<0",Z18:BD18) -> 0 | BJ18: =SUMIF(Z18:BD18,">0",Z18:BD18) -> 0
Y19: 9 | BE19: =SUM(Z19:BD19)/COUNT(Z$9:BD$9) -> 0 | BF19: =SUM(AA19:BC19)/COUNT(AA$40:BC$40) -> 0 | BG19: =(SUMIF($Z$10:$BD$10,"Sat",$Z19:$BD19)+SUMIF($Z$10:$BD$10,"Sun",$Z19:$BD19)) -> 0 | BH19: =(SUM($Z19:$BD19)-(SUMIF($Z$10:$BD$10,"Sat",$Z19:$BD19)+SUMIF($Z$10:$BD$10,"Sun",$Z19:$BD19))) -> 0 | BI19: =SUMIF(Z19:BD19,"<0",Z19:BD19) -> 0 | BJ19: =SUMIF(Z19:BD19,">0",Z19:BD19) -> 0
Y20: 10 | BE20: =SUM(Z20:BD20)/COUNT(Z$9:BD$9) -> 0 | BF20: =SUM(AA20:BC20)/COUNT(AA$40:BC$40) -> 0 | BG20: =(SUMIF($Z$10:$BD$10,"Sat",$Z20:$BD20)+SUMIF($Z$10:$BD$10,"Sun",$Z20:$BD20)) -> 0 | BH20: =(SUM($Z20:$BD20)-(SUMIF($Z$10:$BD$10,"Sat",$Z20:$BD20)+SUMIF($Z$10:$BD$10,"Sun",$Z20:$BD20))) -> 0 | BI20: =SUMIF(Z20:BD20,"<0",Z20:BD20) -> 0 | BJ20: =SUMIF(Z20:BD20,">0",Z20:BD20) -> 0
Y21: 11 | BE21: =SUM(Z21:BD21)/COUNT(Z$9:BD$9) -> 0 | BF21: =SUM(AA21:BC21)/COUNT(AA$40:BC$40) -> 0 | BG21: =(SUMIF($Z$10:$BD$10,"Sat",$Z21:$BD21)+SUMIF($Z$10:$BD$10,"Sun",$Z21:$BD21)) -> 0 | BH21: =(SUM($Z21:$BD21)-(SUMIF($Z$10:$BD$10,"Sat",$Z21:$BD21)+SUMIF($Z$10:$BD$10,"Sun",$Z21:$BD21))) -> 0 | BI21: =SUMIF(Z21:BD21,"<0",Z21:BD21) -> 0 | BJ21: =SUMIF(Z21:BD21,">0",Z21:BD21) -> 0
Y22: 12 | BE22: =SUM(Z22:BD22)/COUNT(Z$9:BD$9) -> 0 | BF22: =SUM(AA22:BC22)/COUNT(AA$40:BC$40) -> 0 | BG22: =(SUMIF($Z$10:$BD$10,"Sat",$Z22:$BD22)+SUMIF($Z$10:$BD$10,"Sun",$Z22:$BD22)) -> 0 | BH22: =(SUM($Z22:$BD22)-(SUMIF($Z$10:$BD$10,"Sat",$Z22:$BD22)+SUMIF($Z$10:$BD$10,"Sun",$Z22:$BD22))) -> 0 | BI22: =SUMIF(Z22:BD22,"<0",Z22:BD22) -> 0 | BJ22: =SUMIF(Z22:BD22,">0",Z22:BD22) -> 0
Y23: 13 | BE23: =SUM(Z23:BD23)/COUNT(Z$9:BD$9) -> 0 | BF23: =SUM(AA23:BC23)/COUNT(AA$40:BC$40) -> 0 | BG23: =(SUMIF($Z$10:$BD$10,"Sat",$Z23:$BD23)+SUMIF($Z$10:$BD$10,"Sun",$Z23:$BD23)) -> 0 | BH23: =(SUM($Z23:$BD23)-(SUMIF($Z$10:$BD$10,"Sat",$Z23:$BD23)+SUMIF($Z$10:$BD$10,"Sun",$Z23:$BD23))) -> 0 | BI23: =SUMIF(Z23:BD23,"<0",Z23:BD23) -> 0 | BJ23: =SUMIF(Z23:BD23,">0",Z23:BD23) -> 0
Y24: 14 | BE24: =SUM(Z24:BD24)/COUNT(Z$9:BD$9) -> 0 | BF24: =SUM(AA24:BC24)/COUNT(AA$40:BC$40) -> 0 | BG24: =(SUMIF($Z$10:$BD$10,"Sat",$Z24:$BD24)+SUMIF($Z$10:$BD$10,"Sun",$Z24:$BD24)) -> 0 | BH24: =(SUM($Z24:$BD24)-(SUMIF($Z$10:$BD$10,"Sat",$Z24:$BD24)+SUMIF($Z$10:$BD$10,"Sun",$Z24:$BD24))) -> 0 | BI24: =SUMIF(Z24:BD24,"<0",Z24:BD24) -> 0 | BJ24: =SUMIF(Z24:BD24,">0",Z24:BD24) -> 0
Y25: 15 | BE25: =SUM(Z25:BD25)/COUNT(Z$9:BD$9) -> 0 | BF25: =SUM(AA25:BC25)/COUNT(AA$40:BC$40) -> 0 | BG25: =(SUMIF($Z$10:$BD$10,"Sat",$Z25:$BD25)+SUMIF($Z$10:$BD$10,"Sun",$Z25:$BD25)) -> 0 | BH25: =(SUM($Z25:$BD25)-(SUMIF($Z$10:$BD$10,"Sat",$Z25:$BD25)+SUMIF($Z$10:$BD$10,"Sun",$Z25:$BD25))) -> 0 | BI25: =SUMIF(Z25:BD25,"<0",Z25:BD25) -> 0 | BJ25: =SUMIF(Z25:BD25,">0",Z25:BD25) -> 0
C26: This table is calculated from data entry in Part V(a). You must insert an Hourly Profile to the right for the entire facility. | Y26: 16 | BE26: =SUM(Z26:BD26)/COUNT(Z$9:BD$9) -> 0 | BF26: =SUM(AA26:BC26)/COUNT(AA$40:BC$40) -> 0 | BG26: =(SUMIF($Z$10:$BD$10,"Sat",$Z26:$BD26)+SUMIF($Z$10:$BD$10,"Sun",$Z26:$BD26)) -> 0 | BH26: =(SUM($Z26:$BD26)-(SUMIF($Z$10:$BD$10,"Sat",$Z26:$BD26)+SUMIF($Z$10:$BD$10,"Sun",$Z26:$BD26))) -> 0 | BI26: =SUMIF(Z26:BD26,"<0",Z26:BD26) -> 0 | BJ26: =SUMIF(Z26:BD26,">0",Z26:BD26) -> 0
D27: HOURLY STORAGE ENERGY FLOW in MW (averaged) - 12 Months by 24 Hours For Representative Day For Each Month | Y27: 17 | BE27: =SUM(Z27:BD27)/COUNT(Z$9:BD$9) -> 0 | BF27: =SUM(AA27:BC27)/COUNT(AA$40:BC$40) -> 0 | BG27: =(SUMIF($Z$10:$BD$10,"Sat",$Z27:$BD27)+SUMIF($Z$10:$BD$10,"Sun",$Z27:$BD27)) -> 0 | BH27: =(SUM($Z27:$BD27)-(SUMIF($Z$10:$BD$10,"Sat",$Z27:$BD27)+SUMIF($Z$10:$BD$10,"Sun",$Z27:$BD27))) -> 0 | BI27: =SUMIF(Z27:BD27,"<0",Z27:BD27) -> 0 | BJ27: =SUMIF(Z27:BD27,">0",Z27:BD27) -> 0
Y28: 18 | BE28: =SUM(Z28:BD28)/COUNT(Z$9:BD$9) -> 0 | BF28: =SUM(AA28:BC28)/COUNT(AA$40:BC$40) -> 0 | BG28: =(SUMIF($Z$10:$BD$10,"Sat",$Z28:$BD28)+SUMIF($Z$10:$BD$10,"Sun",$Z28:$BD28)) -> 0 | BH28: =(SUM($Z28:$BD28)-(SUMIF($Z$10:$BD$10,"Sat",$Z28:$BD28)+SUMIF($Z$10:$BD$10,"Sun",$Z28:$BD28))) -> 0 | BI28: =SUMIF(Z28:BD28,"<0",Z28:BD28) -> 0 | BJ28: =SUMIF(Z28:BD28,">0",Z28:BD28) -> 0
C29: HE | D29: Jan | E29: Feb | F29: Mar | G29: Apr | H29: May | I29: Jun | J29: Jul | K29: Aug | L29: Sep | M29: Oct | N29: Nov | O29: Dec | Y29: 19 | BE29: =SUM(Z29:BD29)/COUNT(Z$9:BD$9) -> 0 | BF29: =SUM(AA29:BC29)/COUNT(AA$40:BC$40) -> 0 | BG29: =(SUMIF($Z$10:$BD$10,"Sat",$Z29:$BD29)+SUMIF($Z$10:$BD$10,"Sun",$Z29:$BD29)) -> 0 | BH29: =(SUM($Z29:$BD29)-(SUMIF($Z$10:$BD$10,"Sat",$Z29:$BD29)+SUMIF($Z$10:$BD$10,"Sun",$Z29:$BD29))) -> 0 | BI29: =SUMIF(Z29:BD29,"<0",Z29:BD29) -> 0 | BJ29: =SUMIF(Z29:BD29,">0",Z29:BD29) -> 0
C30: 1 | D30: =IFERROR(IF($BE11="",0,$BE11),0) -> 0 | E30: =IFERROR(IF($BE42="",0,$BE42),0) -> 0 | F30: =IFERROR(IF($BE73="",0,$BE73),0) -> 0 | G30: =IFERROR(IF($BE104="",0,$BE104),0) -> 0 | H30: =IFERROR(IF($BE135="",0,$BE135),0) -> 0 | I30: =IFERROR(IF($BE166="",0,$BE166),0) -> 0 | J30: =IFERROR(IF($BE197="",0,$BE197),0) -> 0 | K30: =IFERROR(IF($BE228="",0,$BE228),0) -> 0 | L30: =IFERROR(IF($BE259="",0,$BE259),0) -> 0 | M30: =IFERROR(IF($BE290="",0,$BE290),0) -> 0 | N30: =IFERROR(IF($BE321="",0,$BE321),0) -> 0 | O30: =IFERROR(IF($BE352="",0,$BE352),0) -> 0 | Y30: 20 | BE30: =SUM(Z30:BD30)/COUNT(Z$9:BD$9) -> 0 | BF30: =SUM(AA30:BC30)/COUNT(AA$40:BC$40) -> 0 | BG30: =(SUMIF($Z$10:$BD$10,"Sat",$Z30:$BD30)+SUMIF($Z$10:$BD$10,"Sun",$Z30:$BD30)) -> 0 | BH30: =(SUM($Z30:$BD30)-(SUMIF($Z$10:$BD$10,"Sat",$Z30:$BD30)+SUMIF($Z$10:$BD$10,"Sun",$Z30:$BD30))) -> 0 | BI30: =SUMIF(Z30:BD30,"<0",Z30:BD30) -> 0 | BJ30: =SUMIF(Z30:BD30,">0",Z30:BD30) -> 0
C31: 2 | D31: =IFERROR(IF($BE12="",0,$BE12),0) -> 0 | E31: =IFERROR(IF($BE43="",0,$BE43),0) -> 0 | F31: =IFERROR(IF($BE74="",0,$BE74),0) -> 0 | G31: =IFERROR(IF($BE105="",0,$BE105),0) -> 0 | H31: =IFERROR(IF($BE136="",0,$BE136),0) -> 0 | I31: =IFERROR(IF($BE167="",0,$BE167),0) -> 0 | J31: =IFERROR(IF($BE198="",0,$BE198),0) -> 0 | K31: =IFERROR(IF($BE229="",0,$BE229),0) -> 0 | L31: =IFERROR(IF($BE260="",0,$BE260),0) -> 0 | M31: =IFERROR(IF($BE291="",0,$BE291),0) -> 0 | N31: =IFERROR(IF($BE322="",0,$BE322),0) -> 0 | O31: =IFERROR(IF($BE353="",0,$BE353),0) -> 0 | Y31: 21 | BE31: =SUM(Z31:BD31)/COUNT(Z$9:BD$9) -> 0 | BF31: =SUM(AA31:BC31)/COUNT(AA$40:BC$40) -> 0 | BG31: =(SUMIF($Z$10:$BD$10,"Sat",$Z31:$BD31)+SUMIF($Z$10:$BD$10,"Sun",$Z31:$BD31)) -> 0 | BH31: =(SUM($Z31:$BD31)-(SUMIF($Z$10:$BD$10,"Sat",$Z31:$BD31)+SUMIF($Z$10:$BD$10,"Sun",$Z31:$BD31))) -> 0 | BI31: =SUMIF(Z31:BD31,"<0",Z31:BD31) -> 0 | BJ31: =SUMIF(Z31:BD31,">0",Z31:BD31) -> 0
C32: 3 | D32: =IFERROR(IF($BE13="",0,$BE13),0) -> 0 | E32: =IFERROR(IF($BE44="",0,$BE44),0) -> 0 | F32: =IFERROR(IF($BE75="",0,$BE75),0) -> 0 | G32: =IFERROR(IF($BE106="",0,$BE106),0) -> 0 | H32: =IFERROR(IF($BE137="",0,$BE137),0) -> 0 | I32: =IFERROR(IF($BE168="",0,$BE168),0) -> 0 | J32: =IFERROR(IF($BE199="",0,$BE199),0) -> 0 | K32: =IFERROR(IF($BE230="",0,$BE230),0) -> 0 | L32: =IFERROR(IF($BE261="",0,$BE261),0) -> 0 | M32: =IFERROR(IF($BE292="",0,$BE292),0) -> 0 | N32: =IFERROR(IF($BE323="",0,$BE323),0) -> 0 | O32: =IFERROR(IF($BE354="",0,$BE354),0) -> 0 | Y32: 22 | BE32: =SUM(Z32:BD32)/COUNT(Z$9:BD$9) -> 0 | BF32: =SUM(AA32:BC32)/COUNT(AA$40:BC$40) -> 0 | BG32: =(SUMIF($Z$10:$BD$10,"Sat",$Z32:$BD32)+SUMIF($Z$10:$BD$10,"Sun",$Z32:$BD32)) -> 0 | BH32: =(SUM($Z32:$BD32)-(SUMIF($Z$10:$BD$10,"Sat",$Z32:$BD32)+SUMIF($Z$10:$BD$10,"Sun",$Z32:$BD32))) -> 0 | BI32: =SUMIF(Z32:BD32,"<0",Z32:BD32) -> 0 | BJ32: =SUMIF(Z32:BD32,">0",Z32:BD32) -> 0 | BM32: Monthly
C33: 4 | D33: =IFERROR(IF($BE14="",0,$BE14),0) -> 0 | E33: =IFERROR(IF($BE45="",0,$BE45),0) -> 0 | F33: =IFERROR(IF($BE76="",0,$BE76),0) -> 0 | G33: =IFERROR(IF($BE107="",0,$BE107),0) -> 0 | H33: =IFERROR(IF($BE138="",0,$BE138),0) -> 0 | I33: =IFERROR(IF($BE169="",0,$BE169),0) -> 0 | J33: =IFERROR(IF($BE200="",0,$BE200),0) -> 0 | K33: =IFERROR(IF($BE231="",0,$BE231),0) -> 0 | L33: =IFERROR(IF($BE262="",0,$BE262),0) -> 0 | M33: =IFERROR(IF($BE293="",0,$BE293),0) -> 0 | N33: =IFERROR(IF($BE324="",0,$BE324),0) -> 0 | O33: =IFERROR(IF($BE355="",0,$BE355),0) -> 0 | Y33: 23 | BE33: =SUM(Z33:BD33)/COUNT(Z$9:BD$9) -> 0 | BF33: =SUM(AA33:BC33)/COUNT(AA$40:BC$40) -> 0 | BG33: =(SUMIF($Z$10:$BD$10,"Sat",$Z33:$BD33)+SUMIF($Z$10:$BD$10,"Sun",$Z33:$BD33)) -> 0 | BH33: =(SUM($Z33:$BD33)-(SUMIF($Z$10:$BD$10,"Sat",$Z33:$BD33)+SUMIF($Z$10:$BD$10,"Sun",$Z33:$BD33))) -> 0 | BI33: =SUMIF(Z33:BD33,"<0",Z33:BD33) -> 0 | BJ33: =SUMIF(Z33:BD33,">0",Z33:BD33) -> 0 | BL33: =COUNTIF(Z11:BD34,">"&MxDisch1) -> 0 | BM33: Hours above Maximum Discharge Rate
C34: 5 | D34: =IFERROR(IF($BE15="",0,$BE15),0) -> 0 | E34: =IFERROR(IF($BE46="",0,$BE46),0) -> 0 | F34: =IFERROR(IF($BE77="",0,$BE77),0) -> 0 | G34: =IFERROR(IF($BE108="",0,$BE108),0) -> 0 | H34: =IFERROR(IF($BE139="",0,$BE139),0) -> 0 | I34: =IFERROR(IF($BE170="",0,$BE170),0) -> 0 | J34: =IFERROR(IF($BE201="",0,$BE201),0) -> 0 | K34: =IFERROR(IF($BE232="",0,$BE232),0) -> 0 | L34: =IFERROR(IF($BE263="",0,$BE263),0) -> 0 | M34: =IFERROR(IF($BE294="",0,$BE294),0) -> 0 | N34: =IFERROR(IF($BE325="",0,$BE325),0) -> 0 | O34: =IFERROR(IF($BE356="",0,$BE356),0) -> 0 | Y34: 24 | BE34: =SUM(Z34:BD34)/COUNT(Z$9:BD$9) -> 0 | BF34: =SUM(AA34:BC34)/COUNT(AA$40:BC$40) -> 0 | BG34: =SUM($Z34:$BD34) -> 0 | BH34: 0 | BI34: =SUMIF(Z34:BD34,"<0",Z34:BD34) -> 0 | BJ34: =SUMIF(Z34:BD34,">0",Z34:BD34) -> 0 | BL34: =COUNTIF(Z11:BD34,"<"&-MxChgRate1) -> 0 | BM34: Hours above Maximum Charge Rate
C35: 6 | D35: =IFERROR(IF($BE16="",0,$BE16),0) -> 0 | E35: =IFERROR(IF($BE47="",0,$BE47),0) -> 0 | F35: =IFERROR(IF($BE78="",0,$BE78),0) -> 0 | G35: =IFERROR(IF($BE109="",0,$BE109),0) -> 0 | H35: =IFERROR(IF($BE140="",0,$BE140),0) -> 0 | I35: =IFERROR(IF($BE171="",0,$BE171),0) -> 0 | J35: =IFERROR(IF($BE202="",0,$BE202),0) -> 0 | K35: =IFERROR(IF($BE233="",0,$BE233),0) -> 0 | L35: =IFERROR(IF($BE264="",0,$BE264),0) -> 0 | M35: =IFERROR(IF($BE295="",0,$BE295),0) -> 0 | N35: =IFERROR(IF($BE326="",0,$BE326),0) -> 0 | O35: =IFERROR(IF($BE357="",0,$BE357),0) -> 0
C36: 7 | D36: =IFERROR(IF($BE17="",0,$BE17),0) -> 0 | E36: =IFERROR(IF($BE48="",0,$BE48),0) -> 0 | F36: =IFERROR(IF($BE79="",0,$BE79),0) -> 0 | G36: =IFERROR(IF($BE110="",0,$BE110),0) -> 0 | H36: =IFERROR(IF($BE141="",0,$BE141),0) -> 0 | I36: =IFERROR(IF($BE172="",0,$BE172),0) -> 0 | J36: =IFERROR(IF($BE203="",0,$BE203),0) -> 0 | K36: =IFERROR(IF($BE234="",0,$BE234),0) -> 0 | L36: =IFERROR(IF($BE265="",0,$BE265),0) -> 0 | M36: =IFERROR(IF($BE296="",0,$BE296),0) -> 0 | N36: =IFERROR(IF($BE327="",0,$BE327),0) -> 0 | O36: =IFERROR(IF($BE358="",0,$BE358),0) -> 0 | Z36: =IF(SUM(Z11:Z34)>0,"Verify","") | AA36: =IF(SUM(AA11:AA34)>0,"Verify","") | AB36: =IF(SUM(AB11:AB34)>0,"Verify","") | AC36: =IF(SUM(AC11:AC34)>0,"Verify","") | AD36: =IF(SUM(AD11:AD34)>0,"Verify","") | AE36: =IF(SUM(AE11:AE34)>0,"Verify","") | AF36: =IF(SUM(AF11:AF34)>0,"Verify","") | AG36: =IF(SUM(AG11:AG34)>0,"Verify","") | ... BD36: =IF(SUM(BD11:BD34)>0,"Verify","") | BG36: =SUM(BG11:BG34) -> 0 | BH36: =SUM(BH18:BH33) -> 0 | BI36: =SUM(BI11:BI34) -> 0 | BJ36: =SUM(BJ11:BJ34) -> 0
C37: 8 | D37: =IFERROR(IF($BE18="",0,$BE18),0) -> 0 | E37: =IFERROR(IF($BE49="",0,$BE49),0) -> 0 | F37: =IFERROR(IF($BE80="",0,$BE80),0) -> 0 | G37: =IFERROR(IF($BE111="",0,$BE111),0) -> 0 | H37: =IFERROR(IF($BE142="",0,$BE142),0) -> 0 | I37: =IFERROR(IF($BE173="",0,$BE173),0) -> 0 | J37: =IFERROR(IF($BE204="",0,$BE204),0) -> 0 | K37: =IFERROR(IF($BE235="",0,$BE235),0) -> 0 | L37: =IFERROR(IF($BE266="",0,$BE266),0) -> 0 | M37: =IFERROR(IF($BE297="",0,$BE297),0) -> 0 | N37: =IFERROR(IF($BE328="",0,$BE328),0) -> 0 | O37: =IFERROR(IF($BE359="",0,$BE359),0) -> 0
C38: 9 | D38: =IFERROR(IF($BE19="",0,$BE19),0) -> 0 | E38: =IFERROR(IF($BE50="",0,$BE50),0) -> 0 | F38: =IFERROR(IF($BE81="",0,$BE81),0) -> 0 | G38: =IFERROR(IF($BE112="",0,$BE112),0) -> 0 | H38: =IFERROR(IF($BE143="",0,$BE143),0) -> 0 | I38: =IFERROR(IF($BE174="",0,$BE174),0) -> 0 | J38: =IFERROR(IF($BE205="",0,$BE205),0) -> 0 | K38: =IFERROR(IF($BE236="",0,$BE236),0) -> 0 | L38: =IFERROR(IF($BE267="",0,$BE267),0) -> 0 | M38: =IFERROR(IF($BE298="",0,$BE298),0) -> 0 | N38: =IFERROR(IF($BE329="",0,$BE329),0) -> 0 | O38: =IFERROR(IF($BE360="",0,$BE360),0) -> 0 | X38: FEBRUARY
C39: 10 | D39: =IFERROR(IF($BE20="",0,$BE20),0) -> 0 | E39: =IFERROR(IF($BE51="",0,$BE51),0) -> 0 | F39: =IFERROR(IF($BE82="",0,$BE82),0) -> 0 | G39: =IFERROR(IF($BE113="",0,$BE113),0) -> 0 | H39: =IFERROR(IF($BE144="",0,$BE144),0) -> 0 | I39: =IFERROR(IF($BE175="",0,$BE175),0) -> 0 | J39: =IFERROR(IF($BE206="",0,$BE206),0) -> 0 | K39: =IFERROR(IF($BE237="",0,$BE237),0) -> 0 | L39: =IFERROR(IF($BE268="",0,$BE268),0) -> 0 | M39: =IFERROR(IF($BE299="",0,$BE299),0) -> 0 | N39: =IFERROR(IF($BE330="",0,$BE330),0) -> 0 | O39: =IFERROR(IF($BE361="",0,$BE361),0) -> 0 | Z39: =IFERROR(SUMIF(Z42:Z65,">0",Z42:Z65)/-SUMIF(Z42:Z65,"<0",Z42:Z65),"") | AA39: =IFERROR(SUMIF(AA42:AA65,">0",AA42:AA65)/-SUMIF(AA42:AA65,"<0",AA42:AA65),"") | AB39: =IFERROR(SUMIF(AB42:AB65,">0",AB42:AB65)/-SUMIF(AB42:AB65,"<0",AB42:AB65),"") | AC39: =IFERROR(SUMIF(AC42:AC65,">0",AC42:AC65)/-SUMIF(AC42:AC65,"<0",AC42:AC65),"") | AD39: =IFERROR(SUMIF(AD42:AD65,">0",AD42:AD65)/-SUMIF(AD42:AD65,"<0",AD42:AD65),"") | AE39: =IFERROR(SUMIF(AE42:AE65,">0",AE42:AE65)/-SUMIF(AE42:AE65,"<0",AE42:AE65),"") | AF39: =IFERROR(SUMIF(AF42:AF65,">0",AF42:AF65)/-SUMIF(AF42:AF65,"<0",AF42:AF65),"") | AG39: =IFERROR(SUMIF(AG42:AG65,">0",AG42:AG65)/-SUMIF(AG42:AG65,"<0",AG42:AG65),"") | ... BB39: =IFERROR(SUMIF(BB42:BB65,">0",BB42:BB65)/-SUMIF(BB42:BB65,"<0",BB42:BB65),"")
C40: 11 | D40: =IFERROR(IF($BE21="",0,$BE21),0) -> 0 | E40: =IFERROR(IF($BE52="",0,$BE52),0) -> 0 | F40: =IFERROR(IF($BE83="",0,$BE83),0) -> 0 | G40: =IFERROR(IF($BE114="",0,$BE114),0) -> 0 | H40: =IFERROR(IF($BE145="",0,$BE145),0) -> 0 | I40: =IFERROR(IF($BE176="",0,$BE176),0) -> 0 | J40: =IFERROR(IF($BE207="",0,$BE207),0) -> 0 | K40: =IFERROR(IF($BE238="",0,$BE238),0) -> 0 | L40: =IFERROR(IF($BE269="",0,$BE269),0) -> 0 | M40: =IFERROR(IF($BE300="",0,$BE300),0) -> 0 | N40: =IFERROR(IF($BE331="",0,$BE331),0) -> 0 | O40: =IFERROR(IF($BE362="",0,$BE362),0) -> 0 | Y40: HE | Z40: 1 | AA40: 2 | AB40: 3 | AC40: 4 | AD40: 5 | AE40: 6 | AF40: 7 | AG40: 8 | AH40: 9 | AI40: 10 | AJ40: 11 | AK40: 12 | AL40: 13 | AM40: 14 | AN40: 15 | AO40: 16 | AP40: 17 | AQ40: 18 | AR40: 19 | AS40: 20 | AT40: 21 | AU40: 22 | AV40: 23 | AW40: 24 | AX40: 25 | AY40: 26 | AZ40: 27 | BA40: 28 | BB40: 29 | BE40: Month | BG40: Off-Pk | BH40: On-Peak | BI40: Charging | BJ40: Discharging
C41: 12 | D41: =IFERROR(IF($BE22="",0,$BE22),0) -> 0 | E41: =IFERROR(IF($BE53="",0,$BE53),0) -> 0 | F41: =IFERROR(IF($BE84="",0,$BE84),0) -> 0 | G41: =IFERROR(IF($BE115="",0,$BE115),0) -> 0 | H41: =IFERROR(IF($BE146="",0,$BE146),0) -> 0 | I41: =IFERROR(IF($BE177="",0,$BE177),0) -> 0 | J41: =IFERROR(IF($BE208="",0,$BE208),0) -> 0 | K41: =IFERROR(IF($BE239="",0,$BE239),0) -> 0 | L41: =IFERROR(IF($BE270="",0,$BE270),0) -> 0 | M41: =IFERROR(IF($BE301="",0,$BE301),0) -> 0 | N41: =IFERROR(IF($BE332="",0,$BE332),0) -> 0 | O41: =IFERROR(IF($BE363="",0,$BE363),0) -> 0 | Z41: =VLOOKUP(WEEKDAY(CONCATENATE("2","/",Z40,"/",$AJ$6)),$BY$11:$BZ$17,2,FALSE) -> Wed | AA41: =VLOOKUP(WEEKDAY(CONCATENATE("2","/",AA40,"/",$AJ$6)),$BY$11:$BZ$17,2,FALSE) -> Thur | AB41: =VLOOKUP(WEEKDAY(CONCATENATE("2","/",AB40,"/",$AJ$6)),$BY$11:$BZ$17,2,FALSE) -> Fri | AC41: =VLOOKUP(WEEKDAY(CONCATENATE("2","/",AC40,"/",$AJ$6)),$BY$11:$BZ$17,2,FALSE) -> Sat | AD41: =VLOOKUP(WEEKDAY(CONCATENATE("2","/",AD40,"/",$AJ$6)),$BY$11:$BZ$17,2,FALSE) -> Sun | AE41: =VLOOKUP(WEEKDAY(CONCATENATE("2","/",AE40,"/",$AJ$6)),$BY$11:$BZ$17,2,FALSE) -> Mon | AF41: =VLOOKUP(WEEKDAY(CONCATENATE("2","/",AF40,"/",$AJ$6)),$BY$11:$BZ$17,2,FALSE) -> Tues | AG41: =VLOOKUP(WEEKDAY(CONCATENATE("2","/",AG40,"/",$AJ$6)),$BY$11:$BZ$17,2,FALSE) -> Wed | ... BB41: =VLOOKUP(WEEKDAY(CONCATENATE("2","/",BB40,"/",$AJ$6)),$BY$11:$BZ$17,2,FALSE) -> Wed | BE41: Avg | BG41: MWh | BH41: MWh | BI41: MWh | BJ41: MWh
C42: 13 | D42: =IFERROR(IF($BE23="",0,$BE23),0) -> 0 | E42: =IFERROR(IF($BE54="",0,$BE54),0) -> 0 | F42: =IFERROR(IF($BE85="",0,$BE85),0) -> 0 | G42: =IFERROR(IF($BE116="",0,$BE116),0) -> 0 | H42: =IFERROR(IF($BE147="",0,$BE147),0) -> 0 | I42: =IFERROR(IF($BE178="",0,$BE178),0) -> 0 | J42: =IFERROR(IF($BE209="",0,$BE209),0) -> 0 | K42: =IFERROR(IF($BE240="",0,$BE240),0) -> 0 | L42: =IFERROR(IF($BE271="",0,$BE271),0) -> 0 | M42: =IFERROR(IF($BE302="",0,$BE302),0) -> 0 | N42: =IFERROR(IF($BE333="",0,$BE333),0) -> 0 | O42: =IFERROR(IF($BE364="",0,$BE364),0) -> 0 | Y42: 1 | BE42: =SUM(Z42:BB42)/COUNT(Z$40:BB$40) -> 0 | BF42: =SUM(AA42:BC42)/COUNT(AA$40:BC$40) -> 0 | BG42: =SUM($Z42:$BD42) -> 0 | BH42: 0 | BI42: =SUMIF(Z42:BD42,"<0",Z42:BD42) -> 0 | BJ42: =SUMIF(Z42:BD42,">0",Z42:BD42) -> 0
C43: 14 | D43: =IFERROR(IF($BE24="",0,$BE24),0) -> 0 | E43: =IFERROR(IF($BE55="",0,$BE55),0) -> 0 | F43: =IFERROR(IF($BE86="",0,$BE86),0) -> 0 | G43: =IFERROR(IF($BE117="",0,$BE117),0) -> 0 | H43: =IFERROR(IF($BE148="",0,$BE148),0) -> 0 | I43: =IFERROR(IF($BE179="",0,$BE179),0) -> 0 | J43: =IFERROR(IF($BE210="",0,$BE210),0) -> 0 | K43: =IFERROR(IF($BE241="",0,$BE241),0) -> 0 | L43: =IFERROR(IF($BE272="",0,$BE272),0) -> 0 | M43: =IFERROR(IF($BE303="",0,$BE303),0) -> 0 | N43: =IFERROR(IF($BE334="",0,$BE334),0) -> 0 | O43: =IFERROR(IF($BE365="",0,$BE365),0) -> 0 | Y43: 2 | BE43: =SUM(Z43:BB43)/COUNT(Z$40:BB$40) -> 0 | BF43: =SUM(AA43:BC43)/COUNT(AA$40:BC$40) -> 0 | BG43: =SUM($Z43:$BD43) -> 0 | BH43: 0 | BI43: =SUMIF(Z43:BD43,"<0",Z43:BD43) -> 0 | BJ43: =SUMIF(Z43:BD43,">0",Z43:BD43) -> 0
C44: 15 | D44: =IFERROR(IF($BE25="",0,$BE25),0) -> 0 | E44: =IFERROR(IF($BE56="",0,$BE56),0) -> 0 | F44: =IFERROR(IF($BE87="",0,$BE87),0) -> 0 | G44: =IFERROR(IF($BE118="",0,$BE118),0) -> 0 | H44: =IFERROR(IF($BE149="",0,$BE149),0) -> 0 | I44: =IFERROR(IF($BE180="",0,$BE180),0) -> 0 | J44: =IFERROR(IF($BE211="",0,$BE211),0) -> 0 | K44: =IFERROR(IF($BE242="",0,$BE242),0) -> 0 | L44: =IFERROR(IF($BE273="",0,$BE273),0) -> 0 | M44: =IFERROR(IF($BE304="",0,$BE304),0) -> 0 | N44: =IFERROR(IF($BE335="",0,$BE335),0) -> 0 | O44: =IFERROR(IF($BE366="",0,$BE366),0) -> 0 | Y44: 3 | BE44: =SUM(Z44:BB44)/COUNT(Z$40:BB$40) -> 0 | BF44: =SUM(AA44:BC44)/COUNT(AA$40:BC$40) -> 0 | BG44: =SUM($Z44:$BD44) -> 0 | BH44: 0 | BI44: =SUMIF(Z44:BD44,"<0",Z44:BD44) -> 0 | BJ44: =SUMIF(Z44:BD44,">0",Z44:BD44) -> 0
C45: 16 | D45: =IFERROR(IF($BE26="",0,$BE26),0) -> 0 | E45: =IFERROR(IF($BE57="",0,$BE57),0) -> 0 | F45: =IFERROR(IF($BE88="",0,$BE88),0) -> 0 | G45: =IFERROR(IF($BE119="",0,$BE119),0) -> 0 | H45: =IFERROR(IF($BE150="",0,$BE150),0) -> 0 | I45: =IFERROR(IF($BE181="",0,$BE181),0) -> 0 | J45: =IFERROR(IF($BE212="",0,$BE212),0) -> 0 | K45: =IFERROR(IF($BE243="",0,$BE243),0) -> 0 | L45: =IFERROR(IF($BE274="",0,$BE274),0) -> 0 | M45: =IFERROR(IF($BE305="",0,$BE305),0) -> 0 | N45: =IFERROR(IF($BE336="",0,$BE336),0) -> 0 | O45: =IFERROR(IF($BE367="",0,$BE367),0) -> 0 | Y45: 4 | BE45: =SUM(Z45:BB45)/COUNT(Z$40:BB$40) -> 0 | BF45: =SUM(AA45:BC45)/COUNT(AA$40:BC$40) -> 0 | BG45: =SUM($Z45:$BD45) -> 0 | BH45: 0 | BI45: =SUMIF(Z45:BD45,"<0",Z45:BD45) -> 0 | BJ45: =SUMIF(Z45:BD45,">0",Z45:BD45) -> 0
C46: 17 | D46: =IFERROR(IF($BE27="",0,$BE27),0) -> 0 | E46: =IFERROR(IF($BE58="",0,$BE58),0) -> 0 | F46: =IFERROR(IF($BE89="",0,$BE89),0) -> 0 | G46: =IFERROR(IF($BE120="",0,$BE120),0) -> 0 | H46: =IFERROR(IF($BE151="",0,$BE151),0) -> 0 | I46: =IFERROR(IF($BE182="",0,$BE182),0) -> 0 | J46: =IFERROR(IF($BE213="",0,$BE213),0) -> 0 | K46: =IFERROR(IF($BE244="",0,$BE244),0) -> 0 | L46: =IFERROR(IF($BE275="",0,$BE275),0) -> 0 | M46: =IFERROR(IF($BE306="",0,$BE306),0) -> 0 | N46: =IFERROR(IF($BE337="",0,$BE337),0) -> 0 | O46: =IFERROR(IF($BE368="",0,$BE368),0) -> 0 | Y46: 5 | BE46: =SUM(Z46:BB46)/COUNT(Z$40:BB$40) -> 0 | BF46: =SUM(AA46:BC46)/COUNT(AA$40:BC$40) -> 0 | BG46: =SUM($Z46:$BD46) -> 0 | BH46: 0 | BI46: =SUMIF(Z46:BD46,"<0",Z46:BD46) -> 0 | BJ46: =SUMIF(Z46:BD46,">0",Z46:BD46) -> 0
C47: 18 | D47: =IFERROR(IF($BE28="",0,$BE28),0) -> 0 | E47: =IFERROR(IF($BE59="",0,$BE59),0) -> 0 | F47: =IFERROR(IF($BE90="",0,$BE90),0) -> 0 | G47: =IFERROR(IF($BE121="",0,$BE121),0) -> 0 | H47: =IFERROR(IF($BE152="",0,$BE152),0) -> 0 | I47: =IFERROR(IF($BE183="",0,$BE183),0) -> 0 | J47: =IFERROR(IF($BE214="",0,$BE214),0) -> 0 | K47: =IFERROR(IF($BE245="",0,$BE245),0) -> 0 | L47: =IFERROR(IF($BE276="",0,$BE276),0) -> 0 | M47: =IFERROR(IF($BE307="",0,$BE307),0) -> 0 | N47: =IFERROR(IF($BE338="",0,$BE338),0) -> 0 | O47: =IFERROR(IF($BE369="",0,$BE369),0) -> 0 | Y47: 6 | BE47: =SUM(Z47:BB47)/COUNT(Z$40:BB$40) -> 0 | BF47: =SUM(AA47:BC47)/COUNT(AA$40:BC$40) -> 0 | BG47: =SUM($Z47:$BD47) -> 0 | BH47: 0 | BI47: =SUMIF(Z47:BD47,"<0",Z47:BD47) -> 0 | BJ47: =SUMIF(Z47:BD47,">0",Z47:BD47) -> 0
C48: 19 | D48: =IFERROR(IF($BE29="",0,$BE29),0) -> 0 | E48: =IFERROR(IF($BE60="",0,$BE60),0) -> 0 | F48: =IFERROR(IF($BE91="",0,$BE91),0) -> 0 | G48: =IFERROR(IF($BE122="",0,$BE122),0) -> 0 | H48: =IFERROR(IF($BE153="",0,$BE153),0) -> 0 | I48: =IFERROR(IF($BE184="",0,$BE184),0) -> 0 | J48: =IFERROR(IF($BE215="",0,$BE215),0) -> 0 | K48: =IFERROR(IF($BE246="",0,$BE246),0) -> 0 | L48: =IFERROR(IF($BE277="",0,$BE277),0) -> 0 | M48: =IFERROR(IF($BE308="",0,$BE308),0) -> 0 | N48: =IFERROR(IF($BE339="",0,$BE339),0) -> 0 | O48: =IFERROR(IF($BE370="",0,$BE370),0) -> 0 | Y48: 7 | BE48: =SUM(Z48:BB48)/COUNT(Z$40:BB$40) -> 0 | BF48: =SUM(AA48:BC48)/COUNT(AA$40:BC$40) -> 0 | BG48: =SUM($Z48:$BD48) -> 0 | BH48: 0 | BI48: =SUMIF(Z48:BD48,"<0",Z48:BD48) -> 0 | BJ48: =SUMIF(Z48:BD48,">0",Z48:BD48) -> 0
C49: 20 | D49: =IFERROR(IF($BE30="",0,$BE30),0) -> 0 | E49: =IFERROR(IF($BE61="",0,$BE61),0) -> 0 | F49: =IFERROR(IF($BE92="",0,$BE92),0) -> 0 | G49: =IFERROR(IF($BE123="",0,$BE123),0) -> 0 | H49: =IFERROR(IF($BE154="",0,$BE154),0) -> 0 | I49: =IFERROR(IF($BE185="",0,$BE185),0) -> 0 | J49: =IFERROR(IF($BE216="",0,$BE216),0) -> 0 | K49: =IFERROR(IF($BE247="",0,$BE247),0) -> 0 | L49: =IFERROR(IF($BE278="",0,$BE278),0) -> 0 | M49: =IFERROR(IF($BE309="",0,$BE309),0) -> 0 | N49: =IFERROR(IF($BE340="",0,$BE340),0) -> 0 | O49: =IFERROR(IF($BE371="",0,$BE371),0) -> 0 | Y49: 8 | BE49: =SUM(Z49:BB49)/COUNT(Z$40:BB$40) -> 0 | BF49: =SUM(AA49:BC49)/COUNT(AA$40:BC$40) -> 0 | BG49: =(SUMIF($Z$41:$BD$41,"Sat",$Z49:$BD49)+SUMIF($Z$41:$BD$41,"Sun",$Z49:$BD49)) -> 0 | BH49: =(SUM($Z49:$BD49)-(SUMIF($Z$41:$BD$41,"Sat",$Z49:$BD49)+SUMIF($Z$41:$BD$41,"Sun",$Z49:$BD49))) -> 0 | BI49: =SUMIF(Z49:BD49,"<0",Z49:BD49) -> 0 | BJ49: =SUMIF(Z49:BD49,">0",Z49:BD49) -> 0
C50: 21 | D50: =IFERROR(IF($BE31="",0,$BE31),0) -> 0 | E50: =IFERROR(IF($BE62="",0,$BE62),0) -> 0 | F50: =IFERROR(IF($BE93="",0,$BE93),0) -> 0 | G50: =IFERROR(IF($BE124="",0,$BE124),0) -> 0 | H50: =IFERROR(IF($BE155="",0,$BE155),0) -> 0 | I50: =IFERROR(IF($BE186="",0,$BE186),0) -> 0 | J50: =IFERROR(IF($BE217="",0,$BE217),0) -> 0 | K50: =IFERROR(IF($BE248="",0,$BE248),0) -> 0 | L50: =IFERROR(IF($BE279="",0,$BE279),0) -> 0 | M50: =IFERROR(IF($BE310="",0,$BE310),0) -> 0 | N50: =IFERROR(IF($BE341="",0,$BE341),0) -> 0 | O50: =IFERROR(IF($BE372="",0,$BE372),0) -> 0 | Y50: 9 | BE50: =SUM(Z50:BB50)/COUNT(Z$40:BB$40) -> 0 | BF50: =SUM(AA50:BC50)/COUNT(AA$40:BC$40) -> 0 | BG50: =(SUMIF($Z$41:$BD$41,"Sat",$Z50:$BD50)+SUMIF($Z$41:$BD$41,"Sun",$Z50:$BD50)) -> 0 | BH50: =(SUM($Z50:$BD50)-(SUMIF($Z$41:$BD$41,"Sat",$Z50:$BD50)+SUMIF($Z$41:$BD$41,"Sun",$Z50:$BD50))) -> 0 | BI50: =SUMIF(Z50:BD50,"<0",Z50:BD50) -> 0 | BJ50: =SUMIF(Z50:BD50,">0",Z50:BD50) -> 0
C51: 22 | D51: =IFERROR(IF($BE32="",0,$BE32),0) -> 0 | E51: =IFERROR(IF($BE63="",0,$BE63),0) -> 0 | F51: =IFERROR(IF($BE94="",0,$BE94),0) -> 0 | G51: =IFERROR(IF($BE125="",0,$BE125),0) -> 0 | H51: =IFERROR(IF($BE156="",0,$BE156),0) -> 0 | I51: =IFERROR(IF($BE187="",0,$BE187),0) -> 0 | J51: =IFERROR(IF($BE218="",0,$BE218),0) -> 0 | K51: =IFERROR(IF($BE249="",0,$BE249),0) -> 0 | L51: =IFERROR(IF($BE280="",0,$BE280),0) -> 0 | M51: =IFERROR(IF($BE311="",0,$BE311),0) -> 0 | N51: =IFERROR(IF($BE342="",0,$BE342),0) -> 0 | O51: =IFERROR(IF($BE373="",0,$BE373),0) -> 0 | Y51: 10 | BE51: =SUM(Z51:BB51)/COUNT(Z$40:BB$40) -> 0 | BF51: =SUM(AA51:BC51)/COUNT(AA$40:BC$40) -> 0 | BG51: =(SUMIF($Z$41:$BD$41,"Sat",$Z51:$BD51)+SUMIF($Z$41:$BD$41,"Sun",$Z51:$BD51)) -> 0 | BH51: =(SUM($Z51:$BD51)-(SUMIF($Z$41:$BD$41,"Sat",$Z51:$BD51)+SUMIF($Z$41:$BD$41,"Sun",$Z51:$BD51))) -> 0 | BI51: =SUMIF(Z51:BD51,"<0",Z51:BD51) -> 0 | BJ51: =SUMIF(Z51:BD51,">0",Z51:BD51) -> 0
C52: 23 | D52: =IFERROR(IF($BE33="",0,$BE33),0) -> 0 | E52: =IFERROR(IF($BE64="",0,$BE64),0) -> 0 | F52: =IFERROR(IF($BE95="",0,$BE95),0) -> 0 | G52: =IFERROR(IF($BE126="",0,$BE126),0) -> 0 | H52: =IFERROR(IF($BE157="",0,$BE157),0) -> 0 | I52: =IFERROR(IF($BE188="",0,$BE188),0) -> 0 | J52: =IFERROR(IF($BE219="",0,$BE219),0) -> 0 | K52: =IFERROR(IF($BE250="",0,$BE250),0) -> 0 | L52: =IFERROR(IF($BE281="",0,$BE281),0) -> 0 | M52: =IFERROR(IF($BE312="",0,$BE312),0) -> 0 | N52: =IFERROR(IF($BE343="",0,$BE343),0) -> 0 | O52: =IFERROR(IF($BE374="",0,$BE374),0) -> 0 | Y52: 11 | BE52: =SUM(Z52:BB52)/COUNT(Z$40:BB$40) -> 0 | BF52: =SUM(AA52:BC52)/COUNT(AA$40:BC$40) -> 0 | BG52: =(SUMIF($Z$41:$BD$41,"Sat",$Z52:$BD52)+SUMIF($Z$41:$BD$41,"Sun",$Z52:$BD52)) -> 0 | BH52: =(SUM($Z52:$BD52)-(SUMIF($Z$41:$BD$41,"Sat",$Z52:$BD52)+SUMIF($Z$41:$BD$41,"Sun",$Z52:$BD52))) -> 0 | BI52: =SUMIF(Z52:BD52,"<0",Z52:BD52) -> 0 | BJ52: =SUMIF(Z52:BD52,">0",Z52:BD52) -> 0
C53: 24 | D53: =IFERROR(IF($BE34="",0,$BE34),0) -> 0 | E53: =IFERROR(IF($BE65="",0,$BE65),0) -> 0 | F53: =IFERROR(IF($BE96="",0,$BE96),0) -> 0 | G53: =IFERROR(IF($BE127="",0,$BE127),0) -> 0 | H53: =IFERROR(IF($BE158="",0,$BE158),0) -> 0 | I53: =IFERROR(IF($BE189="",0,$BE189),0) -> 0 | J53: =IFERROR(IF($BE220="",0,$BE220),0) -> 0 | K53: =IFERROR(IF($BE251="",0,$BE251),0) -> 0 | L53: =IFERROR(IF($BE282="",0,$BE282),0) -> 0 | M53: =IFERROR(IF($BE313="",0,$BE313),0) -> 0 | N53: =IFERROR(IF($BE344="",0,$BE344),0) -> 0 | O53: =IFERROR(IF($BE375="",0,$BE375),0) -> 0 | Y53: 12 | BE53: =SUM(Z53:BB53)/COUNT(Z$40:BB$40) -> 0 | BF53: =SUM(AA53:BC53)/COUNT(AA$40:BC$40) -> 0 | BG53: =(SUMIF($Z$41:$BD$41,"Sat",$Z53:$BD53)+SUMIF($Z$41:$BD$41,"Sun",$Z53:$BD53)) -> 0 | BH53: =(SUM($Z53:$BD53)-(SUMIF($Z$41:$BD$41,"Sat",$Z53:$BD53)+SUMIF($Z$41:$BD$41,"Sun",$Z53:$BD53))) -> 0 | BI53: =SUMIF(Z53:BD53,"<0",Z53:BD53) -> 0 | BJ53: =SUMIF(Z53:BD53,">0",Z53:BD53) -> 0
Y54: 13 | BE54: =SUM(Z54:BB54)/COUNT(Z$40:BB$40) -> 0 | BF54: =SUM(AA54:BC54)/COUNT(AA$40:BC$40) -> 0 | BG54: =(SUMIF($Z$41:$BD$41,"Sat",$Z54:$BD54)+SUMIF($Z$41:$BD$41,"Sun",$Z54:$BD54)) -> 0 | BH54: =(SUM($Z54:$BD54)-(SUMIF($Z$41:$BD$41,"Sat",$Z54:$BD54)+SUMIF($Z$41:$BD$41,"Sun",$Z54:$BD54))) -> 0 | BI54: =SUMIF(Z54:BD54,"<0",Z54:BD54) -> 0 | BJ54: =SUMIF(Z54:BD54,">0",Z54:BD54) -> 0
Y55: 14 | BE55: =SUM(Z55:BB55)/COUNT(Z$40:BB$40) -> 0 | BF55: =SUM(AA55:BC55)/COUNT(AA$40:BC$40) -> 0 | BG55: =(SUMIF($Z$41:$BD$41,"Sat",$Z55:$BD55)+SUMIF($Z$41:$BD$41,"Sun",$Z55:$BD55)) -> 0 | BH55: =(SUM($Z55:$BD55)-(SUMIF($Z$41:$BD$41,"Sat",$Z55:$BD55)+SUMIF($Z$41:$BD$41,"Sun",$Z55:$BD55))) -> 0 | BI55: =SUMIF(Z55:BD55,"<0",Z55:BD55) -> 0 | BJ55: =SUMIF(Z55:BD55,">0",Z55:BD55) -> 0
Y56: 15 | BE56: =SUM(Z56:BB56)/COUNT(Z$40:BB$40) -> 0 | BF56: =SUM(AA56:BC56)/COUNT(AA$40:BC$40) -> 0 | BG56: =(SUMIF($Z$41:$BD$41,"Sat",$Z56:$BD56)+SUMIF($Z$41:$BD$41,"Sun",$Z56:$BD56)) -> 0 | BH56: =(SUM($Z56:$BD56)-(SUMIF($Z$41:$BD$41,"Sat",$Z56:$BD56)+SUMIF($Z$41:$BD$41,"Sun",$Z56:$BD56))) -> 0 | BI56: =SUMIF(Z56:BD56,"<0",Z56:BD56) -> 0 | BJ56: =SUMIF(Z56:BD56,">0",Z56:BD56) -> 0
Y57: 16 | BE57: =SUM(Z57:BB57)/COUNT(Z$40:BB$40) -> 0 | BF57: =SUM(AA57:BC57)/COUNT(AA$40:BC$40) -> 0 | BG57: =(SUMIF($Z$41:$BD$41,"Sat",$Z57:$BD57)+SUMIF($Z$41:$BD$41,"Sun",$Z57:$BD57)) -> 0 | BH57: =(SUM($Z57:$BD57)-(SUMIF($Z$41:$BD$41,"Sat",$Z57:$BD57)+SUMIF($Z$41:$BD$41,"Sun",$Z57:$BD57))) -> 0 | BI57: =SUMIF(Z57:BD57,"<0",Z57:BD57) -> 0 | BJ57: =SUMIF(Z57:BD57,">0",Z57:BD57) -> 0
Y58: 17 | BE58: =SUM(Z58:BB58)/COUNT(Z$40:BB$40) -> 0 | BF58: =SUM(AA58:BC58)/COUNT(AA$40:BC$40) -> 0 | BG58: =(SUMIF($Z$41:$BD$41,"Sat",$Z58:$BD58)+SUMIF($Z$41:$BD$41,"Sun",$Z58:$BD58)) -> 0 | BH58: =(SUM($Z58:$BD58)-(SUMIF($Z$41:$BD$41,"Sat",$Z58:$BD58)+SUMIF($Z$41:$BD$41,"Sun",$Z58:$BD58))) -> 0 | BI58: =SUMIF(Z58:BD58,"<0",Z58:BD58) -> 0 | BJ58: =SUMIF(Z58:BD58,">0",Z58:BD58) -> 0
Y59: 18 | BE59: =SUM(Z59:BB59)/COUNT(Z$40:BB$40) -> 0 | BF59: =SUM(AA59:BC59)/COUNT(AA$40:BC$40) -> 0 | BG59: =(SUMIF($Z$41:$BD$41,"Sat",$Z59:$BD59)+SUMIF($Z$41:$BD$41,"Sun",$Z59:$BD59)) -> 0 | BH59: =(SUM($Z59:$BD59)-(SUMIF($Z$41:$BD$41,"Sat",$Z59:$BD59)+SUMIF($Z$41:$BD$41,"Sun",$Z59:$BD59))) -> 0 | BI59: =SUMIF(Z59:BD59,"<0",Z59:BD59) -> 0 | BJ59: =SUMIF(Z59:BD59,">0",Z59:BD59) -> 0
B60: ="Version: " & Version -> Version: RD2 FINAL | Y60: 19 | BE60: =SUM(Z60:BB60)/COUNT(Z$40:BB$40) -> 0 | BF60: =SUM(AA60:BC60)/COUNT(AA$40:BC$40) -> 0 | BG60: =(SUMIF($Z$41:$BD$41,"Sat",$Z60:$BD60)+SUMIF($Z$41:$BD$41,"Sun",$Z60:$BD60)) -> 0 | BH60: =(SUM($Z60:$BD60)-(SUMIF($Z$41:$BD$41,"Sat",$Z60:$BD60)+SUMIF($Z$41:$BD$41,"Sun",$Z60:$BD60))) -> 0 | BI60: =SUMIF(Z60:BD60,"<0",Z60:BD60) -> 0 | BJ60: =SUMIF(Z60:BD60,">0",Z60:BD60) -> 0
H61: Part V (b) | Y61: 20 | BE61: =SUM(Z61:BB61)/COUNT(Z$40:BB$40) -> 0 | BF61: =SUM(AA61:BC61)/COUNT(AA$40:BC$40) -> 0 | BG61: =(SUMIF($Z$41:$BD$41,"Sat",$Z61:$BD61)+SUMIF($Z$41:$BD$41,"Sun",$Z61:$BD61)) -> 0 | BH61: =(SUM($Z61:$BD61)-(SUMIF($Z$41:$BD$41,"Sat",$Z61:$BD61)+SUMIF($Z$41:$BD$41,"Sun",$Z61:$BD61))) -> 0 | BI61: =SUMIF(Z61:BD61,"<0",Z61:BD61) -> 0 | BJ61: =SUMIF(Z61:BD61,">0",Z61:BD61) -> 0
H62: ="Operational Information - Maintenance Profile" -> Operational Information - Maintenance Profile | Y62: 21 | BE62: =SUM(Z62:BB62)/COUNT(Z$40:BB$40) -> 0 | BF62: =SUM(AA62:BC62)/COUNT(AA$40:BC$40) -> 0 | BG62: =(SUMIF($Z$41:$BD$41,"Sat",$Z62:$BD62)+SUMIF($Z$41:$BD$41,"Sun",$Z62:$BD62)) -> 0 | BH62: =(SUM($Z62:$BD62)-(SUMIF($Z$41:$BD$41,"Sat",$Z62:$BD62)+SUMIF($Z$41:$BD$41,"Sun",$Z62:$BD62))) -> 0 | BI62: =SUMIF(Z62:BD62,"<0",Z62:BD62) -> 0 | BJ62: =SUMIF(Z62:BD62,">0",Z62:BD62) -> 0
C63: Project Title | E63: =IF(ProjTitle="","Auto-Filled",ProjTitle) -> Auto-Filled | Y63: 22 | BE63: =SUM(Z63:BB63)/COUNT(Z$40:BB$40) -> 0 | BF63: =SUM(AA63:BC63)/COUNT(AA$40:BC$40) -> 0 | BG63: =(SUMIF($Z$41:$BD$41,"Sat",$Z63:$BD63)+SUMIF($Z$41:$BD$41,"Sun",$Z63:$BD63)) -> 0 | BH63: =(SUM($Z63:$BD63)-(SUMIF($Z$41:$BD$41,"Sat",$Z63:$BD63)+SUMIF($Z$41:$BD$41,"Sun",$Z63:$BD63))) -> 0 | BI63: =SUMIF(Z63:BD63,"<0",Z63:BD63) -> 0 | BJ63: =SUMIF(Z63:BD63,">0",Z63:BD63) -> 0 | BM63: Monthly
Y64: 23 | BE64: =SUM(Z64:BB64)/COUNT(Z$40:BB$40) -> 0 | BF64: =SUM(AA64:BC64)/COUNT(AA$40:BC$40) -> 0 | BG64: =(SUMIF($Z$41:$BD$41,"Sat",$Z64:$BD64)+SUMIF($Z$41:$BD$41,"Sun",$Z64:$BD64)) -> 0 | BH64: =(SUM($Z64:$BD64)-(SUMIF($Z$41:$BD$41,"Sat",$Z64:$BD64)+SUMIF($Z$41:$BD$41,"Sun",$Z64:$BD64))) -> 0 | BI64: =SUMIF(Z64:BD64,"<0",Z64:BD64) -> 0 | BJ64: =SUMIF(Z64:BD64,">0",Z64:BD64) -> 0 | BL64: =COUNTIF(Z42:BA65,">"&MxDisch1) -> 0 | BM64: Hours above Maximum Discharge Rate
I65: MONTHLY ADJUSTMENT FACTORS AS PERCENTAGE OF EXPECTED PRODUCTION | Y65: 24 | BE65: =SUM(Z65:BB65)/COUNT(Z$40:BB$40) -> 0 | BF65: =SUM(AA65:BC65)/COUNT(AA$40:BC$40) -> 0 | BG65: =SUM($Z65:$BD65) -> 0 | BH65: 0 | BI65: =SUMIF(Z65:BD65,"<0",Z65:BD65) -> 0 | BJ65: =SUMIF(Z65:BD65,">0",Z65:BD65) -> 0 | BL65: =COUNTIF(Z42:BA65,"<"&-MxChgRate1) -> 0 | BM65: Hours above Maximum Charge Rate
C66: Enter factors in decimal format, where 1 equals no adjustment (i.e. a decrease of 2% should be entered as 0.98) | S66: Max Term | T66: ='Part VI'!$G$11 -> 0 | Z66: =IF(SUM(Z42:Z65)>0,"Verify","") | AA66: =IF(SUM(AA42:AA65)>0,"Verify","") | AB66: =IF(SUM(AB42:AB65)>0,"Verify","") | AC66: =IF(SUM(AC42:AC65)>0,"Verify","") | AD66: =IF(SUM(AD42:AD65)>0,"Verify","") | AE66: =IF(SUM(AE42:AE65)>0,"Verify","") | AF66: =IF(SUM(AF42:AF65)>0,"Verify","") | AG66: =IF(SUM(AG42:AG65)>0,"Verify","") | ... BA66: =IF(SUM(BA42:BA65)>0,"Verify","") | BG66: =SUM(BG42:BG65) -> 0 | BH66: =SUM(BH49:BH64) -> 0 | BI66: =SUM(BI42:BI65) -> 0 | BJ66: =SUM(BJ42:BJ65) -> 0
C67: Year | D67: Jan | E67: Feb | F67: Mar | G67: Apr | H67: May | I67: Jun | J67: Jul | K67: Aug | L67: Sep | M67: Oct | N67: Nov | O67: Dec | S67: =COUNT(D68:O98) -> 0
C68: =IF(ISBLANK(EstCOD),1,YEAR(EstCOD)) -> 1 | R68: =IF(S67<T66*12,"<<< Information may be Required. Refer to Notes below.","")
C69: =C68+1 -> 2 | X69: MARCH
C70: =C69+1 -> 3 | Z70: =IFERROR(SUMIF(Z73:Z96,">0",Z73:Z96)/-SUMIF(Z73:Z96,"<0",Z73:Z96),"") | AA70: =IFERROR(SUMIF(AA73:AA96,">0",AA73:AA96)/-SUMIF(AA73:AA96,"<0",AA73:AA96),"") | AB70: =IFERROR(SUMIF(AB73:AB96,">0",AB73:AB96)/-SUMIF(AB73:AB96,"<0",AB73:AB96),"") | AC70: =IFERROR(SUMIF(AC73:AC96,">0",AC73:AC96)/-SUMIF(AC73:AC96,"<0",AC73:AC96),"") | AD70: =IFERROR(SUMIF(AD73:AD96,">0",AD73:AD96)/-SUMIF(AD73:AD96,"<0",AD73:AD96),"") | AE70: =IFERROR(SUMIF(AE73:AE96,">0",AE73:AE96)/-SUMIF(AE73:AE96,"<0",AE73:AE96),"") | AF70: =IFERROR(SUMIF(AF73:AF96,">0",AF73:AF96)/-SUMIF(AF73:AF96,"<0",AF73:AF96),"") | AG70: =IFERROR(SUMIF(AG73:AG96,">0",AG73:AG96)/-SUMIF(AG73:AG96,"<0",AG73:AG96),"") | ... BD70: =IFERROR(SUMIF(BD73:BD96,">0",BD73:BD96)/-SUMIF(BD73:BD96,"<0",BD73:BD96),"")
C71: =C70+1 -> 4 | Y71: HE | Z71: 1 | AA71: 2 | AB71: 3 | AC71: 4 | AD71: 5 | AE71: 6 | AF71: 7 | AG71: 8 | AH71: 9 | AI71: 10 | AJ71: 11 | AK71: 12 | AL71: 13 | AM71: 14 | AN71: 15 | AO71: 16 | AP71: 17 | AQ71: 18 | AR71: 19 | AS71: 20 | AT71: 21 | AU71: 22 | AV71: 23 | AW71: 24 | AX71: 25 | AY71: 26 | AZ71: 27 | BA71: 28 | BB71: 29 | BC71: 30 | BD71: 31 | BE71: Month | BG71: Off-Pk | BH71: On-Peak | BI71: Charging | BJ71: Discharging
C72: =C71+1 -> 5 | Z72: =VLOOKUP(WEEKDAY(CONCATENATE("3","/",Z71,"/",$AJ$6)),$BY$11:$BZ$17,2,FALSE) -> Thur | AA72: =VLOOKUP(WEEKDAY(CONCATENATE("3","/",AA71,"/",$AJ$6)),$BY$11:$BZ$17,2,FALSE) -> Fri | AB72: =VLOOKUP(WEEKDAY(CONCATENATE("3","/",AB71,"/",$AJ$6)),$BY$11:$BZ$17,2,FALSE) -> Sat | AC72: =VLOOKUP(WEEKDAY(CONCATENATE("3","/",AC71,"/",$AJ$6)),$BY$11:$BZ$17,2,FALSE) -> Sun | AD72: =VLOOKUP(WEEKDAY(CONCATENATE("3","/",AD71,"/",$AJ$6)),$BY$11:$BZ$17,2,FALSE) -> Mon | AE72: =VLOOKUP(WEEKDAY(CONCATENATE("3","/",AE71,"/",$AJ$6)),$BY$11:$BZ$17,2,FALSE) -> Tues | AF72: =VLOOKUP(WEEKDAY(CONCATENATE("3","/",AF71,"/",$AJ$6)),$BY$11:$BZ$17,2,FALSE) -> Wed | AG72: =VLOOKUP(WEEKDAY(CONCATENATE("3","/",AG71,"/",$AJ$6)),$BY$11:$BZ$17,2,FALSE) -> Thur | ... BD72: =VLOOKUP(WEEKDAY(CONCATENATE("3","/",BD71,"/",$AJ$6)),$BY$11:$BZ$17,2,FALSE) -> Sat | BE72: Avg | BG72: MWh | BH72: MWh | BI72: MWh | BJ72: MWh
C73: =C72+1 -> 6 | Y73: 1 | BE73: =SUM(Z73:BD73)/COUNT(Z$71:BD$71) -> 0 | BF73: =SUM(AA73:BC73)/COUNT(AA$40:BC$40) -> 0 | BG73: =SUM($Z73:$BD73) -> 0 | BH73: 0 | BI73: =SUMIF(Z73:BD73,"<0",Z73:BD73) -> 0 | BJ73: =SUMIF(Z73:BD73,">0",Z73:BD73) -> 0
C74: =C73+1 -> 7 | Y74: 2 | BE74: =SUM(Z74:BD74)/COUNT(Z$71:BD$71) -> 0 | BF74: =SUM(AA74:BC74)/COUNT(AA$40:BC$40) -> 0 | BG74: =SUM($Z74:$BD74) -> 0 | BH74: 0 | BI74: =SUMIF(Z74:BD74,"<0",Z74:BD74) -> 0 | BJ74: =SUMIF(Z74:BD74,">0",Z74:BD74) -> 0
C75: =C74+1 -> 8 | Y75: 3 | BE75: =SUM(Z75:BD75)/COUNT(Z$71:BD$71) -> 0 | BF75: =SUM(AA75:BC75)/COUNT(AA$40:BC$40) -> 0 | BG75: =SUM($Z75:$BD75) -> 0 | BH75: 0 | BI75: =SUMIF(Z75:BD75,"<0",Z75:BD75) -> 0 | BJ75: =SUMIF(Z75:BD75,">0",Z75:BD75) -> 0
C76: =C75+1 -> 9 | Y76: 4 | BE76: =SUM(Z76:BD76)/COUNT(Z$71:BD$71) -> 0 | BF76: =SUM(AA76:BC76)/COUNT(AA$40:BC$40) -> 0 | BG76: =SUM($Z76:$BD76) -> 0 | BH76: 0 | BI76: =SUMIF(Z76:BD76,"<0",Z76:BD76) -> 0 | BJ76: =SUMIF(Z76:BD76,">0",Z76:BD76) -> 0
C77: =C76+1 -> 10 | Y77: 5 | BE77: =SUM(Z77:BD77)/COUNT(Z$71:BD$71) -> 0 | BF77: =SUM(AA77:BC77)/COUNT(AA$40:BC$40) -> 0 | BG77: =SUM($Z77:$BD77) -> 0 | BH77: 0 | BI77: =SUMIF(Z77:BD77,"<0",Z77:BD77) -> 0 | BJ77: =SUMIF(Z77:BD77,">0",Z77:BD77) -> 0
C78: =C77+1 -> 11 | Y78: 6 | BE78: =SUM(Z78:BD78)/COUNT(Z$71:BD$71) -> 0 | BF78: =SUM(AA78:BC78)/COUNT(AA$40:BC$40) -> 0 | BG78: =SUM($Z78:$BD78) -> 0 | BH78: 0 | BI78: =SUMIF(Z78:BD78,"<0",Z78:BD78) -> 0 | BJ78: =SUMIF(Z78:BD78,">0",Z78:BD78) -> 0
C79: =C78+1 -> 12 | Y79: 7 | BE79: =SUM(Z79:BD79)/COUNT(Z$71:BD$71) -> 0 | BF79: =SUM(AA79:BC79)/COUNT(AA$40:BC$40) -> 0 | BG79: =SUM($Z79:$BD79) -> 0 | BH79: 0 | BI79: =SUMIF(Z79:BD79,"<0",Z79:BD79) -> 0 | BJ79: =SUMIF(Z79:BD79,">0",Z79:BD79) -> 0
C80: =C79+1 -> 13 | Y80: 8 | BE80: =SUM(Z80:BD80)/COUNT(Z$71:BD$71) -> 0 | BF80: =SUM(AA80:BC80)/COUNT(AA$40:BC$40) -> 0 | BG80: =(SUMIF($Z$72:$BD$72,"Sat",$Z80:$BD80)+SUMIF($Z$72:$BD$72,"Sun",$Z80:$BD80)) -> 0 | BH80: =(SUM($Z80:$BD80)-(SUMIF($Z$72:$BD$72,"Sat",$Z80:$BD80)+SUMIF($Z$72:$BD$72,"Sun",$Z80:$BD80))) -> 0 | BI80: =SUMIF(Z80:BD80,"<0",Z80:BD80) -> 0 | BJ80: =SUMIF(Z80:BD80,">0",Z80:BD80) -> 0
C81: =C80+1 -> 14 | Y81: 9 | BE81: =SUM(Z81:BD81)/COUNT(Z$71:BD$71) -> 0 | BF81: =SUM(AA81:BC81)/COUNT(AA$40:BC$40) -> 0 | BG81: =(SUMIF($Z$72:$BD$72,"Sat",$Z81:$BD81)+SUMIF($Z$72:$BD$72,"Sun",$Z81:$BD81)) -> 0 | BH81: =(SUM($Z81:$BD81)-(SUMIF($Z$72:$BD$72,"Sat",$Z81:$BD81)+SUMIF($Z$72:$BD$72,"Sun",$Z81:$BD81))) -> 0 | BI81: =SUMIF(Z81:BD81,"<0",Z81:BD81) -> 0 | BJ81: =SUMIF(Z81:BD81,">0",Z81:BD81) -> 0
C82: =C81+1 -> 15 | Y82: 10 | BE82: =SUM(Z82:BD82)/COUNT(Z$71:BD$71) -> 0 | BF82: =SUM(AA82:BC82)/COUNT(AA$40:BC$40) -> 0 | BG82: =(SUMIF($Z$72:$BD$72,"Sat",$Z82:$BD82)+SUMIF($Z$72:$BD$72,"Sun",$Z82:$BD82)) -> 0 | BH82: =(SUM($Z82:$BD82)-(SUMIF($Z$72:$BD$72,"Sat",$Z82:$BD82)+SUMIF($Z$72:$BD$72,"Sun",$Z82:$BD82))) -> 0 | BI82: =SUMIF(Z82:BD82,"<0",Z82:BD82) -> 0 | BJ82: =SUMIF(Z82:BD82,">0",Z82:BD82) -> 0
C83: =C82+1 -> 16 | Y83: 11 | BE83: =SUM(Z83:BD83)/COUNT(Z$71:BD$71) -> 0 | BF83: =SUM(AA83:BC83)/COUNT(AA$40:BC$40) -> 0 | BG83: =(SUMIF($Z$72:$BD$72,"Sat",$Z83:$BD83)+SUMIF($Z$72:$BD$72,"Sun",$Z83:$BD83)) -> 0 | BH83: =(SUM($Z83:$BD83)-(SUMIF($Z$72:$BD$72,"Sat",$Z83:$BD83)+SUMIF($Z$72:$BD$72,"Sun",$Z83:$BD83))) -> 0 | BI83: =SUMIF(Z83:BD83,"<0",Z83:BD83) -> 0 | BJ83: =SUMIF(Z83:BD83,">0",Z83:BD83) -> 0
C84: =C83+1 -> 17 | Y84: 12 | BE84: =SUM(Z84:BD84)/COUNT(Z$71:BD$71) -> 0 | BF84: =SUM(AA84:BC84)/COUNT(AA$40:BC$40) -> 0 | BG84: =(SUMIF($Z$72:$BD$72,"Sat",$Z84:$BD84)+SUMIF($Z$72:$BD$72,"Sun",$Z84:$BD84)) -> 0 | BH84: =(SUM($Z84:$BD84)-(SUMIF($Z$72:$BD$72,"Sat",$Z84:$BD84)+SUMIF($Z$72:$BD$72,"Sun",$Z84:$BD84))) -> 0 | BI84: =SUMIF(Z84:BD84,"<0",Z84:BD84) -> 0 | BJ84: =SUMIF(Z84:BD84,">0",Z84:BD84) -> 0
C85: =C84+1 -> 18 | Y85: 13 | BE85: =SUM(Z85:BD85)/COUNT(Z$71:BD$71) -> 0 | BF85: =SUM(AA85:BC85)/COUNT(AA$40:BC$40) -> 0 | BG85: =(SUMIF($Z$72:$BD$72,"Sat",$Z85:$BD85)+SUMIF($Z$72:$BD$72,"Sun",$Z85:$BD85)) -> 0 | BH85: =(SUM($Z85:$BD85)-(SUMIF($Z$72:$BD$72,"Sat",$Z85:$BD85)+SUMIF($Z$72:$BD$72,"Sun",$Z85:$BD85))) -> 0 | BI85: =SUMIF(Z85:BD85,"<0",Z85:BD85) -> 0 | BJ85: =SUMIF(Z85:BD85,">0",Z85:BD85) -> 0
C86: =C85+1 -> 19 | Y86: 14 | BE86: =SUM(Z86:BD86)/COUNT(Z$71:BD$71) -> 0 | BF86: =SUM(AA86:BC86)/COUNT(AA$40:BC$40) -> 0 | BG86: =(SUMIF($Z$72:$BD$72,"Sat",$Z86:$BD86)+SUMIF($Z$72:$BD$72,"Sun",$Z86:$BD86)) -> 0 | BH86: =(SUM($Z86:$BD86)-(SUMIF($Z$72:$BD$72,"Sat",$Z86:$BD86)+SUMIF($Z$72:$BD$72,"Sun",$Z86:$BD86))) -> 0 | BI86: =SUMIF(Z86:BD86,"<0",Z86:BD86) -> 0 | BJ86: =SUMIF(Z86:BD86,">0",Z86:BD86) -> 0
C87: =C86+1 -> 20 | Y87: 15 | BE87: =SUM(Z87:BD87)/COUNT(Z$71:BD$71) -> 0 | BF87: =SUM(AA87:BC87)/COUNT(AA$40:BC$40) -> 0 | BG87: =(SUMIF($Z$72:$BD$72,"Sat",$Z87:$BD87)+SUMIF($Z$72:$BD$72,"Sun",$Z87:$BD87)) -> 0 | BH87: =(SUM($Z87:$BD87)-(SUMIF($Z$72:$BD$72,"Sat",$Z87:$BD87)+SUMIF($Z$72:$BD$72,"Sun",$Z87:$BD87))) -> 0 | BI87: =SUMIF(Z87:BD87,"<0",Z87:BD87) -> 0 | BJ87: =SUMIF(Z87:BD87,">0",Z87:BD87) -> 0
C88: =C87+1 -> 21 | Y88: 16 | BE88: =SUM(Z88:BD88)/COUNT(Z$71:BD$71) -> 0 | BF88: =SUM(AA88:BC88)/COUNT(AA$40:BC$40) -> 0 | BG88: =(SUMIF($Z$72:$BD$72,"Sat",$Z88:$BD88)+SUMIF($Z$72:$BD$72,"Sun",$Z88:$BD88)) -> 0 | BH88: =(SUM($Z88:$BD88)-(SUMIF($Z$72:$BD$72,"Sat",$Z88:$BD88)+SUMIF($Z$72:$BD$72,"Sun",$Z88:$BD88))) -> 0 | BI88: =SUMIF(Z88:BD88,"<0",Z88:BD88) -> 0 | BJ88: =SUMIF(Z88:BD88,">0",Z88:BD88) -> 0
C89: =C88+1 -> 22 | Y89: 17 | BE89: =SUM(Z89:BD89)/COUNT(Z$71:BD$71) -> 0 | BF89: =SUM(AA89:BC89)/COUNT(AA$40:BC$40) -> 0 | BG89: =(SUMIF($Z$72:$BD$72,"Sat",$Z89:$BD89)+SUMIF($Z$72:$BD$72,"Sun",$Z89:$BD89)) -> 0 | BH89: =(SUM($Z89:$BD89)-(SUMIF($Z$72:$BD$72,"Sat",$Z89:$BD89)+SUMIF($Z$72:$BD$72,"Sun",$Z89:$BD89))) -> 0 | BI89: =SUMIF(Z89:BD89,"<0",Z89:BD89) -> 0 | BJ89: =SUMIF(Z89:BD89,">0",Z89:BD89) -> 0
C90: =C89+1 -> 23 | Y90: 18 | BE90: =SUM(Z90:BD90)/COUNT(Z$71:BD$71) -> 0 | BF90: =SUM(AA90:BC90)/COUNT(AA$40:BC$40) -> 0 | BG90: =(SUMIF($Z$72:$BD$72,"Sat",$Z90:$BD90)+SUMIF($Z$72:$BD$72,"Sun",$Z90:$BD90)) -> 0 | BH90: =(SUM($Z90:$BD90)-(SUMIF($Z$72:$BD$72,"Sat",$Z90:$BD90)+SUMIF($Z$72:$BD$72,"Sun",$Z90:$BD90))) -> 0 | BI90: =SUMIF(Z90:BD90,"<0",Z90:BD90) -> 0 | BJ90: =SUMIF(Z90:BD90,">0",Z90:BD90) -> 0
C91: =C90+1 -> 24 | Y91: 19 | BE91: =SUM(Z91:BD91)/COUNT(Z$71:BD$71) -> 0 | BF91: =SUM(AA91:BC91)/COUNT(AA$40:BC$40) -> 0 | BG91: =(SUMIF($Z$72:$BD$72,"Sat",$Z91:$BD91)+SUMIF($Z$72:$BD$72,"Sun",$Z91:$BD91)) -> 0 | BH91: =(SUM($Z91:$BD91)-(SUMIF($Z$72:$BD$72,"Sat",$Z91:$BD91)+SUMIF($Z$72:$BD$72,"Sun",$Z91:$BD91))) -> 0 | BI91: =SUMIF(Z91:BD91,"<0",Z91:BD91) -> 0 | BJ91: =SUMIF(Z91:BD91,">0",Z91:BD91) -> 0
... C93: =C92+1 -> 26 | Y93: 21 | BE93: =SUM(Z93:BD93)/COUNT(Z$71:BD$71) -> 0 | BF93: =SUM(AA93:BC93)/COUNT(AA$40:BC$40) -> 0 | BG93: =(SUMIF($Z$72:$BD$72,"Sat",$Z93:$BD93)+SUMIF($Z$72:$BD$72,"Sun",$Z93:$BD93)) -> 0 | BH93: =(SUM($Z93:$BD93)-(SUMIF($Z$72:$BD$72,"Sat",$Z93:$BD93)+SUMIF($Z$72:$BD$72,"Sun",$Z93:$BD93))) -> 0 | BI93: =SUMIF(Z93:BD93,"<0",Z93:BD93) -> 0 | BJ93: =SUMIF(Z93:BD93,">0",Z93:BD93) -> 0
C94: =C93+1 -> 27 | Y94: 22 | BE94: =SUM(Z94:BD94)/COUNT(Z$71:BD$71) -> 0 | BF94: =SUM(AA94:BC94)/COUNT(AA$40:BC$40) -> 0 | BG94: =(SUMIF($Z$72:$BD$72,"Sat",$Z94:$BD94)+SUMIF($Z$72:$BD$72,"Sun",$Z94:$BD94)) -> 0 | BH94: =(SUM($Z94:$BD94)-(SUMIF($Z$72:$BD$72,"Sat",$Z94:$BD94)+SUMIF($Z$72:$BD$72,"Sun",$Z94:$BD94))) -> 0 | BI94: =SUMIF(Z94:BD94,"<0",Z94:BD94) -> 0 | BJ94: =SUMIF(Z94:BD94,">0",Z94:BD94) -> 0 | BM94: Monthly
C95: =C94+1 -> 28 | Y95: 23 | BE95: =SUM(Z95:BD95)/COUNT(Z$71:BD$71) -> 0 | BF95: =SUM(AA95:BC95)/COUNT(AA$40:BC$40) -> 0 | BG95: =(SUMIF($Z$72:$BD$72,"Sat",$Z95:$BD95)+SUMIF($Z$72:$BD$72,"Sun",$Z95:$BD95)) -> 0 | BH95: =(SUM($Z95:$BD95)-(SUMIF($Z$72:$BD$72,"Sat",$Z95:$BD95)+SUMIF($Z$72:$BD$72,"Sun",$Z95:$BD95))) -> 0 | BI95: =SUMIF(Z95:BD95,"<0",Z95:BD95) -> 0 | BJ95: =SUMIF(Z95:BD95,">0",Z95:BD95) -> 0 | BL95: =COUNTIF(Z73:BD96,">"&MxDisch1) -> 0 | BM95: Hours above Maximum Discharge Rate
C96: =C95+1 -> 29 | Y96: 24 | BE96: =SUM(Z96:BD96)/COUNT(Z$71:BD$71) -> 0 | BF96: =SUM(AA96:BC96)/COUNT(AA$40:BC$40) -> 0 | BG96: =SUM($Z96:$BD96) -> 0 | BH96: 0 | BI96: =SUMIF(Z96:BD96,"<0",Z96:BD96) -> 0 | BJ96: =SUMIF(Z96:BD96,">0",Z96:BD96) -> 0 | BL96: =COUNTIF(Z73:BD96,"<"&-MxChgRate1) -> 0 | BM96: Hours above Maximum Charge Rate
C97: =C96+1 -> 30 | Z97: =IF(SUM(Z73:Z96)>0,"Verify","") | AA97: =IF(SUM(AA73:AA96)>0,"Verify","") | AB97: =IF(SUM(AB73:AB96)>0,"Verify","") | AC97: =IF(SUM(AC73:AC96)>0,"Verify","") | AD97: =IF(SUM(AD73:AD96)>0,"Verify","") | AE97: =IF(SUM(AE73:AE96)>0,"Verify","") | AF97: =IF(SUM(AF73:AF96)>0,"Verify","") | AG97: =IF(SUM(AG73:AG96)>0,"Verify","") | ... BD97: =IF(SUM(BD73:BD96)>0,"Verify","") | BG97: =SUM(BG73:BG96) -> 0 | BH97: =SUM(BH80:BH95) -> 0 | BI97: =SUM(BI73:BI96) -> 0 | BJ97: =SUM(BJ73:BJ96) -> 0
C98: =C97+1 -> 31
C99: IMPORTANT: These factors are for specific months and calendar years. The first entry must coincide with the project start date.
X100: APRIL
Z101: =IFERROR(SUMIF(Z104:Z127,">0",Z104:Z127)/-SUMIF(Z104:Z127,"<0",Z104:Z127),"") | AA101: =IFERROR(SUMIF(AA104:AA127,">0",AA104:AA127)/-SUMIF(AA104:AA127,"<0",AA104:AA127),"") | AB101: =IFERROR(SUMIF(AB104:AB127,">0",AB104:AB127)/-SUMIF(AB104:AB127,"<0",AB104:AB127),"") | AC101: =IFERROR(SUMIF(AC104:AC127,">0",AC104:AC127)/-SUMIF(AC104:AC127,"<0",AC104:AC127),"") | AD101: =IFERROR(SUMIF(AD104:AD127,">0",AD104:AD127)/-SUMIF(AD104:AD127,"<0",AD104:AD127),"") | AE101: =IFERROR(SUMIF(AE104:AE127,">0",AE104:AE127)/-SUMIF(AE104:AE127,"<0",AE104:AE127),"") | AF101: =IFERROR(SUMIF(AF104:AF127,">0",AF104:AF127)/-SUMIF(AF104:AF127,"<0",AF104:AF127),"") | AG101: =IFERROR(SUMIF(AG104:AG127,">0",AG104:AG127)/-SUMIF(AG104:AG127,"<0",AG104:AG127),"") | ... BC101: =IFERROR(SUMIF(BC104:BC127,">0",BC104:BC127)/-SUMIF(BC104:BC127,"<0",BC104:BC127),"")
Y102: HE | Z102: 1 | AA102: 2 | AB102: 3 | AC102: 4 | AD102: 5 | AE102: 6 | AF102: 7 | AG102: 8 | AH102: 9 | AI102: 10 | AJ102: 11 | AK102: 12 | AL102: 13 | AM102: 14 | AN102: 15 | AO102: 16 | AP102: 17 | AQ102: 18 | AR102: 19 | AS102: 20 | AT102: 21 | AU102: 22 | AV102: 23 | AW102: 24 | AX102: 25 | AY102: 26 | AZ102: 27 | BA102: 28 | BB102: 29 | BC102: 30 | BE102: Month | BG102: Off-Pk | BH102: On-Peak | BI102: Charging | BJ102: Discharging
...

Sheet Part V (Phase 2)
B1: =IF('Part IV'!J8="Yes","Storage Energy System - Phase 2 ONLY","Not Required") -> Not Required
B2: ="Version: " & Version -> Version: RD2 FINAL | X2: ="Version " & Version -> Version RD2 FINAL
B3: Part V (a) | X3: Part V (a) (i) - Energy Storage
B4: Operational Information - Energy Storage Charging/Discharging Schedule | R4: Data Entry | Y4: Representative Energy Storage Charging/Discharging Schedule in Representative Year
C5: Project Title | E5: =IF(ProjTitle="","Auto-Filled",ProjTitle) -> Auto-Filled | L5: Data Entry: | M5: Hourly Profile | T5: =IF(M5="","<<< Required Information",IF(M5="hourly profile"," Enter Hourly Profile in Part V(a) (i) >>>>>>","")) -> Enter Hourly Profile in Part V(a) (i) >>>>>>
Z6: Enter Representative Hourly Charging (-) and Discharging (+) Schedule for | AJ6: 2012 | AK6: weather year
X8: JANUARY | Z8: =IFERROR(SUMIF(Z11:Z34,">0",Z11:Z34)/-SUMIF(Z11:Z34,"<0",Z11:Z34),"") | AA8: =IFERROR(SUMIF(AA11:AA34,">0",AA11:AA34)/-SUMIF(AA11:AA34,"<0",AA11:AA34),"") | AB8: =IFERROR(SUMIF(AB11:AB34,">0",AB11:AB34)/-SUMIF(AB11:AB34,"<0",AB11:AB34),"") | AC8: =IFERROR(SUMIF(AC11:AC34,">0",AC11:AC34)/-SUMIF(AC11:AC34,"<0",AC11:AC34),"") | AD8: =IFERROR(SUMIF(AD11:AD34,">0",AD11:AD34)/-SUMIF(AD11:AD34,"<0",AD11:AD34),"") | AE8: =IFERROR(SUMIF(AE11:AE34,">0",AE11:AE34)/-SUMIF(AE11:AE34,"<0",AE11:AE34),"") | AF8: =IFERROR(SUMIF(AF11:AF34,">0",AF11:AF34)/-SUMIF(AF11:AF34,"<0",AF11:AF34),"") | AG8: =IFERROR(SUMIF(AG11:AG34,">0",AG11:AG34)/-SUMIF(AG11:AG34,"<0",AG11:AG34),"") | ... BD8: =IFERROR(SUMIF(BD11:BD34,">0",BD11:BD34)/-SUMIF(BD11:BD34,"<0",BD11:BD34),"")
Y9: HE | Z9: 1 | AA9: 2 | AB9: 3 | AC9: 4 | AD9: 5 | AE9: 6 | AF9: 7 | AG9: 8 | AH9: 9 | AI9: 10 | AJ9: 11 | AK9: 12 | AL9: 13 | AM9: 14 | AN9: 15 | AO9: 16 | AP9: 17 | AQ9: 18 | AR9: 19 | AS9: 20 | AT9: 21 | AU9: 22 | AV9: 23 | AW9: 24 | AX9: 25 | AY9: 26 | AZ9: 27 | BA9: 28 | BB9: 29 | BC9: 30 | BD9: 31 | BE9: Month | BG9: Off-Pk | BH9: On-Peak | BI9: Charging | BJ9: Discharging | BY9: VLOOKUP
Z10: =VLOOKUP(WEEKDAY(CONCATENATE("1","/",Z9,"/",$AJ$6)),$BY$11:$BZ$17,2,FALSE) -> Sun | AA10: =VLOOKUP(WEEKDAY(CONCATENATE("1","/",AA9,"/",$AJ$6)),$BY$11:$BZ$17,2,FALSE) -> Mon | AB10: =VLOOKUP(WEEKDAY(CONCATENATE("1","/",AB9,"/",$AJ$6)),$BY$11:$BZ$17,2,FALSE) -> Tues | AC10: =VLOOKUP(WEEKDAY(CONCATENATE("1","/",AC9,"/",$AJ$6)),$BY$11:$BZ$17,2,FALSE) -> Wed | AD10: =VLOOKUP(WEEKDAY(CONCATENATE("1","/",AD9,"/",$AJ$6)),$BY$11:$BZ$17,2,FALSE) -> Thur | AE10: =VLOOKUP(WEEKDAY(CONCATENATE("1","/",AE9,"/",$AJ$6)),$BY$11:$BZ$17,2,FALSE) -> Fri | AF10: =VLOOKUP(WEEKDAY(CONCATENATE("1","/",AF9,"/",$AJ$6)),$BY$11:$BZ$17,2,FALSE) -> Sat | AG10: =Z10 -> Sun | AH10: =AA10 -> Mon | AI10: =AB10 -> Tues | AJ10: =AC10 -> Wed | AK10: =AD10 -> Thur | AL10: =AE10 -> Fri | AM10: =AF10 -> Sat | AN10: =AG10 -> Sun | ... BD10: =AW10 -> Tues | BE10: Avg | BG10: MWh | BH10: MWh | BI10: MWh | BJ10: MWh | BK10: =COUNT(Z11:BD34,Z42:BA65,Z73:BD96,Z104:BC127,Z135:BD158,Z166:BC189,Z197:BD220,Z228:BD251,Z259:BC282,Z290:BD313,Z321:BC344,Z352:BD375) -> 0 | BL10: Cells with Contents | BY10: Weekday | BZ10: DayofWeek
Y11: 1 | BE11: =SUM(Z11:BD11)/COUNT(Z$9:BD$9) -> 0 | BF11: =SUM(AA11:BC11)/COUNT(AA$40:BC$40) -> 0 | BG11: =SUM($Z11:$BD11) -> 0 | BH11: 0 | BI11: =SUMIF(Z11:BD11,"<0",Z11:BD11) -> 0 | BJ11: =SUMIF(Z11:BD11,">0",Z11:BD11) -> 0 | BY11: 1 | BZ11: Sun
U12: =IF(AND(BK10<8760,M5="Hourly Profile"),"Full Hourly Matrix is Required Information>>>","") -> Full Hourly Matrix is Required Information>>> | Y12: 2 | BE12: =SUM(Z12:BD12)/COUNT(Z$9:BD$9) -> 0 | BF12: =SUM(AA12:BC12)/COUNT(AA$40:BC$40) -> 0 | BG12: =SUM($Z12:$BD12) -> 0 | BH12: 0 | BI12: =SUMIF(Z12:BD12,"<0",Z12:BD12) -> 0 | BJ12: =SUMIF(Z12:BD12,">0",Z12:BD12) -> 0 | BY12: 2 | BZ12: Mon
Y13: 3 | BE13: =SUM(Z13:BD13)/COUNT(Z$9:BD$9) -> 0 | BF13: =SUM(AA13:BC13)/COUNT(AA$40:BC$40) -> 0 | BG13: =SUM($Z13:$BD13) -> 0 | BH13: 0 | BI13: =SUMIF(Z13:BD13,"<0",Z13:BD13) -> 0 | BJ13: =SUMIF(Z13:BD13,">0",Z13:BD13) -> 0 | BY13: 3 | BZ13: Tues
R14: =IF(C13="","<<< Required Information","") -> <<< Required Information | V14: =IF(BL380>0,CONCATENATE("(",BL380,") Hours above Maximum Discharge Rate>>>"),"") | Y14: 4 | BE14: =SUM(Z14:BD14)/COUNT(Z$9:BD$9) -> 0 | BF14: =SUM(AA14:BC14)/COUNT(AA$40:BC$40) -> 0 | BG14: =SUM($Z14:$BD14) -> 0 | BH14: 0 | BI14: =SUMIF(Z14:BD14,"<0",Z14:BD14) -> 0 | BJ14: =SUMIF(Z14:BD14,">0",Z14:BD14) -> 0 | BY14: 4 | BZ14: Wed
Y15: 5 | BE15: =SUM(Z15:BD15)/COUNT(Z$9:BD$9) -> 0 | BF15: =SUM(AA15:BC15)/COUNT(AA$40:BC$40) -> 0 | BG15: =SUM($Z15:$BD15) -> 0 | BH15: 0 | BI15: =SUMIF(Z15:BD15,"<0",Z15:BD15) -> 0 | BJ15: =SUMIF(Z15:BD15,">0",Z15:BD15) -> 0 | BY15: 5 | BZ15: Thur
V16: =IF(BL381>0,CONCATENATE("(",BL381,") Hours above Maximum Charge Rate>>>"),"") | Y16: 6 | BE16: =SUM(Z16:BD16)/COUNT(Z$9:BD$9) -> 0 | BF16: =SUM(AA16:BC16)/COUNT(AA$40:BC$40) -> 0 | BG16: =SUM($Z16:$BD16) -> 0 | BH16: 0 | BI16: =SUMIF(Z16:BD16,"<0",Z16:BD16) -> 0 | BJ16: =SUMIF(Z16:BD16,">0",Z16:BD16) -> 0 | BY16: 6 | BZ16: Fri
Y17: 7 | BE17: =SUM(Z17:BD17)/COUNT(Z$9:BD$9) -> 0 | BF17: =SUM(AA17:BC17)/COUNT(AA$40:BC$40) -> 0 | BG17: =SUM($Z17:$BD17) -> 0 | BH17: 0 | BI17: =SUMIF(Z17:BD17,"<0",Z17:BD17) -> 0 | BJ17: =SUMIF(Z17:BD17,">0",Z17:BD17) -> 0 | BY17: 7 | BZ17: Sat
Y18: 8 | BE18: =SUM(Z18:BD18)/COUNT(Z$9:BD$9) -> 0 | BF18: =SUM(AA18:BC18)/COUNT(AA$40:BC$40) -> 0 | BG18: =(SUMIF($Z$10:$BD$10,"Sat",$Z18:$BD18)+SUMIF($Z$10:$BD$10,"Sun",$Z18:$BD18)) -> 0 | BH18: =(SUM($Z18:$BD18)-(SUMIF($Z$10:$BD$10,"Sat",$Z18:$BD18)+SUMIF($Z$10:$BD$10,"Sun",$Z18:$BD18))) -> 0 | BI18: =SUMIF(Z18:BD18,"<0",Z18:BD18) -> 0 | BJ18: =SUMIF(Z18:BD18,">0",Z18:BD18) -> 0
Y19: 9 | BE19: =SUM(Z19:BD19)/COUNT(Z$9:BD$9) -> 0 | BF19: =SUM(AA19:BC19)/COUNT(AA$40:BC$40) -> 0 | BG19: =(SUMIF($Z$10:$BD$10,"Sat",$Z19:$BD19)+SUMIF($Z$10:$BD$10,"Sun",$Z19:$BD19)) -> 0 | BH19: =(SUM($Z19:$BD19)-(SUMIF($Z$10:$BD$10,"Sat",$Z19:$BD19)+SUMIF($Z$10:$BD$10,"Sun",$Z19:$BD19))) -> 0 | BI19: =SUMIF(Z19:BD19,"<0",Z19:BD19) -> 0 | BJ19: =SUMIF(Z19:BD19,">0",Z19:BD19) -> 0
Y20: 10 | BE20: =SUM(Z20:BD20)/COUNT(Z$9:BD$9) -> 0 | BF20: =SUM(AA20:BC20)/COUNT(AA$40:BC$40) -> 0 | BG20: =(SUMIF($Z$10:$BD$10,"Sat",$Z20:$BD20)+SUMIF($Z$10:$BD$10,"Sun",$Z20:$BD20)) -> 0 | BH20: =(SUM($Z20:$BD20)-(SUMIF($Z$10:$BD$10,"Sat",$Z20:$BD20)+SUMIF($Z$10:$BD$10,"Sun",$Z20:$BD20))) -> 0 | BI20: =SUMIF(Z20:BD20,"<0",Z20:BD20) -> 0 | BJ20: =SUMIF(Z20:BD20,">0",Z20:BD20) -> 0
Y21: 11 | BE21: =SUM(Z21:BD21)/COUNT(Z$9:BD$9) -> 0 | BF21: =SUM(AA21:BC21)/COUNT(AA$40:BC$40) -> 0 | BG21: =(SUMIF($Z$10:$BD$10,"Sat",$Z21:$BD21)+SUMIF($Z$10:$BD$10,"Sun",$Z21:$BD21)) -> 0 | BH21: =(SUM($Z21:$BD21)-(SUMIF($Z$10:$BD$10,"Sat",$Z21:$BD21)+SUMIF($Z$10:$BD$10,"Sun",$Z21:$BD21))) -> 0 | BI21: =SUMIF(Z21:BD21,"<0",Z21:BD21) -> 0 | BJ21: =SUMIF(Z21:BD21,">0",Z21:BD21) -> 0
Y22: 12 | BE22: =SUM(Z22:BD22)/COUNT(Z$9:BD$9) -> 0 | BF22: =SUM(AA22:BC22)/COUNT(AA$40:BC$40) -> 0 | BG22: =(SUMIF($Z$10:$BD$10,"Sat",$Z22:$BD22)+SUMIF($Z$10:$BD$10,"Sun",$Z22:$BD22)) -> 0 | BH22: =(SUM($Z22:$BD22)-(SUMIF($Z$10:$BD$10,"Sat",$Z22:$BD22)+SUMIF($Z$10:$BD$10,"Sun",$Z22:$BD22))) -> 0 | BI22: =SUMIF(Z22:BD22,"<0",Z22:BD22) -> 0 | BJ22: =SUMIF(Z22:BD22,">0",Z22:BD22) -> 0
Y23: 13 | BE23: =SUM(Z23:BD23)/COUNT(Z$9:BD$9) -> 0 | BF23: =SUM(AA23:BC23)/COUNT(AA$40:BC$40) -> 0 | BG23: =(SUMIF($Z$10:$BD$10,"Sat",$Z23:$BD23)+SUMIF($Z$10:$BD$10,"Sun",$Z23:$BD23)) -> 0 | BH23: =(SUM($Z23:$BD23)-(SUMIF($Z$10:$BD$10,"Sat",$Z23:$BD23)+SUMIF($Z$10:$BD$10,"Sun",$Z23:$BD23))) -> 0 | BI23: =SUMIF(Z23:BD23,"<0",Z23:BD23) -> 0 | BJ23: =SUMIF(Z23:BD23,">0",Z23:BD23) -> 0
Y24: 14 | BE24: =SUM(Z24:BD24)/COUNT(Z$9:BD$9) -> 0 | BF24: =SUM(AA24:BC24)/COUNT(AA$40:BC$40) -> 0 | BG24: =(SUMIF($Z$10:$BD$10,"Sat",$Z24:$BD24)+SUMIF($Z$10:$BD$10,"Sun",$Z24:$BD24)) -> 0 | BH24: =(SUM($Z24:$BD24)-(SUMIF($Z$10:$BD$10,"Sat",$Z24:$BD24)+SUMIF($Z$10:$BD$10,"Sun",$Z24:$BD24))) -> 0 | BI24: =SUMIF(Z24:BD24,"<0",Z24:BD24) -> 0 | BJ24: =SUMIF(Z24:BD24,">0",Z24:BD24) -> 0
Y25: 15 | BE25: =SUM(Z25:BD25)/COUNT(Z$9:BD$9) -> 0 | BF25: =SUM(AA25:BC25)/COUNT(AA$40:BC$40) -> 0 | BG25: =(SUMIF($Z$10:$BD$10,"Sat",$Z25:$BD25)+SUMIF($Z$10:$BD$10,"Sun",$Z25:$BD25)) -> 0 | BH25: =(SUM($Z25:$BD25)-(SUMIF($Z$10:$BD$10,"Sat",$Z25:$BD25)+SUMIF($Z$10:$BD$10,"Sun",$Z25:$BD25))) -> 0 | BI25: =SUMIF(Z25:BD25,"<0",Z25:BD25) -> 0 | BJ25: =SUMIF(Z25:BD25,">0",Z25:BD25) -> 0
C26: This table is calculated from data entry in Part V(a). You must insert an Hourly Profile to the right for the entire facility. | Y26: 16 | BE26: =SUM(Z26:BD26)/COUNT(Z$9:BD$9) -> 0 | BF26: =SUM(AA26:BC26)/COUNT(AA$40:BC$40) -> 0 | BG26: =(SUMIF($Z$10:$BD$10,"Sat",$Z26:$BD26)+SUMIF($Z$10:$BD$10,"Sun",$Z26:$BD26)) -> 0 | BH26: =(SUM($Z26:$BD26)-(SUMIF($Z$10:$BD$10,"Sat",$Z26:$BD26)+SUMIF($Z$10:$BD$10,"Sun",$Z26:$BD26))) -> 0 | BI26: =SUMIF(Z26:BD26,"<0",Z26:BD26) -> 0 | BJ26: =SUMIF(Z26:BD26,">0",Z26:BD26) -> 0
D27: HOURLY STORAGE ENERGY FLOW in MW (averaged) - 12 Months by 24 Hours For Representative Day For Each Month | Y27: 17 | BE27: =SUM(Z27:BD27)/COUNT(Z$9:BD$9) -> 0 | BF27: =SUM(AA27:BC27)/COUNT(AA$40:BC$40) -> 0 | BG27: =(SUMIF($Z$10:$BD$10,"Sat",$Z27:$BD27)+SUMIF($Z$10:$BD$10,"Sun",$Z27:$BD27)) -> 0 | BH27: =(SUM($Z27:$BD27)-(SUMIF($Z$10:$BD$10,"Sat",$Z27:$BD27)+SUMIF($Z$10:$BD$10,"Sun",$Z27:$BD27))) -> 0 | BI27: =SUMIF(Z27:BD27,"<0",Z27:BD27) -> 0 | BJ27: =SUMIF(Z27:BD27,">0",Z27:BD27) -> 0
Y28: 18 | BE28: =SUM(Z28:BD28)/COUNT(Z$9:BD$9) -> 0 | BF28: =SUM(AA28:BC28)/COUNT(AA$40:BC$40) -> 0 | BG28: =(SUMIF($Z$10:$BD$10,"Sat",$Z28:$BD28)+SUMIF($Z$10:$BD$10,"Sun",$Z28:$BD28)) -> 0 | BH28: =(SUM($Z28:$BD28)-(SUMIF($Z$10:$BD$10,"Sat",$Z28:$BD28)+SUMIF($Z$10:$BD$10,"Sun",$Z28:$BD28))) -> 0 | BI28: =SUMIF(Z28:BD28,"<0",Z28:BD28) -> 0 | BJ28: =SUMIF(Z28:BD28,">0",Z28:BD28) -> 0
C29: HE | D29: Jan | E29: Feb | F29: Mar | G29: Apr | H29: May | I29: Jun | J29: Jul | K29: Aug | L29: Sep | M29: Oct | N29: Nov | O29: Dec | Y29: 19 | BE29: =SUM(Z29:BD29)/COUNT(Z$9:BD$9) -> 0 | BF29: =SUM(AA29:BC29)/COUNT(AA$40:BC$40) -> 0 | BG29: =(SUMIF($Z$10:$BD$10,"Sat",$Z29:$BD29)+SUMIF($Z$10:$BD$10,"Sun",$Z29:$BD29)) -> 0 | BH29: =(SUM($Z29:$BD29)-(SUMIF($Z$10:$BD$10,"Sat",$Z29:$BD29)+SUMIF($Z$10:$BD$10,"Sun",$Z29:$BD29))) -> 0 | BI29: =SUMIF(Z29:BD29,"<0",Z29:BD29) -> 0 | BJ29: =SUMIF(Z29:BD29,">0",Z29:BD29) -> 0
C30: 1 | D30: =IFERROR(IF($BE11="",0,$BE11),0) -> 0 | E30: =IFERROR(IF($BE42="",0,$BE42),0) -> 0 | F30: =IFERROR(IF($BE73="",0,$BE73),0) -> 0 | G30: =IFERROR(IF($BE104="",0,$BE104),0) -> 0 | H30: =IFERROR(IF($BE135="",0,$BE135),0) -> 0 | I30: =IFERROR(IF($BE166="",0,$BE166),0) -> 0 | J30: =IFERROR(IF($BE197="",0,$BE197),0) -> 0 | K30: =IFERROR(IF($BE228="",0,$BE228),0) -> 0 | L30: =IFERROR(IF($BE259="",0,$BE259),0) -> 0 | M30: =IFERROR(IF($BE290="",0,$BE290),0) -> 0 | N30: =IFERROR(IF($BE321="",0,$BE321),0) -> 0 | O30: =IFERROR(IF($BE352="",0,$BE352),0) -> 0 | Y30: 20 | BE30: =SUM(Z30:BD30)/COUNT(Z$9:BD$9) -> 0 | BF30: =SUM(AA30:BC30)/COUNT(AA$40:BC$40) -> 0 | BG30: =(SUMIF($Z$10:$BD$10,"Sat",$Z30:$BD30)+SUMIF($Z$10:$BD$10,"Sun",$Z30:$BD30)) -> 0 | BH30: =(SUM($Z30:$BD30)-(SUMIF($Z$10:$BD$10,"Sat",$Z30:$BD30)+SUMIF($Z$10:$BD$10,"Sun",$Z30:$BD30))) -> 0 | BI30: =SUMIF(Z30:BD30,"<0",Z30:BD30) -> 0 | BJ30: =SUMIF(Z30:BD30,">0",Z30:BD30) -> 0
C31: 2 | D31: =IFERROR(IF($BE12="",0,$BE12),0) -> 0 | E31: =IFERROR(IF($BE43="",0,$BE43),0) -> 0 | F31: =IFERROR(IF($BE74="",0,$BE74),0) -> 0 | G31: =IFERROR(IF($BE105="",0,$BE105),0) -> 0 | H31: =IFERROR(IF($BE136="",0,$BE136),0) -> 0 | I31: =IFERROR(IF($BE167="",0,$BE167),0) -> 0 | J31: =IFERROR(IF($BE198="",0,$BE198),0) -> 0 | K31: =IFERROR(IF($BE229="",0,$BE229),0) -> 0 | L31: =IFERROR(IF($BE260="",0,$BE260),0) -> 0 | M31: =IFERROR(IF($BE291="",0,$BE291),0) -> 0 | N31: =IFERROR(IF($BE322="",0,$BE322),0) -> 0 | O31: =IFERROR(IF($BE353="",0,$BE353),0) -> 0 | Y31: 21 | BE31: =SUM(Z31:BD31)/COUNT(Z$9:BD$9) -> 0 | BF31: =SUM(AA31:BC31)/COUNT(AA$40:BC$40) -> 0 | BG31: =(SUMIF($Z$10:$BD$10,"Sat",$Z31:$BD31)+SUMIF($Z$10:$BD$10,"Sun",$Z31:$BD31)) -> 0 | BH31: =(SUM($Z31:$BD31)-(SUMIF($Z$10:$BD$10,"Sat",$Z31:$BD31)+SUMIF($Z$10:$BD$10,"Sun",$Z31:$BD31))) -> 0 | BI31: =SUMIF(Z31:BD31,"<0",Z31:BD31) -> 0 | BJ31: =SUMIF(Z31:BD31,">0",Z31:BD31) -> 0
C32: 3 | D32: =IFERROR(IF($BE13="",0,$BE13),0) -> 0 | E32: =IFERROR(IF($BE44="",0,$BE44),0) -> 0 | F32: =IFERROR(IF($BE75="",0,$BE75),0) -> 0 | G32: =IFERROR(IF($BE106="",0,$BE106),0) -> 0 | H32: =IFERROR(IF($BE137="",0,$BE137),0) -> 0 | I32: =IFERROR(IF($BE168="",0,$BE168),0) -> 0 | J32: =IFERROR(IF($BE199="",0,$BE199),0) -> 0 | K32: =IFERROR(IF($BE230="",0,$BE230),0) -> 0 | L32: =IFERROR(IF($BE261="",0,$BE261),0) -> 0 | M32: =IFERROR(IF($BE292="",0,$BE292),0) -> 0 | N32: =IFERROR(IF($BE323="",0,$BE323),0) -> 0 | O32: =IFERROR(IF($BE354="",0,$BE354),0) -> 0 | Y32: 22 | BE32: =SUM(Z32:BD32)/COUNT(Z$9:BD$9) -> 0 | BF32: =SUM(AA32:BC32)/COUNT(AA$40:BC$40) -> 0 | BG32: =(SUMIF($Z$10:$BD$10,"Sat",$Z32:$BD32)+SUMIF($Z$10:$BD$10,"Sun",$Z32:$BD32)) -> 0 | BH32: =(SUM($Z32:$BD32)-(SUMIF($Z$10:$BD$10,"Sat",$Z32:$BD32)+SUMIF($Z$10:$BD$10,"Sun",$Z32:$BD32))) -> 0 | BI32: =SUMIF(Z32:BD32,"<0",Z32:BD32) -> 0 | BJ32: =SUMIF(Z32:BD32,">0",Z32:BD32) -> 0 | BM32: Monthly
C33: 4 | D33: =IFERROR(IF($BE14="",0,$BE14),0) -> 0 | E33: =IFERROR(IF($BE45="",0,$BE45),0) -> 0 | F33: =IFERROR(IF($BE76="",0,$BE76),0) -> 0 | G33: =IFERROR(IF($BE107="",0,$BE107),0) -> 0 | H33: =IFERROR(IF($BE138="",0,$BE138),0) -> 0 | I33: =IFERROR(IF($BE169="",0,$BE169),0) -> 0 | J33: =IFERROR(IF($BE200="",0,$BE200),0) -> 0 | K33: =IFERROR(IF($BE231="",0,$BE231),0) -> 0 | L33: =IFERROR(IF($BE262="",0,$BE262),0) -> 0 | M33: =IFERROR(IF($BE293="",0,$BE293),0) -> 0 | N33: =IFERROR(IF($BE324="",0,$BE324),0) -> 0 | O33: =IFERROR(IF($BE355="",0,$BE355),0) -> 0 | Y33: 23 | BE33: =SUM(Z33:BD33)/COUNT(Z$9:BD$9) -> 0 | BF33: =SUM(AA33:BC33)/COUNT(AA$40:BC$40) -> 0 | BG33: =(SUMIF($Z$10:$BD$10,"Sat",$Z33:$BD33)+SUMIF($Z$10:$BD$10,"Sun",$Z33:$BD33)) -> 0 | BH33: =(SUM($Z33:$BD33)-(SUMIF($Z$10:$BD$10,"Sat",$Z33:$BD33)+SUMIF($Z$10:$BD$10,"Sun",$Z33:$BD33))) -> 0 | BI33: =SUMIF(Z33:BD33,"<0",Z33:BD33) -> 0 | BJ33: =SUMIF(Z33:BD33,">0",Z33:BD33) -> 0 | BL33: =COUNTIF(Z11:BD34,">"&MxDisch1) -> 0 | BM33: Hours above Maximum Discharge Rate
C34: 5 | D34: =IFERROR(IF($BE15="",0,$BE15),0) -> 0 | E34: =IFERROR(IF($BE46="",0,$BE46),0) -> 0 | F34: =IFERROR(IF($BE77="",0,$BE77),0) -> 0 | G34: =IFERROR(IF($BE108="",0,$BE108),0) -> 0 | H34: =IFERROR(IF($BE139="",0,$BE139),0) -> 0 | I34: =IFERROR(IF($BE170="",0,$BE170),0) -> 0 | J34: =IFERROR(IF($BE201="",0,$BE201),0) -> 0 | K34: =IFERROR(IF($BE232="",0,$BE232),0) -> 0 | L34: =IFERROR(IF($BE263="",0,$BE263),0) -> 0 | M34: =IFERROR(IF($BE294="",0,$BE294),0) -> 0 | N34: =IFERROR(IF($BE325="",0,$BE325),0) -> 0 | O34: =IFERROR(IF($BE356="",0,$BE356),0) -> 0 | Y34: 24 | BE34: =SUM(Z34:BD34)/COUNT(Z$9:BD$9) -> 0 | BF34: =SUM(AA34:BC34)/COUNT(AA$40:BC$40) -> 0 | BG34: =SUM($Z34:$BD34) -> 0 | BH34: 0 | BI34: =SUMIF(Z34:BD34,"<0",Z34:BD34) -> 0 | BJ34: =SUMIF(Z34:BD34,">0",Z34:BD34) -> 0 | BL34: =COUNTIF(Z11:BD34,"<"&-MxChgRate1) -> 0 | BM34: Hours above Maximum Charge Rate
C35: 6 | D35: =IFERROR(IF($BE16="",0,$BE16),0) -> 0 | E35: =IFERROR(IF($BE47="",0,$BE47),0) -> 0 | F35: =IFERROR(IF($BE78="",0,$BE78),0) -> 0 | G35: =IFERROR(IF($BE109="",0,$BE109),0) -> 0 | H35: =IFERROR(IF($BE140="",0,$BE140),0) -> 0 | I35: =IFERROR(IF($BE171="",0,$BE171),0) -> 0 | J35: =IFERROR(IF($BE202="",0,$BE202),0) -> 0 | K35: =IFERROR(IF($BE233="",0,$BE233),0) -> 0 | L35: =IFERROR(IF($BE264="",0,$BE264),0) -> 0 | M35: =IFERROR(IF($BE295="",0,$BE295),0) -> 0 | N35: =IFERROR(IF($BE326="",0,$BE326),0) -> 0 | O35: =IFERROR(IF($BE357="",0,$BE357),0) -> 0
C36: 7 | D36: =IFERROR(IF($BE17="",0,$BE17),0) -> 0 | E36: =IFERROR(IF($BE48="",0,$BE48),0) -> 0 | F36: =IFERROR(IF($BE79="",0,$BE79),0) -> 0 | G36: =IFERROR(IF($BE110="",0,$BE110),0) -> 0 | H36: =IFERROR(IF($BE141="",0,$BE141),0) -> 0 | I36: =IFERROR(IF($BE172="",0,$BE172),0) -> 0 | J36: =IFERROR(IF($BE203="",0,$BE203),0) -> 0 | K36: =IFERROR(IF($BE234="",0,$BE234),0) -> 0 | L36: =IFERROR(IF($BE265="",0,$BE265),0) -> 0 | M36: =IFERROR(IF($BE296="",0,$BE296),0) -> 0 | N36: =IFERROR(IF($BE327="",0,$BE327),0) -> 0 | O36: =IFERROR(IF($BE358="",0,$BE358),0) -> 0 | Z36: =IF(SUM(Z11:Z34)>0,"Verify","") | AA36: =IF(SUM(AA11:AA34)>0,"Verify","") | AB36: =IF(SUM(AB11:AB34)>0,"Verify","") | AC36: =IF(SUM(AC11:AC34)>0,"Verify","") | AD36: =IF(SUM(AD11:AD34)>0,"Verify","") | AE36: =IF(SUM(AE11:AE34)>0,"Verify","") | AF36: =IF(SUM(AF11:AF34)>0,"Verify","") | AG36: =IF(SUM(AG11:AG34)>0,"Verify","") | ... BD36: =IF(SUM(BD11:BD34)>0,"Verify","") | BG36: =SUM(BG11:BG34) -> 0 | BH36: =SUM(BH18:BH33) -> 0 | BI36: =SUM(BI11:BI34) -> 0 | BJ36: =SUM(BJ11:BJ34) -> 0
C37: 8 | D37: =IFERROR(IF($BE18="",0,$BE18),0) -> 0 | E37: =IFERROR(IF($BE49="",0,$BE49),0) -> 0 | F37: =IFERROR(IF($BE80="",0,$BE80),0) -> 0 | G37: =IFERROR(IF($BE111="",0,$BE111),0) -> 0 | H37: =IFERROR(IF($BE142="",0,$BE142),0) -> 0 | I37: =IFERROR(IF($BE173="",0,$BE173),0) -> 0 | J37: =IFERROR(IF($BE204="",0,$BE204),0) -> 0 | K37: =IFERROR(IF($BE235="",0,$BE235),0) -> 0 | L37: =IFERROR(IF($BE266="",0,$BE266),0) -> 0 | M37: =IFERROR(IF($BE297="",0,$BE297),0) -> 0 | N37: =IFERROR(IF($BE328="",0,$BE328),0) -> 0 | O37: =IFERROR(IF($BE359="",0,$BE359),0) -> 0
C38: 9 | D38: =IFERROR(IF($BE19="",0,$BE19),0) -> 0 | E38: =IFERROR(IF($BE50="",0,$BE50),0) -> 0 | F38: =IFERROR(IF($BE81="",0,$BE81),0) -> 0 | G38: =IFERROR(IF($BE112="",0,$BE112),0) -> 0 | H38: =IFERROR(IF($BE143="",0,$BE143),0) -> 0 | I38: =IFERROR(IF($BE174="",0,$BE174),0) -> 0 | J38: =IFERROR(IF($BE205="",0,$BE205),0) -> 0 | K38: =IFERROR(IF($BE236="",0,$BE236),0) -> 0 | L38: =IFERROR(IF($BE267="",0,$BE267),0) -> 0 | M38: =IFERROR(IF($BE298="",0,$BE298),0) -> 0 | N38: =IFERROR(IF($BE329="",0,$BE329),0) -> 0 | O38: =IFERROR(IF($BE360="",0,$BE360),0) -> 0 | X38: FEBRUARY
C39: 10 | D39: =IFERROR(IF($BE20="",0,$BE20),0) -> 0 | E39: =IFERROR(IF($BE51="",0,$BE51),0) -> 0 | F39: =IFERROR(IF($BE82="",0,$BE82),0) -> 0 | G39: =IFERROR(IF($BE113="",0,$BE113),0) -> 0 | H39: =IFERROR(IF($BE144="",0,$BE144),0) -> 0 | I39: =IFERROR(IF($BE175="",0,$BE175),0) -> 0 | J39: =IFERROR(IF($BE206="",0,$BE206),0) -> 0 | K39: =IFERROR(IF($BE237="",0,$BE237),0) -> 0 | L39: =IFERROR(IF($BE268="",0,$BE268),0) -> 0 | M39: =IFERROR(IF($BE299="",0,$BE299),0) -> 0 | N39: =IFERROR(IF($BE330="",0,$BE330),0) -> 0 | O39: =IFERROR(IF($BE361="",0,$BE361),0) -> 0 | Z39: =IFERROR(SUMIF(Z42:Z65,">0",Z42:Z65)/-SUMIF(Z42:Z65,"<0",Z42:Z65),"") | AA39: =IFERROR(SUMIF(AA42:AA65,">0",AA42:AA65)/-SUMIF(AA42:AA65,"<0",AA42:AA65),"") | AB39: =IFERROR(SUMIF(AB42:AB65,">0",AB42:AB65)/-SUMIF(AB42:AB65,"<0",AB42:AB65),"") | AC39: =IFERROR(SUMIF(AC42:AC65,">0",AC42:AC65)/-SUMIF(AC42:AC65,"<0",AC42:AC65),"") | AD39: =IFERROR(SUMIF(AD42:AD65,">0",AD42:AD65)/-SUMIF(AD42:AD65,"<0",AD42:AD65),"") | AE39: =IFERROR(SUMIF(AE42:AE65,">0",AE42:AE65)/-SUMIF(AE42:AE65,"<0",AE42:AE65),"") | AF39: =IFERROR(SUMIF(AF42:AF65,">0",AF42:AF65)/-SUMIF(AF42:AF65,"<0",AF42:AF65),"") | AG39: =IFERROR(SUMIF(AG42:AG65,">0",AG42:AG65)/-SUMIF(AG42:AG65,"<0",AG42:AG65),"") | ... BB39: =IFERROR(SUMIF(BB42:BB65,">0",BB42:BB65)/-SUMIF(BB42:BB65,"<0",BB42:BB65),"")
C40: 11 | D40: =IFERROR(IF($BE21="",0,$BE21),0) -> 0 | E40: =IFERROR(IF($BE52="",0,$BE52),0) -> 0 | F40: =IFERROR(IF($BE83="",0,$BE83),0) -> 0 | G40: =IFERROR(IF($BE114="",0,$BE114),0) -> 0 | H40: =IFERROR(IF($BE145="",0,$BE145),0) -> 0 | I40: =IFERROR(IF($BE176="",0,$BE176),0) -> 0 | J40: =IFERROR(IF($BE207="",0,$BE207),0) -> 0 | K40: =IFERROR(IF($BE238="",0,$BE238),0) -> 0 | L40: =IFERROR(IF($BE269="",0,$BE269),0) -> 0 | M40: =IFERROR(IF($BE300="",0,$BE300),0) -> 0 | N40: =IFERROR(IF($BE331="",0,$BE331),0) -> 0 | O40: =IFERROR(IF($BE362="",0,$BE362),0) -> 0 | Y40: HE | Z40: 1 | AA40: 2 | AB40: 3 | AC40: 4 | AD40: 5 | AE40: 6 | AF40: 7 | AG40: 8 | AH40: 9 | AI40: 10 | AJ40: 11 | AK40: 12 | AL40: 13 | AM40: 14 | AN40: 15 | AO40: 16 | AP40: 17 | AQ40: 18 | AR40: 19 | AS40: 20 | AT40: 21 | AU40: 22 | AV40: 23 | AW40: 24 | AX40: 25 | AY40: 26 | AZ40: 27 | BA40: 28 | BB40: 29 | BE40: Month | BG40: Off-Pk | BH40: On-Peak | BI40: Charging | BJ40: Discharging
C41: 12 | D41: =IFERROR(IF($BE22="",0,$BE22),0) -> 0 | E41: =IFERROR(IF($BE53="",0,$BE53),0) -> 0 | F41: =IFERROR(IF($BE84="",0,$BE84),0) -> 0 | G41: =IFERROR(IF($BE115="",0,$BE115),0) -> 0 | H41: =IFERROR(IF($BE146="",0,$BE146),0) -> 0 | I41: =IFERROR(IF($BE177="",0,$BE177),0) -> 0 | J41: =IFERROR(IF($BE208="",0,$BE208),0) -> 0 | K41: =IFERROR(IF($BE239="",0,$BE239),0) -> 0 | L41: =IFERROR(IF($BE270="",0,$BE270),0) -> 0 | M41: =IFERROR(IF($BE301="",0,$BE301),0) -> 0 | N41: =IFERROR(IF($BE332="",0,$BE332),0) -> 0 | O41: =IFERROR(IF($BE363="",0,$BE363),0) -> 0 | Z41: =VLOOKUP(WEEKDAY(CONCATENATE("2","/",Z40,"/",$AJ$6)),$BY$11:$BZ$17,2,FALSE) -> Wed | AA41: =VLOOKUP(WEEKDAY(CONCATENATE("2","/",AA40,"/",$AJ$6)),$BY$11:$BZ$17,2,FALSE) -> Thur | AB41: =VLOOKUP(WEEKDAY(CONCATENATE("2","/",AB40,"/",$AJ$6)),$BY$11:$BZ$17,2,FALSE) -> Fri | AC41: =VLOOKUP(WEEKDAY(CONCATENATE("2","/",AC40,"/",$AJ$6)),$BY$11:$BZ$17,2,FALSE) -> Sat | AD41: =VLOOKUP(WEEKDAY(CONCATENATE("2","/",AD40,"/",$AJ$6)),$BY$11:$BZ$17,2,FALSE) -> Sun | AE41: =VLOOKUP(WEEKDAY(CONCATENATE("2","/",AE40,"/",$AJ$6)),$BY$11:$BZ$17,2,FALSE) -> Mon | AF41: =VLOOKUP(WEEKDAY(CONCATENATE("2","/",AF40,"/",$AJ$6)),$BY$11:$BZ$17,2,FALSE) -> Tues | AG41: =VLOOKUP(WEEKDAY(CONCATENATE("2","/",AG40,"/",$AJ$6)),$BY$11:$BZ$17,2,FALSE) -> Wed | ... BB41: =VLOOKUP(WEEKDAY(CONCATENATE("2","/",BB40,"/",$AJ$6)),$BY$11:$BZ$17,2,FALSE) -> Wed | BE41: Avg | BG41: MWh | BH41: MWh | BI41: MWh | BJ41: MWh
C42: 13 | D42: =IFERROR(IF($BE23="",0,$BE23),0) -> 0 | E42: =IFERROR(IF($BE54="",0,$BE54),0) -> 0 | F42: =IFERROR(IF($BE85="",0,$BE85),0) -> 0 | G42: =IFERROR(IF($BE116="",0,$BE116),0) -> 0 | H42: =IFERROR(IF($BE147="",0,$BE147),0) -> 0 | I42: =IFERROR(IF($BE178="",0,$BE178),0) -> 0 | J42: =IFERROR(IF($BE209="",0,$BE209),0) -> 0 | K42: =IFERROR(IF($BE240="",0,$BE240),0) -> 0 | L42: =IFERROR(IF($BE271="",0,$BE271),0) -> 0 | M42: =IFERROR(IF($BE302="",0,$BE302),0) -> 0 | N42: =IFERROR(IF($BE333="",0,$BE333),0) -> 0 | O42: =IFERROR(IF($BE364="",0,$BE364),0) -> 0 | Y42: 1 | BE42: =SUM(Z42:BB42)/COUNT(Z$40:BB$40) -> 0 | BF42: =SUM(AA42:BC42)/COUNT(AA$40:BC$40) -> 0 | BG42: =SUM($Z42:$BD42) -> 0 | BH42: 0 | BI42: =SUMIF(Z42:BD42,"<0",Z42:BD42) -> 0 | BJ42: =SUMIF(Z42:BD42,">0",Z42:BD42) -> 0
C43: 14 | D43: =IFERROR(IF($BE24="",0,$BE24),0) -> 0 | E43: =IFERROR(IF($BE55="",0,$BE55),0) -> 0 | F43: =IFERROR(IF($BE86="",0,$BE86),0) -> 0 | G43: =IFERROR(IF($BE117="",0,$BE117),0) -> 0 | H43: =IFERROR(IF($BE148="",0,$BE148),0) -> 0 | I43: =IFERROR(IF($BE179="",0,$BE179),0) -> 0 | J43: =IFERROR(IF($BE210="",0,$BE210),0) -> 0 | K43: =IFERROR(IF($BE241="",0,$BE241),0) -> 0 | L43: =IFERROR(IF($BE272="",0,$BE272),0) -> 0 | M43: =IFERROR(IF($BE303="",0,$BE303),0) -> 0 | N43: =IFERROR(IF($BE334="",0,$BE334),0) -> 0 | O43: =IFERROR(IF($BE365="",0,$BE365),0) -> 0 | Y43: 2 | BE43: =SUM(Z43:BB43)/COUNT(Z$40:BB$40) -> 0 | BF43: =SUM(AA43:BC43)/COUNT(AA$40:BC$40) -> 0 | BG43: =SUM($Z43:$BD43) -> 0 | BH43: 0 | BI43: =SUMIF(Z43:BD43,"<0",Z43:BD43) -> 0 | BJ43: =SUMIF(Z43:BD43,">0",Z43:BD43) -> 0
C44: 15 | D44: =IFERROR(IF($BE25="",0,$BE25),0) -> 0 | E44: =IFERROR(IF($BE56="",0,$BE56),0) -> 0 | F44: =IFERROR(IF($BE87="",0,$BE87),0) -> 0 | G44: =IFERROR(IF($BE118="",0,$BE118),0) -> 0 | H44: =IFERROR(IF($BE149="",0,$BE149),0) -> 0 | I44: =IFERROR(IF($BE180="",0,$BE180),0) -> 0 | J44: =IFERROR(IF($BE211="",0,$BE211),0) -> 0 | K44: =IFERROR(IF($BE242="",0,$BE242),0) -> 0 | L44: =IFERROR(IF($BE273="",0,$BE273),0) -> 0 | M44: =IFERROR(IF($BE304="",0,$BE304),0) -> 0 | N44: =IFERROR(IF($BE335="",0,$BE335),0) -> 0 | O44: =IFERROR(IF($BE366="",0,$BE366),0) -> 0 | Y44: 3 | BE44: =SUM(Z44:BB44)/COUNT(Z$40:BB$40) -> 0 | BF44: =SUM(AA44:BC44)/COUNT(AA$40:BC$40) -> 0 | BG44: =SUM($Z44:$BD44) -> 0 | BH44: 0 | BI44: =SUMIF(Z44:BD44,"<0",Z44:BD44) -> 0 | BJ44: =SUMIF(Z44:BD44,">0",Z44:BD44) -> 0
C45: 16 | D45: =IFERROR(IF($BE26="",0,$BE26),0) -> 0 | E45: =IFERROR(IF($BE57="",0,$BE57),0) -> 0 | F45: =IFERROR(IF($BE88="",0,$BE88),0) -> 0 | G45: =IFERROR(IF($BE119="",0,$BE119),0) -> 0 | H45: =IFERROR(IF($BE150="",0,$BE150),0) -> 0 | I45: =IFERROR(IF($BE181="",0,$BE181),0) -> 0 | J45: =IFERROR(IF($BE212="",0,$BE212),0) -> 0 | K45: =IFERROR(IF($BE243="",0,$BE243),0) -> 0 | L45: =IFERROR(IF($BE274="",0,$BE274),0) -> 0 | M45: =IFERROR(IF($BE305="",0,$BE305),0) -> 0 | N45: =IFERROR(IF($BE336="",0,$BE336),0) -> 0 | O45: =IFERROR(IF($BE367="",0,$BE367),0) -> 0 | Y45: 4 | BE45: =SUM(Z45:BB45)/COUNT(Z$40:BB$40) -> 0 | BF45: =SUM(AA45:BC45)/COUNT(AA$40:BC$40) -> 0 | BG45: =SUM($Z45:$BD45) -> 0 | BH45: 0 | BI45: =SUMIF(Z45:BD45,"<0",Z45:BD45) -> 0 | BJ45: =SUMIF(Z45:BD45,">0",Z45:BD45) -> 0
C46: 17 | D46: =IFERROR(IF($BE27="",0,$BE27),0) -> 0 | E46: =IFERROR(IF($BE58="",0,$BE58),0) -> 0 | F46: =IFERROR(IF($BE89="",0,$BE89),0) -> 0 | G46: =IFERROR(IF($BE120="",0,$BE120),0) -> 0 | H46: =IFERROR(IF($BE151="",0,$BE151),0) -> 0 | I46: =IFERROR(IF($BE182="",0,$BE182),0) -> 0 | J46: =IFERROR(IF($BE213="",0,$BE213),0) -> 0 | K46: =IFERROR(IF($BE244="",0,$BE244),0) -> 0 | L46: =IFERROR(IF($BE275="",0,$BE275),0) -> 0 | M46: =IFERROR(IF($BE306="",0,$BE306),0) -> 0 | N46: =IFERROR(IF($BE337="",0,$BE337),0) -> 0 | O46: =IFERROR(IF($BE368="",0,$BE368),0) -> 0 | Y46: 5 | BE46: =SUM(Z46:BB46)/COUNT(Z$40:BB$40) -> 0 | BF46: =SUM(AA46:BC46)/COUNT(AA$40:BC$40) -> 0 | BG46: =SUM($Z46:$BD46) -> 0 | BH46: 0 | BI46: =SUMIF(Z46:BD46,"<0",Z46:BD46) -> 0 | BJ46: =SUMIF(Z46:BD46,">0",Z46:BD46) -> 0
C47: 18 | D47: =IFERROR(IF($BE28="",0,$BE28),0) -> 0 | E47: =IFERROR(IF($BE59="",0,$BE59),0) -> 0 | F47: =IFERROR(IF($BE90="",0,$BE90),0) -> 0 | G47: =IFERROR(IF($BE121="",0,$BE121),0) -> 0 | H47: =IFERROR(IF($BE152="",0,$BE152),0) -> 0 | I47: =IFERROR(IF($BE183="",0,$BE183),0) -> 0 | J47: =IFERROR(IF($BE214="",0,$BE214),0) -> 0 | K47: =IFERROR(IF($BE245="",0,$BE245),0) -> 0 | L47: =IFERROR(IF($BE276="",0,$BE276),0) -> 0 | M47: =IFERROR(IF($BE307="",0,$BE307),0) -> 0 | N47: =IFERROR(IF($BE338="",0,$BE338),0) -> 0 | O47: =IFERROR(IF($BE369="",0,$BE369),0) -> 0 | Y47: 6 | BE47: =SUM(Z47:BB47)/COUNT(Z$40:BB$40) -> 0 | BF47: =SUM(AA47:BC47)/COUNT(AA$40:BC$40) -> 0 | BG47: =SUM($Z47:$BD47) -> 0 | BH47: 0 | BI47: =SUMIF(Z47:BD47,"<0",Z47:BD47) -> 0 | BJ47: =SUMIF(Z47:BD47,">0",Z47:BD47) -> 0
C48: 19 | D48: =IFERROR(IF($BE29="",0,$BE29),0) -> 0 | E48: =IFERROR(IF($BE60="",0,$BE60),0) -> 0 | F48: =IFERROR(IF($BE91="",0,$BE91),0) -> 0 | G48: =IFERROR(IF($BE122="",0,$BE122),0) -> 0 | H48: =IFERROR(IF($BE153="",0,$BE153),0) -> 0 | I48: =IFERROR(IF($BE184="",0,$BE184),0) -> 0 | J48: =IFERROR(IF($BE215="",0,$BE215),0) -> 0 | K48: =IFERROR(IF($BE246="",0,$BE246),0) -> 0 | L48: =IFERROR(IF($BE277="",0,$BE277),0) -> 0 | M48: =IFERROR(IF($BE308="",0,$BE308),0) -> 0 | N48: =IFERROR(IF($BE339="",0,$BE339),0) -> 0 | O48: =IFERROR(IF($BE370="",0,$BE370),0) -> 0 | Y48: 7 | BE48: =SUM(Z48:BB48)/COUNT(Z$40:BB$40) -> 0 | BF48: =SUM(AA48:BC48)/COUNT(AA$40:BC$40) -> 0 | BG48: =SUM($Z48:$BD48) -> 0 | BH48: 0 | BI48: =SUMIF(Z48:BD48,"<0",Z48:BD48) -> 0 | BJ48: =SUMIF(Z48:BD48,">0",Z48:BD48) -> 0
C49: 20 | D49: =IFERROR(IF($BE30="",0,$BE30),0) -> 0 | E49: =IFERROR(IF($BE61="",0,$BE61),0) -> 0 | F49: =IFERROR(IF($BE92="",0,$BE92),0) -> 0 | G49: =IFERROR(IF($BE123="",0,$BE123),0) -> 0 | H49: =IFERROR(IF($BE154="",0,$BE154),0) -> 0 | I49: =IFERROR(IF($BE185="",0,$BE185),0) -> 0 | J49: =IFERROR(IF($BE216="",0,$BE216),0) -> 0 | K49: =IFERROR(IF($BE247="",0,$BE247),0) -> 0 | L49: =IFERROR(IF($BE278="",0,$BE278),0) -> 0 | M49: =IFERROR(IF($BE309="",0,$BE309),0) -> 0 | N49: =IFERROR(IF($BE340="",0,$BE340),0) -> 0 | O49: =IFERROR(IF($BE371="",0,$BE371),0) -> 0 | Y49: 8 | BE49: =SUM(Z49:BB49)/COUNT(Z$40:BB$40) -> 0 | BF49: =SUM(AA49:BC49)/COUNT(AA$40:BC$40) -> 0 | BG49: =(SUMIF($Z$41:$BD$41,"Sat",$Z49:$BD49)+SUMIF($Z$41:$BD$41,"Sun",$Z49:$BD49)) -> 0 | BH49: =(SUM($Z49:$BD49)-(SUMIF($Z$41:$BD$41,"Sat",$Z49:$BD49)+SUMIF($Z$41:$BD$41,"Sun",$Z49:$BD49))) -> 0 | BI49: =SUMIF(Z49:BD49,"<0",Z49:BD49) -> 0 | BJ49: =SUMIF(Z49:BD49,">0",Z49:BD49) -> 0
C50: 21 | D50: =IFERROR(IF($BE31="",0,$BE31),0) -> 0 | E50: =IFERROR(IF($BE62="",0,$BE62),0) -> 0 | F50: =IFERROR(IF($BE93="",0,$BE93),0) -> 0 | G50: =IFERROR(IF($BE124="",0,$BE124),0) -> 0 | H50: =IFERROR(IF($BE155="",0,$BE155),0) -> 0 | I50: =IFERROR(IF($BE186="",0,$BE186),0) -> 0 | J50: =IFERROR(IF($BE217="",0,$BE217),0) -> 0 | K50: =IFERROR(IF($BE248="",0,$BE248),0) -> 0 | L50: =IFERROR(IF($BE279="",0,$BE279),0) -> 0 | M50: =IFERROR(IF($BE310="",0,$BE310),0) -> 0 | N50: =IFERROR(IF($BE341="",0,$BE341),0) -> 0 | O50: =IFERROR(IF($BE372="",0,$BE372),0) -> 0 | Y50: 9 | BE50: =SUM(Z50:BB50)/COUNT(Z$40:BB$40) -> 0 | BF50: =SUM(AA50:BC50)/COUNT(AA$40:BC$40) -> 0 | BG50: =(SUMIF($Z$41:$BD$41,"Sat",$Z50:$BD50)+SUMIF($Z$41:$BD$41,"Sun",$Z50:$BD50)) -> 0 | BH50: =(SUM($Z50:$BD50)-(SUMIF($Z$41:$BD$41,"Sat",$Z50:$BD50)+SUMIF($Z$41:$BD$41,"Sun",$Z50:$BD50))) -> 0 | BI50: =SUMIF(Z50:BD50,"<0",Z50:BD50) -> 0 | BJ50: =SUMIF(Z50:BD50,">0",Z50:BD50) -> 0
C51: 22 | D51: =IFERROR(IF($BE32="",0,$BE32),0) -> 0 | E51: =IFERROR(IF($BE63="",0,$BE63),0) -> 0 | F51: =IFERROR(IF($BE94="",0,$BE94),0) -> 0 | G51: =IFERROR(IF($BE125="",0,$BE125),0) -> 0 | H51: =IFERROR(IF($BE156="",0,$BE156),0) -> 0 | I51: =IFERROR(IF($BE187="",0,$BE187),0) -> 0 | J51: =IFERROR(IF($BE218="",0,$BE218),0) -> 0 | K51: =IFERROR(IF($BE249="",0,$BE249),0) -> 0 | L51: =IFERROR(IF($BE280="",0,$BE280),0) -> 0 | M51: =IFERROR(IF($BE311="",0,$BE311),0) -> 0 | N51: =IFERROR(IF($BE342="",0,$BE342),0) -> 0 | O51: =IFERROR(IF($BE373="",0,$BE373),0) -> 0 | Y51: 10 | BE51: =SUM(Z51:BB51)/COUNT(Z$40:BB$40) -> 0 | BF51: =SUM(AA51:BC51)/COUNT(AA$40:BC$40) -> 0 | BG51: =(SUMIF($Z$41:$BD$41,"Sat",$Z51:$BD51)+SUMIF($Z$41:$BD$41,"Sun",$Z51:$BD51)) -> 0 | BH51: =(SUM($Z51:$BD51)-(SUMIF($Z$41:$BD$41,"Sat",$Z51:$BD51)+SUMIF($Z$41:$BD$41,"Sun",$Z51:$BD51))) -> 0 | BI51: =SUMIF(Z51:BD51,"<0",Z51:BD51) -> 0 | BJ51: =SUMIF(Z51:BD51,">0",Z51:BD51) -> 0
C52: 23 | D52: =IFERROR(IF($BE33="",0,$BE33),0) -> 0 | E52: =IFERROR(IF($BE64="",0,$BE64),0) -> 0 | F52: =IFERROR(IF($BE95="",0,$BE95),0) -> 0 | G52: =IFERROR(IF($BE126="",0,$BE126),0) -> 0 | H52: =IFERROR(IF($BE157="",0,$BE157),0) -> 0 | I52: =IFERROR(IF($BE188="",0,$BE188),0) -> 0 | J52: =IFERROR(IF($BE219="",0,$BE219),0) -> 0 | K52: =IFERROR(IF($BE250="",0,$BE250),0) -> 0 | L52: =IFERROR(IF($BE281="",0,$BE281),0) -> 0 | M52: =IFERROR(IF($BE312="",0,$BE312),0) -> 0 | N52: =IFERROR(IF($BE343="",0,$BE343),0) -> 0 | O52: =IFERROR(IF($BE374="",0,$BE374),0) -> 0 | Y52: 11 | BE52: =SUM(Z52:BB52)/COUNT(Z$40:BB$40) -> 0 | BF52: =SUM(AA52:BC52)/COUNT(AA$40:BC$40) -> 0 | BG52: =(SUMIF($Z$41:$BD$41,"Sat",$Z52:$BD52)+SUMIF($Z$41:$BD$41,"Sun",$Z52:$BD52)) -> 0 | BH52: =(SUM($Z52:$BD52)-(SUMIF($Z$41:$BD$41,"Sat",$Z52:$BD52)+SUMIF($Z$41:$BD$41,"Sun",$Z52:$BD52))) -> 0 | BI52: =SUMIF(Z52:BD52,"<0",Z52:BD52) -> 0 | BJ52: =SUMIF(Z52:BD52,">0",Z52:BD52) -> 0
C53: 24 | D53: =IFERROR(IF($BE34="",0,$BE34),0) -> 0 | E53: =IFERROR(IF($BE65="",0,$BE65),0) -> 0 | F53: =IFERROR(IF($BE96="",0,$BE96),0) -> 0 | G53: =IFERROR(IF($BE127="",0,$BE127),0) -> 0 | H53: =IFERROR(IF($BE158="",0,$BE158),0) -> 0 | I53: =IFERROR(IF($BE189="",0,$BE189),0) -> 0 | J53: =IFERROR(IF($BE220="",0,$BE220),0) -> 0 | K53: =IFERROR(IF($BE251="",0,$BE251),0) -> 0 | L53: =IFERROR(IF($BE282="",0,$BE282),0) -> 0 | M53: =IFERROR(IF($BE313="",0,$BE313),0) -> 0 | N53: =IFERROR(IF($BE344="",0,$BE344),0) -> 0 | O53: =IFERROR(IF($BE375="",0,$BE375),0) -> 0 | Y53: 12 | BE53: =SUM(Z53:BB53)/COUNT(Z$40:BB$40) -> 0 | BF53: =SUM(AA53:BC53)/COUNT(AA$40:BC$40) -> 0 | BG53: =(SUMIF($Z$41:$BD$41,"Sat",$Z53:$BD53)+SUMIF($Z$41:$BD$41,"Sun",$Z53:$BD53)) -> 0 | BH53: =(SUM($Z53:$BD53)-(SUMIF($Z$41:$BD$41,"Sat",$Z53:$BD53)+SUMIF($Z$41:$BD$41,"Sun",$Z53:$BD53))) -> 0 | BI53: =SUMIF(Z53:BD53,"<0",Z53:BD53) -> 0 | BJ53: =SUMIF(Z53:BD53,">0",Z53:BD53) -> 0
Y54: 13 | BE54: =SUM(Z54:BB54)/COUNT(Z$40:BB$40) -> 0 | BF54: =SUM(AA54:BC54)/COUNT(AA$40:BC$40) -> 0 | BG54: =(SUMIF($Z$41:$BD$41,"Sat",$Z54:$BD54)+SUMIF($Z$41:$BD$41,"Sun",$Z54:$BD54)) -> 0 | BH54: =(SUM($Z54:$BD54)-(SUMIF($Z$41:$BD$41,"Sat",$Z54:$BD54)+SUMIF($Z$41:$BD$41,"Sun",$Z54:$BD54))) -> 0 | BI54: =SUMIF(Z54:BD54,"<0",Z54:BD54) -> 0 | BJ54: =SUMIF(Z54:BD54,">0",Z54:BD54) -> 0
Y55: 14 | BE55: =SUM(Z55:BB55)/COUNT(Z$40:BB$40) -> 0 | BF55: =SUM(AA55:BC55)/COUNT(AA$40:BC$40) -> 0 | BG55: =(SUMIF($Z$41:$BD$41,"Sat",$Z55:$BD55)+SUMIF($Z$41:$BD$41,"Sun",$Z55:$BD55)) -> 0 | BH55: =(SUM($Z55:$BD55)-(SUMIF($Z$41:$BD$41,"Sat",$Z55:$BD55)+SUMIF($Z$41:$BD$41,"Sun",$Z55:$BD55))) -> 0 | BI55: =SUMIF(Z55:BD55,"<0",Z55:BD55) -> 0 | BJ55: =SUMIF(Z55:BD55,">0",Z55:BD55) -> 0
Y56: 15 | BE56: =SUM(Z56:BB56)/COUNT(Z$40:BB$40) -> 0 | BF56: =SUM(AA56:BC56)/COUNT(AA$40:BC$40) -> 0 | BG56: =(SUMIF($Z$41:$BD$41,"Sat",$Z56:$BD56)+SUMIF($Z$41:$BD$41,"Sun",$Z56:$BD56)) -> 0 | BH56: =(SUM($Z56:$BD56)-(SUMIF($Z$41:$BD$41,"Sat",$Z56:$BD56)+SUMIF($Z$41:$BD$41,"Sun",$Z56:$BD56))) -> 0 | BI56: =SUMIF(Z56:BD56,"<0",Z56:BD56) -> 0 | BJ56: =SUMIF(Z56:BD56,">0",Z56:BD56) -> 0
Y57: 16 | BE57: =SUM(Z57:BB57)/COUNT(Z$40:BB$40) -> 0 | BF57: =SUM(AA57:BC57)/COUNT(AA$40:BC$40) -> 0 | BG57: =(SUMIF($Z$41:$BD$41,"Sat",$Z57:$BD57)+SUMIF($Z$41:$BD$41,"Sun",$Z57:$BD57)) -> 0 | BH57: =(SUM($Z57:$BD57)-(SUMIF($Z$41:$BD$41,"Sat",$Z57:$BD57)+SUMIF($Z$41:$BD$41,"Sun",$Z57:$BD57))) -> 0 | BI57: =SUMIF(Z57:BD57,"<0",Z57:BD57) -> 0 | BJ57: =SUMIF(Z57:BD57,">0",Z57:BD57) -> 0
Y58: 17 | BE58: =SUM(Z58:BB58)/COUNT(Z$40:BB$40) -> 0 | BF58: =SUM(AA58:BC58)/COUNT(AA$40:BC$40) -> 0 | BG58: =(SUMIF($Z$41:$BD$41,"Sat",$Z58:$BD58)+SUMIF($Z$41:$BD$41,"Sun",$Z58:$BD58)) -> 0 | BH58: =(SUM($Z58:$BD58)-(SUMIF($Z$41:$BD$41,"Sat",$Z58:$BD58)+SUMIF($Z$41:$BD$41,"Sun",$Z58:$BD58))) -> 0 | BI58: =SUMIF(Z58:BD58,"<0",Z58:BD58) -> 0 | BJ58: =SUMIF(Z58:BD58,">0",Z58:BD58) -> 0
Y59: 18 | BE59: =SUM(Z59:BB59)/COUNT(Z$40:BB$40) -> 0 | BF59: =SUM(AA59:BC59)/COUNT(AA$40:BC$40) -> 0 | BG59: =(SUMIF($Z$41:$BD$41,"Sat",$Z59:$BD59)+SUMIF($Z$41:$BD$41,"Sun",$Z59:$BD59)) -> 0 | BH59: =(SUM($Z59:$BD59)-(SUMIF($Z$41:$BD$41,"Sat",$Z59:$BD59)+SUMIF($Z$41:$BD$41,"Sun",$Z59:$BD59))) -> 0 | BI59: =SUMIF(Z59:BD59,"<0",Z59:BD59) -> 0 | BJ59: =SUMIF(Z59:BD59,">0",Z59:BD59) -> 0
B60: ="Version: " & Version -> Version: RD2 FINAL | Y60: 19 | BE60: =SUM(Z60:BB60)/COUNT(Z$40:BB$40) -> 0 | BF60: =SUM(AA60:BC60)/COUNT(AA$40:BC$40) -> 0 | BG60: =(SUMIF($Z$41:$BD$41,"Sat",$Z60:$BD60)+SUMIF($Z$41:$BD$41,"Sun",$Z60:$BD60)) -> 0 | BH60: =(SUM($Z60:$BD60)-(SUMIF($Z$41:$BD$41,"Sat",$Z60:$BD60)+SUMIF($Z$41:$BD$41,"Sun",$Z60:$BD60))) -> 0 | BI60: =SUMIF(Z60:BD60,"<0",Z60:BD60) -> 0 | BJ60: =SUMIF(Z60:BD60,">0",Z60:BD60) -> 0
H61: Part V (b) | Y61: 20 | BE61: =SUM(Z61:BB61)/COUNT(Z$40:BB$40) -> 0 | BF61: =SUM(AA61:BC61)/COUNT(AA$40:BC$40) -> 0 | BG61: =(SUMIF($Z$41:$BD$41,"Sat",$Z61:$BD61)+SUMIF($Z$41:$BD$41,"Sun",$Z61:$BD61)) -> 0 | BH61: =(SUM($Z61:$BD61)-(SUMIF($Z$41:$BD$41,"Sat",$Z61:$BD61)+SUMIF($Z$41:$BD$41,"Sun",$Z61:$BD61))) -> 0 | BI61: =SUMIF(Z61:BD61,"<0",Z61:BD61) -> 0 | BJ61: =SUMIF(Z61:BD61,">0",Z61:BD61) -> 0
H62: ="Operational Information - Maintenance Profile" -> Operational Information - Maintenance Profile | Y62: 21 | BE62: =SUM(Z62:BB62)/COUNT(Z$40:BB$40) -> 0 | BF62: =SUM(AA62:BC62)/COUNT(AA$40:BC$40) -> 0 | BG62: =(SUMIF($Z$41:$BD$41,"Sat",$Z62:$BD62)+SUMIF($Z$41:$BD$41,"Sun",$Z62:$BD62)) -> 0 | BH62: =(SUM($Z62:$BD62)-(SUMIF($Z$41:$BD$41,"Sat",$Z62:$BD62)+SUMIF($Z$41:$BD$41,"Sun",$Z62:$BD62))) -> 0 | BI62: =SUMIF(Z62:BD62,"<0",Z62:BD62) -> 0 | BJ62: =SUMIF(Z62:BD62,">0",Z62:BD62) -> 0
C63: Project Title | E63: =IF(ProjTitle="","Auto-Filled",ProjTitle) -> Auto-Filled | Y63: 22 | BE63: =SUM(Z63:BB63)/COUNT(Z$40:BB$40) -> 0 | BF63: =SUM(AA63:BC63)/COUNT(AA$40:BC$40) -> 0 | BG63: =(SUMIF($Z$41:$BD$41,"Sat",$Z63:$BD63)+SUMIF($Z$41:$BD$41,"Sun",$Z63:$BD63)) -> 0 | BH63: =(SUM($Z63:$BD63)-(SUMIF($Z$41:$BD$41,"Sat",$Z63:$BD63)+SUMIF($Z$41:$BD$41,"Sun",$Z63:$BD63))) -> 0 | BI63: =SUMIF(Z63:BD63,"<0",Z63:BD63) -> 0 | BJ63: =SUMIF(Z63:BD63,">0",Z63:BD63) -> 0 | BM63: Monthly
Y64: 23 | BE64: =SUM(Z64:BB64)/COUNT(Z$40:BB$40) -> 0 | BF64: =SUM(AA64:BC64)/COUNT(AA$40:BC$40) -> 0 | BG64: =(SUMIF($Z$41:$BD$41,"Sat",$Z64:$BD64)+SUMIF($Z$41:$BD$41,"Sun",$Z64:$BD64)) -> 0 | BH64: =(SUM($Z64:$BD64)-(SUMIF($Z$41:$BD$41,"Sat",$Z64:$BD64)+SUMIF($Z$41:$BD$41,"Sun",$Z64:$BD64))) -> 0 | BI64: =SUMIF(Z64:BD64,"<0",Z64:BD64) -> 0 | BJ64: =SUMIF(Z64:BD64,">0",Z64:BD64) -> 0 | BL64: =COUNTIF(Z42:BA65,">"&MxDisch1) -> 0 | BM64: Hours above Maximum Discharge Rate
I65: MONTHLY ADJUSTMENT FACTORS AS PERCENTAGE OF EXPECTED PRODUCTION | Y65: 24 | BE65: =SUM(Z65:BB65)/COUNT(Z$40:BB$40) -> 0 | BF65: =SUM(AA65:BC65)/COUNT(AA$40:BC$40) -> 0 | BG65: =SUM($Z65:$BD65) -> 0 | BH65: 0 | BI65: =SUMIF(Z65:BD65,"<0",Z65:BD65) -> 0 | BJ65: =SUMIF(Z65:BD65,">0",Z65:BD65) -> 0 | BL65: =COUNTIF(Z42:BA65,"<"&-MxChgRate1) -> 0 | BM65: Hours above Maximum Charge Rate
C66: Enter factors in decimal format, where 1 equals no adjustment (i.e. a decrease of 2% should be entered as 0.98) | S66: Max Term | T66: ='Part VI'!$G$11 -> 0 | Z66: =IF(SUM(Z42:Z65)>0,"Verify","") | AA66: =IF(SUM(AA42:AA65)>0,"Verify","") | AB66: =IF(SUM(AB42:AB65)>0,"Verify","") | AC66: =IF(SUM(AC42:AC65)>0,"Verify","") | AD66: =IF(SUM(AD42:AD65)>0,"Verify","") | AE66: =IF(SUM(AE42:AE65)>0,"Verify","") | AF66: =IF(SUM(AF42:AF65)>0,"Verify","") | AG66: =IF(SUM(AG42:AG65)>0,"Verify","") | ... BA66: =IF(SUM(BA42:BA65)>0,"Verify","") | BG66: =SUM(BG42:BG65) -> 0 | BH66: =SUM(BH49:BH64) -> 0 | BI66: =SUM(BI42:BI65) -> 0 | BJ66: =SUM(BJ42:BJ65) -> 0
C67: Year | D67: Jan | E67: Feb | F67: Mar | G67: Apr | H67: May | I67: Jun | J67: Jul | K67: Aug | L67: Sep | M67: Oct | N67: Nov | O67: Dec | S67: =COUNT(D68:O98) -> 0
C68: =IF(ISBLANK(EstCOD),1,YEAR(EstCOD)) -> 1 | R68: =IF(S67<T66*12,"<<< Information may be Required. Refer to Notes below.","")
C69: =C68+1 -> 2 | X69: MARCH
C70: =C69+1 -> 3 | Z70: =IFERROR(SUMIF(Z73:Z96,">0",Z73:Z96)/-SUMIF(Z73:Z96,"<0",Z73:Z96),"") | AA70: =IFERROR(SUMIF(AA73:AA96,">0",AA73:AA96)/-SUMIF(AA73:AA96,"<0",AA73:AA96),"") | AB70: =IFERROR(SUMIF(AB73:AB96,">0",AB73:AB96)/-SUMIF(AB73:AB96,"<0",AB73:AB96),"") | AC70: =IFERROR(SUMIF(AC73:AC96,">0",AC73:AC96)/-SUMIF(AC73:AC96,"<0",AC73:AC96),"") | AD70: =IFERROR(SUMIF(AD73:AD96,">0",AD73:AD96)/-SUMIF(AD73:AD96,"<0",AD73:AD96),"") | AE70: =IFERROR(SUMIF(AE73:AE96,">0",AE73:AE96)/-SUMIF(AE73:AE96,"<0",AE73:AE96),"") | AF70: =IFERROR(SUMIF(AF73:AF96,">0",AF73:AF96)/-SUMIF(AF73:AF96,"<0",AF73:AF96),"") | AG70: =IFERROR(SUMIF(AG73:AG96,">0",AG73:AG96)/-SUMIF(AG73:AG96,"<0",AG73:AG96),"") | ... BD70: =IFERROR(SUMIF(BD73:BD96,">0",BD73:BD96)/-SUMIF(BD73:BD96,"<0",BD73:BD96),"")
C71: =C70+1 -> 4 | Y71: HE | Z71: 1 | AA71: 2 | AB71: 3 | AC71: 4 | AD71: 5 | AE71: 6 | AF71: 7 | AG71: 8 | AH71: 9 | AI71: 10 | AJ71: 11 | AK71: 12 | AL71: 13 | AM71: 14 | AN71: 15 | AO71: 16 | AP71: 17 | AQ71: 18 | AR71: 19 | AS71: 20 | AT71: 21 | AU71: 22 | AV71: 23 | AW71: 24 | AX71: 25 | AY71: 26 | AZ71: 27 | BA71: 28 | BB71: 29 | BC71: 30 | BD71: 31 | BE71: Month | BG71: Off-Pk | BH71: On-Peak | BI71: Charging | BJ71: Discharging
C72: =C71+1 -> 5 | Z72: =VLOOKUP(WEEKDAY(CONCATENATE("3","/",Z71,"/",$AJ$6)),$BY$11:$BZ$17,2,FALSE) -> Thur | AA72: =VLOOKUP(WEEKDAY(CONCATENATE("3","/",AA71,"/",$AJ$6)),$BY$11:$BZ$17,2,FALSE) -> Fri | AB72: =VLOOKUP(WEEKDAY(CONCATENATE("3","/",AB71,"/",$AJ$6)),$BY$11:$BZ$17,2,FALSE) -> Sat | AC72: =VLOOKUP(WEEKDAY(CONCATENATE("3","/",AC71,"/",$AJ$6)),$BY$11:$BZ$17,2,FALSE) -> Sun | AD72: =VLOOKUP(WEEKDAY(CONCATENATE("3","/",AD71,"/",$AJ$6)),$BY$11:$BZ$17,2,FALSE) -> Mon | AE72: =VLOOKUP(WEEKDAY(CONCATENATE("3","/",AE71,"/",$AJ$6)),$BY$11:$BZ$17,2,FALSE) -> Tues | AF72: =VLOOKUP(WEEKDAY(CONCATENATE("3","/",AF71,"/",$AJ$6)),$BY$11:$BZ$17,2,FALSE) -> Wed | AG72: =VLOOKUP(WEEKDAY(CONCATENATE("3","/",AG71,"/",$AJ$6)),$BY$11:$BZ$17,2,FALSE) -> Thur | ... BD72: =VLOOKUP(WEEKDAY(CONCATENATE("3","/",BD71,"/",$AJ$6)),$BY$11:$BZ$17,2,FALSE) -> Sat | BE72: Avg | BG72: MWh | BH72: MWh | BI72: MWh | BJ72: MWh
C73: =C72+1 -> 6 | Y73: 1 | BE73: =SUM(Z73:BD73)/COUNT(Z$71:BD$71) -> 0 | BF73: =SUM(AA73:BC73)/COUNT(AA$40:BC$40) -> 0 | BG73: =SUM($Z73:$BD73) -> 0 | BH73: 0 | BI73: =SUMIF(Z73:BD73,"<0",Z73:BD73) -> 0 | BJ73: =SUMIF(Z73:BD73,">0",Z73:BD73) -> 0
C74: =C73+1 -> 7 | Y74: 2 | BE74: =SUM(Z74:BD74)/COUNT(Z$71:BD$71) -> 0 | BF74: =SUM(AA74:BC74)/COUNT(AA$40:BC$40) -> 0 | BG74: =SUM($Z74:$BD74) -> 0 | BH74: 0 | BI74: =SUMIF(Z74:BD74,"<0",Z74:BD74) -> 0 | BJ74: =SUMIF(Z74:BD74,">0",Z74:BD74) -> 0
C75: =C74+1 -> 8 | Y75: 3 | BE75: =SUM(Z75:BD75)/COUNT(Z$71:BD$71) -> 0 | BF75: =SUM(AA75:BC75)/COUNT(AA$40:BC$40) -> 0 | BG75: =SUM($Z75:$BD75) -> 0 | BH75: 0 | BI75: =SUMIF(Z75:BD75,"<0",Z75:BD75) -> 0 | BJ75: =SUMIF(Z75:BD75,">0",Z75:BD75) -> 0
C76: =C75+1 -> 9 | Y76: 4 | BE76: =SUM(Z76:BD76)/COUNT(Z$71:BD$71) -> 0 | BF76: =SUM(AA76:BC76)/COUNT(AA$40:BC$40) -> 0 | BG76: =SUM($Z76:$BD76) -> 0 | BH76: 0 | BI76: =SUMIF(Z76:BD76,"<0",Z76:BD76) -> 0 | BJ76: =SUMIF(Z76:BD76,">0",Z76:BD76) -> 0
C77: =C76+1 -> 10 | Y77: 5 | BE77: =SUM(Z77:BD77)/COUNT(Z$71:BD$71) -> 0 | BF77: =SUM(AA77:BC77)/COUNT(AA$40:BC$40) -> 0 | BG77: =SUM($Z77:$BD77) -> 0 | BH77: 0 | BI77: =SUMIF(Z77:BD77,"<0",Z77:BD77) -> 0 | BJ77: =SUMIF(Z77:BD77,">0",Z77:BD77) -> 0
C78: =C77+1 -> 11 | Y78: 6 | BE78: =SUM(Z78:BD78)/COUNT(Z$71:BD$71) -> 0 | BF78: =SUM(AA78:BC78)/COUNT(AA$40:BC$40) -> 0 | BG78: =SUM($Z78:$BD78) -> 0 | BH78: 0 | BI78: =SUMIF(Z78:BD78,"<0",Z78:BD78) -> 0 | BJ78: =SUMIF(Z78:BD78,">0",Z78:BD78) -> 0
C79: =C78+1 -> 12 | Y79: 7 | BE79: =SUM(Z79:BD79)/COUNT(Z$71:BD$71) -> 0 | BF79: =SUM(AA79:BC79)/COUNT(AA$40:BC$40) -> 0 | BG79: =SUM($Z79:$BD79) -> 0 | BH79: 0 | BI79: =SUMIF(Z79:BD79,"<0",Z79:BD79) -> 0 | BJ79: =SUMIF(Z79:BD79,">0",Z79:BD79) -> 0
C80: =C79+1 -> 13 | Y80: 8 | BE80: =SUM(Z80:BD80)/COUNT(Z$71:BD$71) -> 0 | BF80: =SUM(AA80:BC80)/COUNT(AA$40:BC$40) -> 0 | BG80: =(SUMIF($Z$72:$BD$72,"Sat",$Z80:$BD80)+SUMIF($Z$72:$BD$72,"Sun",$Z80:$BD80)) -> 0 | BH80: =(SUM($Z80:$BD80)-(SUMIF($Z$72:$BD$72,"Sat",$Z80:$BD80)+SUMIF($Z$72:$BD$72,"Sun",$Z80:$BD80))) -> 0 | BI80: =SUMIF(Z80:BD80,"<0",Z80:BD80) -> 0 | BJ80: =SUMIF(Z80:BD80,">0",Z80:BD80) -> 0
C81: =C80+1 -> 14 | Y81: 9 | BE81: =SUM(Z81:BD81)/COUNT(Z$71:BD$71) -> 0 | BF81: =SUM(AA81:BC81)/COUNT(AA$40:BC$40) -> 0 | BG81: =(SUMIF($Z$72:$BD$72,"Sat",$Z81:$BD81)+SUMIF($Z$72:$BD$72,"Sun",$Z81:$BD81)) -> 0 | BH81: =(SUM($Z81:$BD81)-(SUMIF($Z$72:$BD$72,"Sat",$Z81:$BD81)+SUMIF($Z$72:$BD$72,"Sun",$Z81:$BD81))) -> 0 | BI81: =SUMIF(Z81:BD81,"<0",Z81:BD81) -> 0 | BJ81: =SUMIF(Z81:BD81,">0",Z81:BD81) -> 0
C82: =C81+1 -> 15 | Y82: 10 | BE82: =SUM(Z82:BD82)/COUNT(Z$71:BD$71) -> 0 | BF82: =SUM(AA82:BC82)/COUNT(AA$40:BC$40) -> 0 | BG82: =(SUMIF($Z$72:$BD$72,"Sat",$Z82:$BD82)+SUMIF($Z$72:$BD$72,"Sun",$Z82:$BD82)) -> 0 | BH82: =(SUM($Z82:$BD82)-(SUMIF($Z$72:$BD$72,"Sat",$Z82:$BD82)+SUMIF($Z$72:$BD$72,"Sun",$Z82:$BD82))) -> 0 | BI82: =SUMIF(Z82:BD82,"<0",Z82:BD82) -> 0 | BJ82: =SUMIF(Z82:BD82,">0",Z82:BD82) -> 0
C83: =C82+1 -> 16 | Y83: 11 | BE83: =SUM(Z83:BD83)/COUNT(Z$71:BD$71) -> 0 | BF83: =SUM(AA83:BC83)/COUNT(AA$40:BC$40) -> 0 | BG83: =(SUMIF($Z$72:$BD$72,"Sat",$Z83:$BD83)+SUMIF($Z$72:$BD$72,"Sun",$Z83:$BD83)) -> 0 | BH83: =(SUM($Z83:$BD83)-(SUMIF($Z$72:$BD$72,"Sat",$Z83:$BD83)+SUMIF($Z$72:$BD$72,"Sun",$Z83:$BD83))) -> 0 | BI83: =SUMIF(Z83:BD83,"<0",Z83:BD83) -> 0 | BJ83: =SUMIF(Z83:BD83,">0",Z83:BD83) -> 0
C84: =C83+1 -> 17 | Y84: 12 | BE84: =SUM(Z84:BD84)/COUNT(Z$71:BD$71) -> 0 | BF84: =SUM(AA84:BC84)/COUNT(AA$40:BC$40) -> 0 | BG84: =(SUMIF($Z$72:$BD$72,"Sat",$Z84:$BD84)+SUMIF($Z$72:$BD$72,"Sun",$Z84:$BD84)) -> 0 | BH84: =(SUM($Z84:$BD84)-(SUMIF($Z$72:$BD$72,"Sat",$Z84:$BD84)+SUMIF($Z$72:$BD$72,"Sun",$Z84:$BD84))) -> 0 | BI84: =SUMIF(Z84:BD84,"<0",Z84:BD84) -> 0 | BJ84: =SUMIF(Z84:BD84,">0",Z84:BD84) -> 0
C85: =C84+1 -> 18 | Y85: 13 | BE85: =SUM(Z85:BD85)/COUNT(Z$71:BD$71) -> 0 | BF85: =SUM(AA85:BC85)/COUNT(AA$40:BC$40) -> 0 | BG85: =(SUMIF($Z$72:$BD$72,"Sat",$Z85:$BD85)+SUMIF($Z$72:$BD$72,"Sun",$Z85:$BD85)) -> 0 | BH85: =(SUM($Z85:$BD85)-(SUMIF($Z$72:$BD$72,"Sat",$Z85:$BD85)+SUMIF($Z$72:$BD$72,"Sun",$Z85:$BD85))) -> 0 | BI85: =SUMIF(Z85:BD85,"<0",Z85:BD85) -> 0 | BJ85: =SUMIF(Z85:BD85,">0",Z85:BD85) -> 0
C86: =C85+1 -> 19 | Y86: 14 | BE86: =SUM(Z86:BD86)/COUNT(Z$71:BD$71) -> 0 | BF86: =SUM(AA86:BC86)/COUNT(AA$40:BC$40) -> 0 | BG86: =(SUMIF($Z$72:$BD$72,"Sat",$Z86:$BD86)+SUMIF($Z$72:$BD$72,"Sun",$Z86:$BD86)) -> 0 | BH86: =(SUM($Z86:$BD86)-(SUMIF($Z$72:$BD$72,"Sat",$Z86:$BD86)+SUMIF($Z$72:$BD$72,"Sun",$Z86:$BD86))) -> 0 | BI86: =SUMIF(Z86:BD86,"<0",Z86:BD86) -> 0 | BJ86: =SUMIF(Z86:BD86,">0",Z86:BD86) -> 0
C87: =C86+1 -> 20 | Y87: 15 | BE87: =SUM(Z87:BD87)/COUNT(Z$71:BD$71) -> 0 | BF87: =SUM(AA87:BC87)/COUNT(AA$40:BC$40) -> 0 | BG87: =(SUMIF($Z$72:$BD$72,"Sat",$Z87:$BD87)+SUMIF($Z$72:$BD$72,"Sun",$Z87:$BD87)) -> 0 | BH87: =(SUM($Z87:$BD87)-(SUMIF($Z$72:$BD$72,"Sat",$Z87:$BD87)+SUMIF($Z$72:$BD$72,"Sun",$Z87:$BD87))) -> 0 | BI87: =SUMIF(Z87:BD87,"<0",Z87:BD87) -> 0 | BJ87: =SUMIF(Z87:BD87,">0",Z87:BD87) -> 0
C88: =C87+1 -> 21 | Y88: 16 | BE88: =SUM(Z88:BD88)/COUNT(Z$71:BD$71) -> 0 | BF88: =SUM(AA88:BC88)/COUNT(AA$40:BC$40) -> 0 | BG88: =(SUMIF($Z$72:$BD$72,"Sat",$Z88:$BD88)+SUMIF($Z$72:$BD$72,"Sun",$Z88:$BD88)) -> 0 | BH88: =(SUM($Z88:$BD88)-(SUMIF($Z$72:$BD$72,"Sat",$Z88:$BD88)+SUMIF($Z$72:$BD$72,"Sun",$Z88:$BD88))) -> 0 | BI88: =SUMIF(Z88:BD88,"<0",Z88:BD88) -> 0 | BJ88: =SUMIF(Z88:BD88,">0",Z88:BD88) -> 0
C89: =C88+1 -> 22 | Y89: 17 | BE89: =SUM(Z89:BD89)/COUNT(Z$71:BD$71) -> 0 | BF89: =SUM(AA89:BC89)/COUNT(AA$40:BC$40) -> 0 | BG89: =(SUMIF($Z$72:$BD$72,"Sat",$Z89:$BD89)+SUMIF($Z$72:$BD$72,"Sun",$Z89:$BD89)) -> 0 | BH89: =(SUM($Z89:$BD89)-(SUMIF($Z$72:$BD$72,"Sat",$Z89:$BD89)+SUMIF($Z$72:$BD$72,"Sun",$Z89:$BD89))) -> 0 | BI89: =SUMIF(Z89:BD89,"<0",Z89:BD89) -> 0 | BJ89: =SUMIF(Z89:BD89,">0",Z89:BD89) -> 0
C90: =C89+1 -> 23 | Y90: 18 | BE90: =SUM(Z90:BD90)/COUNT(Z$71:BD$71) -> 0 | BF90: =SUM(AA90:BC90)/COUNT(AA$40:BC$40) -> 0 | BG90: =(SUMIF($Z$72:$BD$72,"Sat",$Z90:$BD90)+SUMIF($Z$72:$BD$72,"Sun",$Z90:$BD90)) -> 0 | BH90: =(SUM($Z90:$BD90)-(SUMIF($Z$72:$BD$72,"Sat",$Z90:$BD90)+SUMIF($Z$72:$BD$72,"Sun",$Z90:$BD90))) -> 0 | BI90: =SUMIF(Z90:BD90,"<0",Z90:BD90) -> 0 | BJ90: =SUMIF(Z90:BD90,">0",Z90:BD90) -> 0
C91: =C90+1 -> 24 | Y91: 19 | BE91: =SUM(Z91:BD91)/COUNT(Z$71:BD$71) -> 0 | BF91: =SUM(AA91:BC91)/COUNT(AA$40:BC$40) -> 0 | BG91: =(SUMIF($Z$72:$BD$72,"Sat",$Z91:$BD91)+SUMIF($Z$72:$BD$72,"Sun",$Z91:$BD91)) -> 0 | BH91: =(SUM($Z91:$BD91)-(SUMIF($Z$72:$BD$72,"Sat",$Z91:$BD91)+SUMIF($Z$72:$BD$72,"Sun",$Z91:$BD91))) -> 0 | BI91: =SUMIF(Z91:BD91,"<0",Z91:BD91) -> 0 | BJ91: =SUMIF(Z91:BD91,">0",Z91:BD91) -> 0
... C93: =C92+1 -> 26 | Y93: 21 | BE93: =SUM(Z93:BD93)/COUNT(Z$71:BD$71) -> 0 | BF93: =SUM(AA93:BC93)/COUNT(AA$40:BC$40) -> 0 | BG93: =(SUMIF($Z$72:$BD$72,"Sat",$Z93:$BD93)+SUMIF($Z$72:$BD$72,"Sun",$Z93:$BD93)) -> 0 | BH93: =(SUM($Z93:$BD93)-(SUMIF($Z$72:$BD$72,"Sat",$Z93:$BD93)+SUMIF($Z$72:$BD$72,"Sun",$Z93:$BD93))) -> 0 | BI93: =SUMIF(Z93:BD93,"<0",Z93:BD93) -> 0 | BJ93: =SUMIF(Z93:BD93,">0",Z93:BD93) -> 0
C94: =C93+1 -> 27 | Y94: 22 | BE94: =SUM(Z94:BD94)/COUNT(Z$71:BD$71) -> 0 | BF94: =SUM(AA94:BC94)/COUNT(AA$40:BC$40) -> 0 | BG94: =(SUMIF($Z$72:$BD$72,"Sat",$Z94:$BD94)+SUMIF($Z$72:$BD$72,"Sun",$Z94:$BD94)) -> 0 | BH94: =(SUM($Z94:$BD94)-(SUMIF($Z$72:$BD$72,"Sat",$Z94:$BD94)+SUMIF($Z$72:$BD$72,"Sun",$Z94:$BD94))) -> 0 | BI94: =SUMIF(Z94:BD94,"<0",Z94:BD94) -> 0 | BJ94: =SUMIF(Z94:BD94,">0",Z94:BD94) -> 0 | BM94: Monthly
C95: =C94+1 -> 28 | Y95: 23 | BE95: =SUM(Z95:BD95)/COUNT(Z$71:BD$71) -> 0 | BF95: =SUM(AA95:BC95)/COUNT(AA$40:BC$40) -> 0 | BG95: =(SUMIF($Z$72:$BD$72,"Sat",$Z95:$BD95)+SUMIF($Z$72:$BD$72,"Sun",$Z95:$BD95)) -> 0 | BH95: =(SUM($Z95:$BD95)-(SUMIF($Z$72:$BD$72,"Sat",$Z95:$BD95)+SUMIF($Z$72:$BD$72,"Sun",$Z95:$BD95))) -> 0 | BI95: =SUMIF(Z95:BD95,"<0",Z95:BD95) -> 0 | BJ95: =SUMIF(Z95:BD95,">0",Z95:BD95) -> 0 | BL95: =COUNTIF(Z73:BD96,">"&MxDisch1) -> 0 | BM95: Hours above Maximum Discharge Rate
C96: =C95+1 -> 29 | Y96: 24 | BE96: =SUM(Z96:BD96)/COUNT(Z$71:BD$71) -> 0 | BF96: =SUM(AA96:BC96)/COUNT(AA$40:BC$40) -> 0 | BG96: =SUM($Z96:$BD96) -> 0 | BH96: 0 | BI96: =SUMIF(Z96:BD96,"<0",Z96:BD96) -> 0 | BJ96: =SUMIF(Z96:BD96,">0",Z96:BD96) -> 0 | BL96: =COUNTIF(Z73:BD96,"<"&-MxChgRate1) -> 0 | BM96: Hours above Maximum Charge Rate
C97: =C96+1 -> 30 | Z97: =IF(SUM(Z73:Z96)>0,"Verify","") | AA97: =IF(SUM(AA73:AA96)>0,"Verify","") | AB97: =IF(SUM(AB73:AB96)>0,"Verify","") | AC97: =IF(SUM(AC73:AC96)>0,"Verify","") | AD97: =IF(SUM(AD73:AD96)>0,"Verify","") | AE97: =IF(SUM(AE73:AE96)>0,"Verify","") | AF97: =IF(SUM(AF73:AF96)>0,"Verify","") | AG97: =IF(SUM(AG73:AG96)>0,"Verify","") | ... BD97: =IF(SUM(BD73:BD96)>0,"Verify","") | BG97: =SUM(BG73:BG96) -> 0 | BH97: =SUM(BH80:BH95) -> 0 | BI97: =SUM(BI73:BI96) -> 0 | BJ97: =SUM(BJ73:BJ96) -> 0
C98: =C97+1 -> 31
C99: IMPORTANT: These factors are for specific months and calendar years. The first entry must coincide with the project start date.
X100: APRIL
Z101: =IFERROR(SUMIF(Z104:Z127,">0",Z104:Z127)/-SUMIF(Z104:Z127,"<0",Z104:Z127),"") | AA101: =IFERROR(SUMIF(AA104:AA127,">0",AA104:AA127)/-SUMIF(AA104:AA127,"<0",AA104:AA127),"") | AB101: =IFERROR(SUMIF(AB104:AB127,">0",AB104:AB127)/-SUMIF(AB104:AB127,"<0",AB104:AB127),"") | AC101: =IFERROR(SUMIF(AC104:AC127,">0",AC104:AC127)/-SUMIF(AC104:AC127,"<0",AC104:AC127),"") | AD101: =IFERROR(SUMIF(AD104:AD127,">0",AD104:AD127)/-SUMIF(AD104:AD127,"<0",AD104:AD127),"") | AE101: =IFERROR(SUMIF(AE104:AE127,">0",AE104:AE127)/-SUMIF(AE104:AE127,"<0",AE104:AE127),"") | AF101: =IFERROR(SUMIF(AF104:AF127,">0",AF104:AF127)/-SUMIF(AF104:AF127,"<0",AF104:AF127),"") | AG101: =IFERROR(SUMIF(AG104:AG127,">0",AG104:AG127)/-SUMIF(AG104:AG127,"<0",AG104:AG127),"") | ... BC101: =IFERROR(SUMIF(BC104:BC127,">0",BC104:BC127)/-SUMIF(BC104:BC127,"<0",BC104:BC127),"")
Y102: HE | Z102: 1 | AA102: 2 | AB102: 3 | AC102: 4 | AD102: 5 | AE102: 6 | AF102: 7 | AG102: 8 | AH102: 9 | AI102: 10 | AJ102: 11 | AK102: 12 | AL102: 13 | AM102: 14 | AN102: 15 | AO102: 16 | AP102: 17 | AQ102: 18 | AR102: 19 | AS102: 20 | AT102: 21 | AU102: 22 | AV102: 23 | AW102: 24 | AX102: 25 | AY102: 26 | AZ102: 27 | BA102: 28 | BB102: 29 | BC102: 30 | BE102: Month | BG102: Off-Pk | BH102: On-Peak | BI102: Charging | BJ102: Discharging
...

Sheet Part VI
B2: ="Version " & Version -> Version RD2 FINAL | P2: ="Version " & Version -> Version RD2 FINAL
B3: Part VI (a)
B4: =IF('Part IV'!J8="Yes","Pricing Information - Phase 1","Pricing Information") -> Pricing Information | P4: Part VI (a) (i)
Q6: Project Title | R6: =IF(ProjTitle="","Auto-Filled",ProjTitle) -> Auto-Filled | X6: =IF(N6="","<<< Enter Information in Part II","") -> <<< Enter Information in Part II
C7: Project Title | F7: =IF(ProjTitle="","Auto-Filled",ProjTitle) -> Auto-Filled | L7: =IF(B7="","<<< Enter Information in Part II","") -> <<< Enter Information in Part II
D9: Environmental Attribute Product: | G9: =IF('Part III'!J21="","Auto-Filled",'Part III'!J21) -> Auto-Filled | L9: =IF(G9="Auto-Filled","<<< Enter Information in Part III","") -> <<< Enter Information in Part III | Q9: Section 2.2.1.3.(a) check | Z9: COD Year | AA9: =YEAR(EvalCOD1) -> 1900
Z10: COD Month | AA10: =MONTH(EvalCOD1) -> 1
D11: Contract Services Term: | H11: (0 to 30 years) | L11: =IF(G11="","<<< Required Information","") -> <<< Required Information | Q11: Contract Year | R11: CPS Compliance Year | S11: CPS ACP | T11: Proposal $/Environmental Attribute (nominal$) | U11: CPEC Price less than 97.75% of the ACP | V11: Defined rate (or with one-time 2033 decrease)
Q12: 1 | R12: =IF(ISBLANK(EstCOD),2026+Q12,YEAR(EstCOD)+Q12-1) -> 2027 | S12: =IFERROR(VLOOKUP(R12,Tables!$B$22:$C$57,2,FALSE),45) -> 65 | T12: =F16 -> 0 | U12: =IF(G$9="CPEC",IF(S12=0,IF(F16>0,"FAIL",IF(F16*1.0225>S12,"FAIL","PASS")),IF(F16*1.0225>S12,"FAIL","PASS")),"PASS") -> PASS | V12: =IF(T12=0,"PASS",IF(Q12<3,"PASS",IF(ROUND(T12,2)=ROUND(T11*T11/T10,2),"PASS",IF(OR(R12=2033,R12=2034),"PASS","FAIL")))) -> PASS | X12: =IF(V12="FAIL", "Check the statement in L18","")
Q13: 2 | R13: =IF(ISBLANK(EstCOD),2026+Q13,YEAR(EstCOD)+Q13-1) -> 2028 | S13: =IFERROR(VLOOKUP(R13,Tables!$B$22:$C$57,2,FALSE),45) -> 65 | T13: =F17 -> 0 | U13: =IF(G$9="CPEC",IF(S13=0,IF(F17>0,"FAIL",IF(F17*1.0225>S13,"FAIL","PASS")),IF(F17*1.0225>S13,"FAIL","PASS")),"PASS") -> PASS | V13: =IF(T13=0,"PASS",IF(Q13<3,"PASS",IF(ROUND(T13,2)=ROUND(T12*T12/T11,2),"PASS",IF(OR(R13=2033,R13=2034),"PASS","FAIL")))) -> PASS | X13: =IF(V13="FAIL", "Check the statement in L18","")
F14: Environmental Attribute Price | L14: =IF(COUNT(F16:G45)<G11,"<<< Required Information","") | Q14: 3 | R14: =IF(ISBLANK(EstCOD),2026+Q14,YEAR(EstCOD)+Q14-1) -> 2029 | S14: =IFERROR(VLOOKUP(R14,Tables!$B$22:$C$57,2,FALSE),45) -> 65 | T14: =F18 -> 0 | U14: =IF(G$9="CPEC",IF(S14=0,IF(F18>0,"FAIL",IF(F18*1.0225>S14,"FAIL","PASS")),IF(F18*1.0225>S14,"FAIL","PASS")),"PASS") -> PASS | V14: =IF(T14=0,"PASS",IF(Q14<3,"PASS",IF(ROUND(T14,2)=ROUND(T13*T13/T12,2),"PASS",IF(OR(R14=2033,R14=2034),"PASS","FAIL")))) -> PASS | X14: =IF(V14="FAIL", "Check the statement in L18","")
E15: Contract Year | F15: $/Environmental Attribute (nominal$) | Q15: 4 | R15: =IF(ISBLANK(EstCOD),2026+Q15,YEAR(EstCOD)+Q15-1) -> 2030 | S15: =IFERROR(VLOOKUP(R15,Tables!$B$22:$C$57,2,FALSE),45) -> 65 | T15: =F19 -> 0 | U15: =IF(G$9="CPEC",IF(S15=0,IF(F19>0,"FAIL",IF(F19*1.0225>S15,"FAIL","PASS")),IF(F19*1.0225>S15,"FAIL","PASS")),"PASS") -> PASS | V15: =IF(T15=0,"PASS",IF(Q15<3,"PASS",IF(ROUND(T15,2)=ROUND(T14*T14/T13,2),"PASS",IF(OR(R15=2033,R15=2034),"PASS","FAIL")))) -> PASS | X15: =IF(V15="FAIL", "Check the statement in L18","")
E16: 1 | L16: =B$3 & " - Section 2.2.1.3.(a) check" -> Part VI (a) - Section 2.2.1.3.(a) check | Q16: 5 | R16: =IF(ISBLANK(EstCOD),2026+Q16,YEAR(EstCOD)+Q16-1) -> 2031 | S16: =IFERROR(VLOOKUP(R16,Tables!$B$22:$C$57,2,FALSE),45) -> 65 | T16: =F20 -> 0 | U16: =IF(G$9="CPEC",IF(S16=0,IF(F20>0,"FAIL",IF(F20*1.0225>S16,"FAIL","PASS")),IF(F20*1.0225>S16,"FAIL","PASS")),"PASS") -> PASS | V16: =IF(T16=0,"PASS",IF(Q16<3,"PASS",IF(ROUND(T16,2)=ROUND(T15*T15/T14,2),"PASS",IF(OR(R16=2033,R16=2034),"PASS","FAIL")))) -> PASS | X16: =IF(V16="FAIL", "Check the statement in L18","")
E17: 2 | Q17: 6 | R17: =IF(ISBLANK(EstCOD),2026+Q17,YEAR(EstCOD)+Q17-1) -> 2032 | S17: =IFERROR(VLOOKUP(R17,Tables!$B$22:$C$57,2,FALSE),45) -> 65 | T17: =F21 -> 0 | U17: =IF(G$9="CPEC",IF(S17=0,IF(F21>0,"FAIL",IF(F21*1.0225>S17,"FAIL","PASS")),IF(F21*1.0225>S17,"FAIL","PASS")),"PASS") -> PASS | V17: =IF(T17=0,"PASS",IF(Q17<3,"PASS",IF(ROUND(T17,2)=ROUND(T16*T16/T15,2),"PASS",IF(OR(R17=2033,R17=2034),"PASS","FAIL")))) -> PASS | X17: =IF(V17="FAIL", "Check the statement in L18","")
E18: 3 | L18: Prices may be the same each year, include a one-time step down to account for the Alternative Compliance Payment (ACP) decrease from 2032 to 2033, or change by a defined rate or amount over time. | Q18: 7 | R18: =IF(ISBLANK(EstCOD),2026+Q18,YEAR(EstCOD)+Q18-1) -> 2033 | S18: =IFERROR(VLOOKUP(R18,Tables!$B$22:$C$57,2,FALSE),45) -> 45 | T18: =F22 -> 0 | U18: =IF(G$9="CPEC",IF(S18=0,IF(F22>0,"FAIL",IF(F22*1.0225>S18,"FAIL","PASS")),IF(F22*1.0225>S18,"FAIL","PASS")),"PASS") -> PASS | V18: =IF(T18=0,"PASS",IF(Q18<3,"PASS",IF(ROUND(T18,2)=ROUND(T17*T17/T16,2),"PASS",IF(OR(R18=2033,R18=2034),"PASS","FAIL")))) -> PASS | X18: =IF(V18="FAIL", "Check the statement in L18","")
E19: 4 | Q19: 8 | R19: =IF(ISBLANK(EstCOD),2026+Q19,YEAR(EstCOD)+Q19-1) -> 2034 | S19: =IFERROR(VLOOKUP(R19,Tables!$B$22:$C$57,2,FALSE),45) -> 45 | T19: =F23 -> 0 | U19: =IF(G$9="CPEC",IF(S19=0,IF(F23>0,"FAIL",IF(F23*1.0225>S19,"FAIL","PASS")),IF(F23*1.0225>S19,"FAIL","PASS")),"PASS") -> PASS | V19: =IF(T19=0,"PASS",IF(Q19<3,"PASS",IF(ROUND(T19,2)=ROUND(T18*T18/T17,2),"PASS",IF(OR(R19=2033,R19=2034),"PASS","FAIL")))) -> PASS | X19: =IF(V19="FAIL", "Check the statement in L18","")
E20: 5 | Q20: 9 | R20: =IF(ISBLANK(EstCOD),2026+Q20,YEAR(EstCOD)+Q20-1) -> 2035 | S20: =IFERROR(VLOOKUP(R20,Tables!$B$22:$C$57,2,FALSE),45) -> 45 | T20: =F24 -> 0 | U20: =IF(G$9="CPEC",IF(S20=0,IF(F24>0,"FAIL",IF(F24*1.0225>S20,"FAIL","PASS")),IF(F24*1.0225>S20,"FAIL","PASS")),"PASS") -> PASS | V20: =IF(T20=0,"PASS",IF(Q20<3,"PASS",IF(ROUND(T20,2)=ROUND(T19*T19/T18,2),"PASS",IF(OR(R20=2033,R20=2034),"PASS","FAIL")))) -> PASS | X20: =IF(V20="FAIL", "Check the statement in L18","")
E21: 6 | Q21: 10 | R21: =IF(ISBLANK(EstCOD),2026+Q21,YEAR(EstCOD)+Q21-1) -> 2036 | S21: =IFERROR(VLOOKUP(R21,Tables!$B$22:$C$57,2,FALSE),45) -> 45 | T21: =F25 -> 0 | U21: =IF(G$9="CPEC",IF(S21=0,IF(F25>0,"FAIL",IF(F25*1.0225>S21,"FAIL","PASS")),IF(F25*1.0225>S21,"FAIL","PASS")),"PASS") -> PASS | V21: =IF(T21=0,"PASS",IF(Q21<3,"PASS",IF(ROUND(T21,2)=ROUND(T20*T20/T19,2),"PASS",IF(OR(R21=2033,R21=2034),"PASS","FAIL")))) -> PASS | X21: =IF(V21="FAIL", "Check the statement in L18","")
E22: 7 | Q22: 11 | R22: =IF(ISBLANK(EstCOD),2026+Q22,YEAR(EstCOD)+Q22-1) -> 2037 | S22: =IFERROR(VLOOKUP(R22,Tables!$B$22:$C$57,2,FALSE),45) -> 45 | T22: =F26 -> 0 | U22: =IF(G$9="CPEC",IF(S22=0,IF(F26>0,"FAIL",IF(F26*1.0225>S22,"FAIL","PASS")),IF(F26*1.0225>S22,"FAIL","PASS")),"PASS") -> PASS | V22: =IF(T22=0,"PASS",IF(Q22<3,"PASS",IF(ROUND(T22,2)=ROUND(T21*T21/T20,2),"PASS",IF(OR(R22=2033,R22=2034),"PASS","FAIL")))) -> PASS | X22: =IF(V22="FAIL", "Check the statement in L18","")
E23: 8 | Q23: 12 | R23: =IF(ISBLANK(EstCOD),2026+Q23,YEAR(EstCOD)+Q23-1) -> 2038 | S23: =IFERROR(VLOOKUP(R23,Tables!$B$22:$C$57,2,FALSE),45) -> 45 | T23: =F27 -> 0 | U23: =IF(G$9="CPEC",IF(S23=0,IF(F27>0,"FAIL",IF(F27*1.0225>S23,"FAIL","PASS")),IF(F27*1.0225>S23,"FAIL","PASS")),"PASS") -> PASS | V23: =IF(T23=0,"PASS",IF(Q23<3,"PASS",IF(ROUND(T23,2)=ROUND(T22*T22/T21,2),"PASS",IF(OR(R23=2033,R23=2034),"PASS","FAIL")))) -> PASS | X23: =IF(V23="FAIL", "Check the statement in L18","")
E24: 9 | L24: =IF(COUNTIF(V12:V41,"Fail")>0,"Fail","Pass") -> Pass | Q24: 13 | R24: =IF(ISBLANK(EstCOD),2026+Q24,YEAR(EstCOD)+Q24-1) -> 2039 | S24: =IFERROR(VLOOKUP(R24,Tables!$B$22:$C$57,2,FALSE),45) -> 45 | T24: =F28 -> 0 | U24: =IF(G$9="CPEC",IF(S24=0,IF(F28>0,"FAIL",IF(F28*1.0225>S24,"FAIL","PASS")),IF(F28*1.0225>S24,"FAIL","PASS")),"PASS") -> PASS | V24: =IF(T24=0,"PASS",IF(Q24<3,"PASS",IF(ROUND(T24,2)=ROUND(T23*T23/T22,2),"PASS",IF(OR(R24=2033,R24=2034),"PASS","FAIL")))) -> PASS | X24: =IF(V24="FAIL", "Check the statement in L18","")
E25: 10 | L25: In no single year over the life of the long-term contract can the $/CPEC price be higher than 97.75% of the ACP, as published in the Clean Peak Portfolio Standard Regulation section 225 CMR 21.08(3)(a)2. | Q25: 14 | R25: =IF(ISBLANK(EstCOD),2026+Q25,YEAR(EstCOD)+Q25-1) -> 2040 | S25: =IFERROR(VLOOKUP(R25,Tables!$B$22:$C$57,2,FALSE),45) -> 45 | T25: =F29 -> 0 | U25: =IF(G$9="CPEC",IF(S25=0,IF(F29>0,"FAIL",IF(F29*1.0225>S25,"FAIL","PASS")),IF(F29*1.0225>S25,"FAIL","PASS")),"PASS") -> PASS | V25: =IF(T25=0,"PASS",IF(Q25<3,"PASS",IF(ROUND(T25,2)=ROUND(T24*T24/T23,2),"PASS",IF(OR(R25=2033,R25=2034),"PASS","FAIL")))) -> PASS | X25: =IF(V25="FAIL", "Check the statement in L18","")
E26: 11 | Q26: 15 | R26: =IF(ISBLANK(EstCOD),2026+Q26,YEAR(EstCOD)+Q26-1) -> 2041 | S26: =IFERROR(VLOOKUP(R26,Tables!$B$22:$C$57,2,FALSE),45) -> 45 | T26: =F30 -> 0 | U26: =IF(G$9="CPEC",IF(S26=0,IF(F30>0,"FAIL",IF(F30*1.0225>S26,"FAIL","PASS")),IF(F30*1.0225>S26,"FAIL","PASS")),"PASS") -> PASS | V26: =IF(T26=0,"PASS",IF(Q26<3,"PASS",IF(ROUND(T26,2)=ROUND(T25*T25/T24,2),"PASS",IF(OR(R26=2033,R26=2034),"PASS","FAIL")))) -> PASS | X26: =IF(V26="FAIL", "Check the statement in L18","")
E27: 12 | Q27: 16 | R27: =IF(ISBLANK(EstCOD),2026+Q27,YEAR(EstCOD)+Q27-1) -> 2042 | S27: =IFERROR(VLOOKUP(R27,Tables!$B$22:$C$57,2,FALSE),45) -> 45 | T27: =F31 -> 0 | U27: =IF(G$9="CPEC",IF(S27=0,IF(F31>0,"FAIL",IF(F31*1.0225>S27,"FAIL","PASS")),IF(F31*1.0225>S27,"FAIL","PASS")),"PASS") -> PASS | V27: =IF(T27=0,"PASS",IF(Q27<3,"PASS",IF(ROUND(T27,2)=ROUND(T26*T26/T25,2),"PASS",IF(OR(R27=2033,R27=2034),"PASS","FAIL")))) -> PASS | X27: =IF(V27="FAIL", "Check the statement in L18","")
E28: 13 | Q28: 17 | R28: =IF(ISBLANK(EstCOD),2026+Q28,YEAR(EstCOD)+Q28-1) -> 2043 | S28: =IFERROR(VLOOKUP(R28,Tables!$B$22:$C$57,2,FALSE),45) -> 45 | T28: =F32 -> 0 | U28: =IF(G$9="CPEC",IF(S28=0,IF(F32>0,"FAIL",IF(F32*1.0225>S28,"FAIL","PASS")),IF(F32*1.0225>S28,"FAIL","PASS")),"PASS") -> PASS | V28: =IF(T28=0,"PASS",IF(Q28<3,"PASS",IF(ROUND(T28,2)=ROUND(T27*T27/T26,2),"PASS",IF(OR(R28=2033,R28=2034),"PASS","FAIL")))) -> PASS | X28: =IF(V28="FAIL", "Check the statement in L18","")
E29: 14 | Q29: 18 | R29: =IF(ISBLANK(EstCOD),2026+Q29,YEAR(EstCOD)+Q29-1) -> 2044 | S29: =IFERROR(VLOOKUP(R29,Tables!$B$22:$C$57,2,FALSE),45) -> 45 | T29: =F33 -> 0 | U29: =IF(G$9="CPEC",IF(S29=0,IF(F33>0,"FAIL",IF(F33*1.0225>S29,"FAIL","PASS")),IF(F33*1.0225>S29,"FAIL","PASS")),"PASS") -> PASS | V29: =IF(T29=0,"PASS",IF(Q29<3,"PASS",IF(ROUND(T29,2)=ROUND(T28*T28/T27,2),"PASS",IF(OR(R29=2033,R29=2034),"PASS","FAIL")))) -> PASS | X29: =IF(V29="FAIL", "Check the statement in L18","")
E30: 15 | Q30: 19 | R30: =IF(ISBLANK(EstCOD),2026+Q30,YEAR(EstCOD)+Q30-1) -> 2045 | S30: =IFERROR(VLOOKUP(R30,Tables!$B$22:$C$57,2,FALSE),45) -> 45 | T30: =F34 -> 0 | U30: =IF(G$9="CPEC",IF(S30=0,IF(F34>0,"FAIL",IF(F34*1.0225>S30,"FAIL","PASS")),IF(F34*1.0225>S30,"FAIL","PASS")),"PASS") -> PASS | V30: =IF(T30=0,"PASS",IF(Q30<3,"PASS",IF(ROUND(T30,2)=ROUND(T29*T29/T28,2),"PASS",IF(OR(R30=2033,R30=2034),"PASS","FAIL")))) -> PASS | X30: =IF(V30="FAIL", "Check the statement in L18","")
E31: 16 | L31: =IF(COUNTIF(U12:U41,"Fail")>0,"Fail","Pass") -> Pass | Q31: 20 | R31: =IF(ISBLANK(EstCOD),2026+Q31,YEAR(EstCOD)+Q31-1) -> 2046 | S31: =IFERROR(VLOOKUP(R31,Tables!$B$22:$C$57,2,FALSE),45) -> 45 | T31: =F35 -> 0 | U31: =IF(G$9="CPEC",IF(S31=0,IF(F35>0,"FAIL",IF(F35*1.0225>S31,"FAIL","PASS")),IF(F35*1.0225>S31,"FAIL","PASS")),"PASS") -> PASS | V31: =IF(T31=0,"PASS",IF(Q31<3,"PASS",IF(ROUND(T31,2)=ROUND(T30*T30/T29,2),"PASS",IF(OR(R31=2033,R31=2034),"PASS","FAIL")))) -> PASS | X31: =IF(V31="FAIL", "Check the statement in L18","")
E32: 17 | Q32: 21 | R32: =IF(ISBLANK(EstCOD),2026+Q32,YEAR(EstCOD)+Q32-1) -> 2047 | S32: =IFERROR(VLOOKUP(R32,Tables!$B$22:$C$57,2,FALSE),45) -> 45 | T32: =F36 -> 0 | U32: =IF(G$9="CPEC",IF(S32=0,IF(F36>0,"FAIL",IF(F36*1.0225>S32,"FAIL","PASS")),IF(F36*1.0225>S32,"FAIL","PASS")),"PASS") -> PASS | V32: =IF(T32=0,"PASS",IF(Q32<3,"PASS",IF(ROUND(T32,2)=ROUND(T31*T31/T30,2),"PASS",IF(OR(R32=2033,R32=2034),"PASS","FAIL")))) -> PASS | X32: =IF(V32="FAIL", "Check the statement in L18","")
E33: 18 | Q33: 22 | R33: =IF(ISBLANK(EstCOD),2026+Q33,YEAR(EstCOD)+Q33-1) -> 2048 | S33: =IFERROR(VLOOKUP(R33,Tables!$B$22:$C$57,2,FALSE),45) -> 45 | T33: =F37 -> 0 | U33: =IF(G$9="CPEC",IF(S33=0,IF(F37>0,"FAIL",IF(F37*1.0225>S33,"FAIL","PASS")),IF(F37*1.0225>S33,"FAIL","PASS")),"PASS") -> PASS | V33: =IF(T33=0,"PASS",IF(Q33<3,"PASS",IF(ROUND(T33,2)=ROUND(T32*T32/T31,2),"PASS",IF(OR(R33=2033,R33=2034),"PASS","FAIL")))) -> PASS | X33: =IF(V33="FAIL", "Check the statement in L18","")
E34: 19 | Q34: 23 | R34: =IF(ISBLANK(EstCOD),2026+Q34,YEAR(EstCOD)+Q34-1) -> 2049 | S34: =IFERROR(VLOOKUP(R34,Tables!$B$22:$C$57,2,FALSE),45) -> 45 | T34: =F38 -> 0 | U34: =IF(G$9="CPEC",IF(S34=0,IF(F38>0,"FAIL",IF(F38*1.0225>S34,"FAIL","PASS")),IF(F38*1.0225>S34,"FAIL","PASS")),"PASS") -> PASS | V34: =IF(T34=0,"PASS",IF(Q34<3,"PASS",IF(ROUND(T34,2)=ROUND(T33*T33/T32,2),"PASS",IF(OR(R34=2033,R34=2034),"PASS","FAIL")))) -> PASS | X34: =IF(V34="FAIL", "Check the statement in L18","")
E35: 20 | Q35: 24 | R35: =IF(ISBLANK(EstCOD),2026+Q35,YEAR(EstCOD)+Q35-1) -> 2050 | S35: =IFERROR(VLOOKUP(R35,Tables!$B$22:$C$57,2,FALSE),45) -> 45 | T35: =F39 -> 0 | U35: =IF(G$9="CPEC",IF(S35=0,IF(F39>0,"FAIL",IF(F39*1.0225>S35,"FAIL","PASS")),IF(F39*1.0225>S35,"FAIL","PASS")),"PASS") -> PASS | V35: =IF(T35=0,"PASS",IF(Q35<3,"PASS",IF(ROUND(T35,2)=ROUND(T34*T34/T33,2),"PASS",IF(OR(R35=2033,R35=2034),"PASS","FAIL")))) -> PASS | X35: =IF(V35="FAIL", "Check the statement in L18","")
E36: 21 | Q36: 25 | R36: =IF(ISBLANK(EstCOD),2026+Q36,YEAR(EstCOD)+Q36-1) -> 2051 | S36: =IFERROR(VLOOKUP(R36,Tables!$B$22:$C$57,2,FALSE),45) -> 0 | T36: =F40 -> 0 | U36: =IF(G$9="CPEC",IF(S36=0,IF(F40>0,"FAIL",IF(F40*1.0225>S36,"FAIL","PASS")),IF(F40*1.0225>S36,"FAIL","PASS")),"PASS") -> PASS | V36: =IF(T36=0,"PASS",IF(Q36<3,"PASS",IF(ROUND(T36,2)=ROUND(T35*T35/T34,2),"PASS",IF(OR(R36=2033,R36=2034),"PASS","FAIL")))) -> PASS | X36: =IF(V36="FAIL", "Check the statement in L18","")
E37: 22 | Q37: 26 | R37: =IF(ISBLANK(EstCOD),2026+Q37,YEAR(EstCOD)+Q37-1) -> 2052 | S37: =IFERROR(VLOOKUP(R37,Tables!$B$22:$C$57,2,FALSE),45) -> 0 | T37: =F41 -> 0 | U37: =IF(G$9="CPEC",IF(S37=0,IF(F41>0,"FAIL",IF(F41*1.0225>S37,"FAIL","PASS")),IF(F41*1.0225>S37,"FAIL","PASS")),"PASS") -> PASS | V37: =IF(T37=0,"PASS",IF(Q37<3,"PASS",IF(ROUND(T37,2)=ROUND(T36*T36/T35,2),"PASS",IF(OR(R37=2033,R37=2034),"PASS","FAIL")))) -> PASS | X37: =IF(V37="FAIL", "Check the statement in L18","")
E38: 23 | Q38: 27 | R38: =IF(ISBLANK(EstCOD),2026+Q38,YEAR(EstCOD)+Q38-1) -> 2053 | S38: =IFERROR(VLOOKUP(R38,Tables!$B$22:$C$57,2,FALSE),45) -> 0 | T38: =F42 -> 0 | U38: =IF(G$9="CPEC",IF(S38=0,IF(F42>0,"FAIL",IF(F42*1.0225>S38,"FAIL","PASS")),IF(F42*1.0225>S38,"FAIL","PASS")),"PASS") -> PASS | V38: =IF(T38=0,"PASS",IF(Q38<3,"PASS",IF(ROUND(T38,2)=ROUND(T37*T37/T36,2),"PASS",IF(OR(R38=2033,R38=2034),"PASS","FAIL")))) -> PASS | X38: =IF(V38="FAIL", "Check the statement in L18","")
E39: 24 | Q39: 28 | R39: =IF(ISBLANK(EstCOD),2026+Q39,YEAR(EstCOD)+Q39-1) -> 2054 | S39: =IFERROR(VLOOKUP(R39,Tables!$B$22:$C$57,2,FALSE),45) -> 0 | T39: =F43 -> 0 | U39: =IF(G$9="CPEC",IF(S39=0,IF(F43>0,"FAIL",IF(F43*1.0225>S39,"FAIL","PASS")),IF(F43*1.0225>S39,"FAIL","PASS")),"PASS") -> PASS | V39: =IF(T39=0,"PASS",IF(Q39<3,"PASS",IF(ROUND(T39,2)=ROUND(T38*T38/T37,2),"PASS",IF(OR(R39=2033,R39=2034),"PASS","FAIL")))) -> PASS | X39: =IF(V39="FAIL", "Check the statement in L18","")
E40: 25 | Q40: 29 | R40: =IF(ISBLANK(EstCOD),2026+Q40,YEAR(EstCOD)+Q40-1) -> 2055 | S40: =IFERROR(VLOOKUP(R40,Tables!$B$22:$C$57,2,FALSE),45) -> 0 | T40: =F44 -> 0 | U40: =IF(G$9="CPEC",IF(S40=0,IF(F44>0,"FAIL",IF(F44*1.0225>S40,"FAIL","PASS")),IF(F44*1.0225>S40,"FAIL","PASS")),"PASS") -> PASS | V40: =IF(T40=0,"PASS",IF(Q40<3,"PASS",IF(ROUND(T40,2)=ROUND(T39*T39/T38,2),"PASS",IF(OR(R40=2033,R40=2034),"PASS","FAIL")))) -> PASS | X40: =IF(V40="FAIL", "Check the statement in L18","")
E41: 26 | Q41: 30 | R41: =IF(ISBLANK(EstCOD),2026+Q41,YEAR(EstCOD)+Q41-1) -> 2056 | S41: =IFERROR(VLOOKUP(R41,Tables!$B$22:$C$57,2,FALSE),45) -> 0 | T41: =F45 -> 0 | U41: =IF(G$9="CPEC",IF(S41=0,IF(F45>0,"FAIL",IF(F45*1.0225>S41,"FAIL","PASS")),IF(F45*1.0225>S41,"FAIL","PASS")),"PASS") -> PASS | V41: =IF(T41=0,"PASS",IF(Q41<3,"PASS",IF(ROUND(T41,2)=ROUND(T40*T40/T39,2),"PASS",IF(OR(R41=2033,R41=2034),"PASS","FAIL")))) -> PASS | X41: =IF(V41="FAIL", "Check the statement in L18","")
E42: 27
E43: 28
E44: 29
E45: 30
B49: ="Version " & Version -> Version RD2 FINAL | P49: ="Version " & Version -> Version RD2 FINAL
B50: Part VI (b)
B51: Pricing Information, Phase 2 | P51: Part VI (b) (i)
Q53: Project Title | R53: =IF(ProjTitle="","Auto-Filled",ProjTitle) -> Auto-Filled
C54: Project Title | F54: =IF(ProjTitle="","Auto-Filled",ProjTitle) -> Auto-Filled
D56: Environmental Attribute Product: | G56: =G9 -> Auto-Filled | Q56: Section 2.2.1.3.(a) check
D58: Contract Services Term: | G58: =IF(G11="","Auto-Filled",G11) -> Auto-Filled | H58: (0 to 30 years) | Q58: Contract Year | R58: CPS Compliance Year | S58: CPS ACP | T58: Proposal $/Environmental Attribute (nominal$) | U58: CPEC Price less than 97.75% of the ACP | V58: Defined rate (or with one-time 2033 decrease)
Q59: 1 | R59: =IF(ISBLANK(EstCOD),2026+Q59,YEAR(EstCOD)+Q59-1) -> 2027 | S59: =IFERROR(VLOOKUP(R59,Tables!$B$22:$C$57,2,FALSE),45) -> 65 | T59: =F63 -> 0 | U59: =IF(G$9="CPEC",IF(S59=0,IF(F63>0,"FAIL",IF(F63*1.0225>S59,"FAIL","PASS")),IF(F63*1.0225>S59,"FAIL","PASS")),"PASS") -> PASS | V59: =IF(T59=0,"PASS",IF(Q59<3,"PASS",IF(ROUND(T59,2)=ROUND(T58*T58/T57,2),"PASS",IF(OR(R59=2033,R59=2034),"PASS","FAIL")))) -> PASS
Q60: 2 | R60: =IF(ISBLANK(EstCOD),2026+Q60,YEAR(EstCOD)+Q60-1) -> 2028 | S60: =IFERROR(VLOOKUP(R60,Tables!$B$22:$C$57,2,FALSE),45) -> 65 | T60: =F64 -> 0 | U60: =IF(G$9="CPEC",IF(S60=0,IF(F64>0,"FAIL",IF(F64*1.0225>S60,"FAIL","PASS")),IF(F64*1.0225>S60,"FAIL","PASS")),"PASS") -> PASS | V60: =IF(T60=0,"PASS",IF(Q60<3,"PASS",IF(ROUND(T60,2)=ROUND(T59*T59/T58,2),"PASS",IF(OR(R60=2033,R60=2034),"PASS","FAIL")))) -> PASS
F61: Environmental Attribute Price | L61: =IF('Part IV'!J8="Yes",IF(COUNT(F63:G92)<G58,"<<< Required Information",""),"") | Q61: 3 | R61: =IF(ISBLANK(EstCOD),2026+Q61,YEAR(EstCOD)+Q61-1) -> 2029 | S61: =IFERROR(VLOOKUP(R61,Tables!$B$22:$C$57,2,FALSE),45) -> 65 | T61: =F65 -> 0 | U61: =IF(G$9="CPEC",IF(S61=0,IF(F65>0,"FAIL",IF(F65*1.0225>S61,"FAIL","PASS")),IF(F65*1.0225>S61,"FAIL","PASS")),"PASS") -> PASS | V61: =IF(T61=0,"PASS",IF(Q61<3,"PASS",IF(ROUND(T61,2)=ROUND(T60*T60/T59,2),"PASS",IF(OR(R61=2033,R61=2034),"PASS","FAIL")))) -> PASS
E62: Contract Year | F62: $/Environmental Attribute (nominal$) | Q62: 4 | R62: =IF(ISBLANK(EstCOD),2026+Q62,YEAR(EstCOD)+Q62-1) -> 2030 | S62: =IFERROR(VLOOKUP(R62,Tables!$B$22:$C$57,2,FALSE),45) -> 65 | T62: =F66 -> 0 | U62: =IF(G$9="CPEC",IF(S62=0,IF(F66>0,"FAIL",IF(F66*1.0225>S62,"FAIL","PASS")),IF(F66*1.0225>S62,"FAIL","PASS")),"PASS") -> PASS | V62: =IF(T62=0,"PASS",IF(Q62<3,"PASS",IF(ROUND(T62,2)=ROUND(T61*T61/T60,2),"PASS",IF(OR(R62=2033,R62=2034),"PASS","FAIL")))) -> PASS
E63: 1 | L63: =B$50 & " - Section 2.2.1.3.(a) check" -> Part VI (b) - Section 2.2.1.3.(a) check | Q63: 5 | R63: =IF(ISBLANK(EstCOD),2026+Q63,YEAR(EstCOD)+Q63-1) -> 2031 | S63: =IFERROR(VLOOKUP(R63,Tables!$B$22:$C$57,2,FALSE),45) -> 65 | T63: =F67 -> 0 | U63: =IF(G$9="CPEC",IF(S63=0,IF(F67>0,"FAIL",IF(F67*1.0225>S63,"FAIL","PASS")),IF(F67*1.0225>S63,"FAIL","PASS")),"PASS") -> PASS | V63: =IF(T63=0,"PASS",IF(Q63<3,"PASS",IF(ROUND(T63,2)=ROUND(T62*T62/T61,2),"PASS",IF(OR(R63=2033,R63=2034),"PASS","FAIL")))) -> PASS
E64: 2 | Q64: 6 | R64: =IF(ISBLANK(EstCOD),2026+Q64,YEAR(EstCOD)+Q64-1) -> 2032 | S64: =IFERROR(VLOOKUP(R64,Tables!$B$22:$C$57,2,FALSE),45) -> 65 | T64: =F68 -> 0 | U64: =IF(G$9="CPEC",IF(S64=0,IF(F68>0,"FAIL",IF(F68*1.0225>S64,"FAIL","PASS")),IF(F68*1.0225>S64,"FAIL","PASS")),"PASS") -> PASS | V64: =IF(T64=0,"PASS",IF(Q64<3,"PASS",IF(ROUND(T64,2)=ROUND(T63*T63/T62,2),"PASS",IF(OR(R64=2033,R64=2034),"PASS","FAIL")))) -> PASS
E65: 3 | L65: Prices may be the same each year, include a one-time step down to account for the Alternative Compliance Payment (ACP) decrease from 2032 to 2033, or change by a defined rate or amount over time. | Q65: 7 | R65: =IF(ISBLANK(EstCOD),2026+Q65,YEAR(EstCOD)+Q65-1) -> 2033 | S65: =IFERROR(VLOOKUP(R65,Tables!$B$22:$C$57,2,FALSE),45) -> 45 | T65: =F69 -> 0 | U65: =IF(G$9="CPEC",IF(S65=0,IF(F69>0,"FAIL",IF(F69*1.0225>S65,"FAIL","PASS")),IF(F69*1.0225>S65,"FAIL","PASS")),"PASS") -> PASS | V65: =IF(T65=0,"PASS",IF(Q65<3,"PASS",IF(ROUND(T65,2)=ROUND(T64*T64/T63,2),"PASS",IF(OR(R65=2033,R65=2034),"PASS","FAIL")))) -> PASS
E66: 4 | Q66: 8 | R66: =IF(ISBLANK(EstCOD),2026+Q66,YEAR(EstCOD)+Q66-1) -> 2034 | S66: =IFERROR(VLOOKUP(R66,Tables!$B$22:$C$57,2,FALSE),45) -> 45 | T66: =F70 -> 0 | U66: =IF(G$9="CPEC",IF(S66=0,IF(F70>0,"FAIL",IF(F70*1.0225>S66,"FAIL","PASS")),IF(F70*1.0225>S66,"FAIL","PASS")),"PASS") -> PASS | V66: =IF(T66=0,"PASS",IF(Q66<3,"PASS",IF(ROUND(T66,2)=ROUND(T65*T65/T64,2),"PASS",IF(OR(R66=2033,R66=2034),"PASS","FAIL")))) -> PASS
E67: 5 | Q67: 9 | R67: =IF(ISBLANK(EstCOD),2026+Q67,YEAR(EstCOD)+Q67-1) -> 2035 | S67: =IFERROR(VLOOKUP(R67,Tables!$B$22:$C$57,2,FALSE),45) -> 45 | T67: =F71 -> 0 | U67: =IF(G$9="CPEC",IF(S67=0,IF(F71>0,"FAIL",IF(F71*1.0225>S67,"FAIL","PASS")),IF(F71*1.0225>S67,"FAIL","PASS")),"PASS") -> PASS | V67: =IF(T67=0,"PASS",IF(Q67<3,"PASS",IF(ROUND(T67,2)=ROUND(T66*T66/T65,2),"PASS",IF(OR(R67=2033,R67=2034),"PASS","FAIL")))) -> PASS
E68: 6 | Q68: 10 | R68: =IF(ISBLANK(EstCOD),2026+Q68,YEAR(EstCOD)+Q68-1) -> 2036 | S68: =IFERROR(VLOOKUP(R68,Tables!$B$22:$C$57,2,FALSE),45) -> 45 | T68: =F72 -> 0 | U68: =IF(G$9="CPEC",IF(S68=0,IF(F72>0,"FAIL",IF(F72*1.0225>S68,"FAIL","PASS")),IF(F72*1.0225>S68,"FAIL","PASS")),"PASS") -> PASS | V68: =IF(T68=0,"PASS",IF(Q68<3,"PASS",IF(ROUND(T68,2)=ROUND(T67*T67/T66,2),"PASS",IF(OR(R68=2033,R68=2034),"PASS","FAIL")))) -> PASS
E69: 7 | Q69: 11 | R69: =IF(ISBLANK(EstCOD),2026+Q69,YEAR(EstCOD)+Q69-1) -> 2037 | S69: =IFERROR(VLOOKUP(R69,Tables!$B$22:$C$57,2,FALSE),45) -> 45 | T69: =F73 -> 0 | U69: =IF(G$9="CPEC",IF(S69=0,IF(F73>0,"FAIL",IF(F73*1.0225>S69,"FAIL","PASS")),IF(F73*1.0225>S69,"FAIL","PASS")),"PASS") -> PASS | V69: =IF(T69=0,"PASS",IF(Q69<3,"PASS",IF(ROUND(T69,2)=ROUND(T68*T68/T67,2),"PASS",IF(OR(R69=2033,R69=2034),"PASS","FAIL")))) -> PASS
E70: 8 | Q70: 12 | R70: =IF(ISBLANK(EstCOD),2026+Q70,YEAR(EstCOD)+Q70-1) -> 2038 | S70: =IFERROR(VLOOKUP(R70,Tables!$B$22:$C$57,2,FALSE),45) -> 45 | T70: =F74 -> 0 | U70: =IF(G$9="CPEC",IF(S70=0,IF(F74>0,"FAIL",IF(F74*1.0225>S70,"FAIL","PASS")),IF(F74*1.0225>S70,"FAIL","PASS")),"PASS") -> PASS | V70: =IF(T70=0,"PASS",IF(Q70<3,"PASS",IF(ROUND(T70,2)=ROUND(T69*T69/T68,2),"PASS",IF(OR(R70=2033,R70=2034),"PASS","FAIL")))) -> PASS
E71: 9 | L71: =IF(COUNTIF(V59:V88,"Fail")>0,"Fail","Pass") -> Pass | Q71: 13 | R71: =IF(ISBLANK(EstCOD),2026+Q71,YEAR(EstCOD)+Q71-1) -> 2039 | S71: =IFERROR(VLOOKUP(R71,Tables!$B$22:$C$57,2,FALSE),45) -> 45 | T71: =F75 -> 0 | U71: =IF(G$9="CPEC",IF(S71=0,IF(F75>0,"FAIL",IF(F75*1.0225>S71,"FAIL","PASS")),IF(F75*1.0225>S71,"FAIL","PASS")),"PASS") -> PASS | V71: =IF(T71=0,"PASS",IF(Q71<3,"PASS",IF(ROUND(T71,2)=ROUND(T70*T70/T69,2),"PASS",IF(OR(R71=2033,R71=2034),"PASS","FAIL")))) -> PASS
E72: 10 | L72: In no single year over the life of the long-term contract can the $/CPEC price be higher than 97.75% of the ACP, as published in the Clean Peak Portfolio Standard Regulation section 225 CMR 21.08(3)(a)2. | Q72: 14 | R72: =IF(ISBLANK(EstCOD),2026+Q72,YEAR(EstCOD)+Q72-1) -> 2040 | S72: =IFERROR(VLOOKUP(R72,Tables!$B$22:$C$57,2,FALSE),45) -> 45 | T72: =F76 -> 0 | U72: =IF(G$9="CPEC",IF(S72=0,IF(F76>0,"FAIL",IF(F76*1.0225>S72,"FAIL","PASS")),IF(F76*1.0225>S72,"FAIL","PASS")),"PASS") -> PASS | V72: =IF(T72=0,"PASS",IF(Q72<3,"PASS",IF(ROUND(T72,2)=ROUND(T71*T71/T70,2),"PASS",IF(OR(R72=2033,R72=2034),"PASS","FAIL")))) -> PASS
E73: 11 | Q73: 15 | R73: =IF(ISBLANK(EstCOD),2026+Q73,YEAR(EstCOD)+Q73-1) -> 2041 | S73: =IFERROR(VLOOKUP(R73,Tables!$B$22:$C$57,2,FALSE),45) -> 45 | T73: =F77 -> 0 | U73: =IF(G$9="CPEC",IF(S73=0,IF(F77>0,"FAIL",IF(F77*1.0225>S73,"FAIL","PASS")),IF(F77*1.0225>S73,"FAIL","PASS")),"PASS") -> PASS | V73: =IF(T73=0,"PASS",IF(Q73<3,"PASS",IF(ROUND(T73,2)=ROUND(T72*T72/T71,2),"PASS",IF(OR(R73=2033,R73=2034),"PASS","FAIL")))) -> PASS
E74: 12 | Q74: 16 | R74: =IF(ISBLANK(EstCOD),2026+Q74,YEAR(EstCOD)+Q74-1) -> 2042 | S74: =IFERROR(VLOOKUP(R74,Tables!$B$22:$C$57,2,FALSE),45) -> 45 | T74: =F78 -> 0 | U74: =IF(G$9="CPEC",IF(S74=0,IF(F78>0,"FAIL",IF(F78*1.0225>S74,"FAIL","PASS")),IF(F78*1.0225>S74,"FAIL","PASS")),"PASS") -> PASS | V74: =IF(T74=0,"PASS",IF(Q74<3,"PASS",IF(ROUND(T74,2)=ROUND(T73*T73/T72,2),"PASS",IF(OR(R74=2033,R74=2034),"PASS","FAIL")))) -> PASS
E75: 13 | Q75: 17 | R75: =IF(ISBLANK(EstCOD),2026+Q75,YEAR(EstCOD)+Q75-1) -> 2043 | S75: =IFERROR(VLOOKUP(R75,Tables!$B$22:$C$57,2,FALSE),45) -> 45 | T75: =F79 -> 0 | U75: =IF(G$9="CPEC",IF(S75=0,IF(F79>0,"FAIL",IF(F79*1.0225>S75,"FAIL","PASS")),IF(F79*1.0225>S75,"FAIL","PASS")),"PASS") -> PASS | V75: =IF(T75=0,"PASS",IF(Q75<3,"PASS",IF(ROUND(T75,2)=ROUND(T74*T74/T73,2),"PASS",IF(OR(R75=2033,R75=2034),"PASS","FAIL")))) -> PASS
E76: 14 | Q76: 18 | R76: =IF(ISBLANK(EstCOD),2026+Q76,YEAR(EstCOD)+Q76-1) -> 2044 | S76: =IFERROR(VLOOKUP(R76,Tables!$B$22:$C$57,2,FALSE),45) -> 45 | T76: =F80 -> 0 | U76: =IF(G$9="CPEC",IF(S76=0,IF(F80>0,"FAIL",IF(F80*1.0225>S76,"FAIL","PASS")),IF(F80*1.0225>S76,"FAIL","PASS")),"PASS") -> PASS | V76: =IF(T76=0,"PASS",IF(Q76<3,"PASS",IF(ROUND(T76,2)=ROUND(T75*T75/T74,2),"PASS",IF(OR(R76=2033,R76=2034),"PASS","FAIL")))) -> PASS
E77: 15 | Q77: 19 | R77: =IF(ISBLANK(EstCOD),2026+Q77,YEAR(EstCOD)+Q77-1) -> 2045 | S77: =IFERROR(VLOOKUP(R77,Tables!$B$22:$C$57,2,FALSE),45) -> 45 | T77: =F81 -> 0 | U77: =IF(G$9="CPEC",IF(S77=0,IF(F81>0,"FAIL",IF(F81*1.0225>S77,"FAIL","PASS")),IF(F81*1.0225>S77,"FAIL","PASS")),"PASS") -> PASS | V77: =IF(T77=0,"PASS",IF(Q77<3,"PASS",IF(ROUND(T77,2)=ROUND(T76*T76/T75,2),"PASS",IF(OR(R77=2033,R77=2034),"PASS","FAIL")))) -> PASS
E78: 16 | L78: =IF(COUNTIF(U59:U88,"Fail")>0,"Fail","Pass") -> Pass | Q78: 20 | R78: =IF(ISBLANK(EstCOD),2026+Q78,YEAR(EstCOD)+Q78-1) -> 2046 | S78: =IFERROR(VLOOKUP(R78,Tables!$B$22:$C$57,2,FALSE),45) -> 45 | T78: =F82 -> 0 | U78: =IF(G$9="CPEC",IF(S78=0,IF(F82>0,"FAIL",IF(F82*1.0225>S78,"FAIL","PASS")),IF(F82*1.0225>S78,"FAIL","PASS")),"PASS") -> PASS | V78: =IF(T78=0,"PASS",IF(Q78<3,"PASS",IF(ROUND(T78,2)=ROUND(T77*T77/T76,2),"PASS",IF(OR(R78=2033,R78=2034),"PASS","FAIL")))) -> PASS
E79: 17 | Q79: 21 | R79: =IF(ISBLANK(EstCOD),2026+Q79,YEAR(EstCOD)+Q79-1) -> 2047 | S79: =IFERROR(VLOOKUP(R79,Tables!$B$22:$C$57,2,FALSE),45) -> 45 | T79: =F83 -> 0 | U79: =IF(G$9="CPEC",IF(S79=0,IF(F83>0,"FAIL",IF(F83*1.0225>S79,"FAIL","PASS")),IF(F83*1.0225>S79,"FAIL","PASS")),"PASS") -> PASS | V79: =IF(T79=0,"PASS",IF(Q79<3,"PASS",IF(ROUND(T79,2)=ROUND(T78*T78/T77,2),"PASS",IF(OR(R79=2033,R79=2034),"PASS","FAIL")))) -> PASS
E80: 18 | Q80: 22 | R80: =IF(ISBLANK(EstCOD),2026+Q80,YEAR(EstCOD)+Q80-1) -> 2048 | S80: =IFERROR(VLOOKUP(R80,Tables!$B$22:$C$57,2,FALSE),45) -> 45 | T80: =F84 -> 0 | U80: =IF(G$9="CPEC",IF(S80=0,IF(F84>0,"FAIL",IF(F84*1.0225>S80,"FAIL","PASS")),IF(F84*1.0225>S80,"FAIL","PASS")),"PASS") -> PASS | V80: =IF(T80=0,"PASS",IF(Q80<3,"PASS",IF(ROUND(T80,2)=ROUND(T79*T79/T78,2),"PASS",IF(OR(R80=2033,R80=2034),"PASS","FAIL")))) -> PASS
E81: 19 | Q81: 23 | R81: =IF(ISBLANK(EstCOD),2026+Q81,YEAR(EstCOD)+Q81-1) -> 2049 | S81: =IFERROR(VLOOKUP(R81,Tables!$B$22:$C$57,2,FALSE),45) -> 45 | T81: =F85 -> 0 | U81: =IF(G$9="CPEC",IF(S81=0,IF(F85>0,"FAIL",IF(F85*1.0225>S81,"FAIL","PASS")),IF(F85*1.0225>S81,"FAIL","PASS")),"PASS") -> PASS | V81: =IF(T81=0,"PASS",IF(Q81<3,"PASS",IF(ROUND(T81,2)=ROUND(T80*T80/T79,2),"PASS",IF(OR(R81=2033,R81=2034),"PASS","FAIL")))) -> PASS
E82: 20 | Q82: 24 | R82: =IF(ISBLANK(EstCOD),2026+Q82,YEAR(EstCOD)+Q82-1) -> 2050 | S82: =IFERROR(VLOOKUP(R82,Tables!$B$22:$C$57,2,FALSE),45) -> 45 | T82: =F86 -> 0 | U82: =IF(G$9="CPEC",IF(S82=0,IF(F86>0,"FAIL",IF(F86*1.0225>S82,"FAIL","PASS")),IF(F86*1.0225>S82,"FAIL","PASS")),"PASS") -> PASS | V82: =IF(T82=0,"PASS",IF(Q82<3,"PASS",IF(ROUND(T82,2)=ROUND(T81*T81/T80,2),"PASS",IF(OR(R82=2033,R82=2034),"PASS","FAIL")))) -> PASS
E83: 21 | Q83: 25 | R83: =IF(ISBLANK(EstCOD),2026+Q83,YEAR(EstCOD)+Q83-1) -> 2051 | S83: =IFERROR(VLOOKUP(R83,Tables!$B$22:$C$57,2,FALSE),45) -> 0 | T83: =F87 -> 0 | U83: =IF(G$9="CPEC",IF(S83=0,IF(F87>0,"FAIL",IF(F87*1.0225>S83,"FAIL","PASS")),IF(F87*1.0225>S83,"FAIL","PASS")),"PASS") -> PASS | V83: =IF(T83=0,"PASS",IF(Q83<3,"PASS",IF(ROUND(T83,2)=ROUND(T82*T82/T81,2),"PASS",IF(OR(R83=2033,R83=2034),"PASS","FAIL")))) -> PASS
E84: 22 | Q84: 26 | R84: =IF(ISBLANK(EstCOD),2026+Q84,YEAR(EstCOD)+Q84-1) -> 2052 | S84: =IFERROR(VLOOKUP(R84,Tables!$B$22:$C$57,2,FALSE),45) -> 0 | T84: =F88 -> 0 | U84: =IF(G$9="CPEC",IF(S84=0,IF(F88>0,"FAIL",IF(F88*1.0225>S84,"FAIL","PASS")),IF(F88*1.0225>S84,"FAIL","PASS")),"PASS") -> PASS | V84: =IF(T84=0,"PASS",IF(Q84<3,"PASS",IF(ROUND(T84,2)=ROUND(T83*T83/T82,2),"PASS",IF(OR(R84=2033,R84=2034),"PASS","FAIL")))) -> PASS
E85: 23 | Q85: 27 | R85: =IF(ISBLANK(EstCOD),2026+Q85,YEAR(EstCOD)+Q85-1) -> 2053 | S85: =IFERROR(VLOOKUP(R85,Tables!$B$22:$C$57,2,FALSE),45) -> 0 | T85: =F89 -> 0 | U85: =IF(G$9="CPEC",IF(S85=0,IF(F89>0,"FAIL",IF(F89*1.0225>S85,"FAIL","PASS")),IF(F89*1.0225>S85,"FAIL","PASS")),"PASS") -> PASS | V85: =IF(T85=0,"PASS",IF(Q85<3,"PASS",IF(ROUND(T85,2)=ROUND(T84*T84/T83,2),"PASS",IF(OR(R85=2033,R85=2034),"PASS","FAIL")))) -> PASS
E86: 24 | Q86: 28 | R86: =IF(ISBLANK(EstCOD),2026+Q86,YEAR(EstCOD)+Q86-1) -> 2054 | S86: =IFERROR(VLOOKUP(R86,Tables!$B$22:$C$57,2,FALSE),45) -> 0 | T86: =F90 -> 0 | U86: =IF(G$9="CPEC",IF(S86=0,IF(F90>0,"FAIL",IF(F90*1.0225>S86,"FAIL","PASS")),IF(F90*1.0225>S86,"FAIL","PASS")),"PASS") -> PASS | V86: =IF(T86=0,"PASS",IF(Q86<3,"PASS",IF(ROUND(T86,2)=ROUND(T85*T85/T84,2),"PASS",IF(OR(R86=2033,R86=2034),"PASS","FAIL")))) -> PASS
E87: 25 | Q87: 29 | R87: =IF(ISBLANK(EstCOD),2026+Q87,YEAR(EstCOD)+Q87-1) -> 2055 | S87: =IFERROR(VLOOKUP(R87,Tables!$B$22:$C$57,2,FALSE),45) -> 0 | T87: =F91 -> 0 | U87: =IF(G$9="CPEC",IF(S87=0,IF(F91>0,"FAIL",IF(F91*1.0225>S87,"FAIL","PASS")),IF(F91*1.0225>S87,"FAIL","PASS")),"PASS") -> PASS | V87: =IF(T87=0,"PASS",IF(Q87<3,"PASS",IF(ROUND(T87,2)=ROUND(T86*T86/T85,2),"PASS",IF(OR(R87=2033,R87=2034),"PASS","FAIL")))) -> PASS
E88: 26 | Q88: 30 | R88: =IF(ISBLANK(EstCOD),2026+Q88,YEAR(EstCOD)+Q88-1) -> 2056 | S88: =IFERROR(VLOOKUP(R88,Tables!$B$22:$C$57,2,FALSE),45) -> 0 | T88: =F92 -> 0 | U88: =IF(G$9="CPEC",IF(S88=0,IF(F92>0,"FAIL",IF(F92*1.0225>S88,"FAIL","PASS")),IF(F92*1.0225>S88,"FAIL","PASS")),"PASS") -> PASS | V88: =IF(T88=0,"PASS",IF(Q88<3,"PASS",IF(ROUND(T88,2)=ROUND(T87*T87/T86,2),"PASS",IF(OR(R88=2033,R88=2034),"PASS","FAIL")))) -> PASS
E89: 27
E90: 28
E91: 29
E92: 30

Sheet Part VII (Phase 1)
B1: =IF('Part IV'!J8="Yes","Storage Energy System - Phase 1 ONLY","Storage Energy System") -> Storage Energy System
B2: ="Version: " & Version -> Version: RD2 FINAL
H3: Part VII (a) | R3: =IF(S3<T2*12,"<<< Information may be Required. Refer to Notes below.","")
H4: Environmental Attribute Delivery Schedule
C5: Project Title | E5: =IF(ProjTitle="","Auto-Filled",ProjTitle) -> Auto-Filled
D7: EXPECTED STORAGE CLEAN PEAK ENERGY CERTIFICATES (CPECs) TO BE DELIVERED UNDER THE LONG-TERM CONTRACT - Representative Month for Each Year
D9: 1 | E9: 2 | F9: 3 | G9: 4 | H9: 5 | I9: 6 | J9: 7 | K9: 8 | L9: 9 | M9: 10 | N9: 11 | O9: 12 | S9: Max Term | T9: ='Part VI'!$G$11 -> 0
C10: Year | D10: Jan | E10: Feb | F10: Mar | G10: Apr | H10: May | I10: Jun | J10: Jul | K10: Aug | L10: Sep | M10: Oct | N10: Nov | O10: Dec | S10: =COUNT(D11:O41) -> 0
C11: =IF(ISBLANK(EstCOD),1,YEAR(EstCOD)) -> 1 | R11: =IF(AND(_xlfn.XLOOKUP(0.1,D11:O11,D9:O9,-10,1,1)=MONTH(EstCOD),'Part VII (Phase 1)'!C11=YEAR(EstCOD)),"","<<< Information may be required. Refer to Notes below. Please confirm CPEC schedule alings with COD or contract service term start date.") -> <<< Information may be required. Refer to Notes below. Please confirm CPEC schedule alings with COD or contract service term start date.
C12: =C11+1 -> 2 | R12: =IF(S10<T9*12,"<<< Information may be Required. Refer to Notes below.",IF(S10>T9*12,"<<< CPEC Delivery Term exceeds Contract Services Term as entered in Part VI.",""))
C13: =C12+1 -> 3 | S13: ="Version " & Version -> Version RD2 FINAL
C14: =C13+1 -> 4 | S14: Part VII (a) (i)
C15: =C14+1 -> 5 | S15: Actual Monthly System Peak Multiplier Assumptions
C16: =C15+1 -> 6
C17: =C16+1 -> 7
C18: =C17+1 -> 8
C19: =C18+1 -> 9
C20: =C19+1 -> 10 | T20: Period | U20: System Peak Assumption (%)
C21: =C20+1 -> 11
C22: =C21+1 -> 12 | T22: Jan | W22: =IF(U22="","<<< Required Information","") -> <<< Required Information
C23: =C22+1 -> 13 | T23: Feb | W23: =IF(U23="","<<< Required Information","") -> <<< Required Information
C24: =C23+1 -> 14 | T24: Mar | W24: =IF(U24="","<<< Required Information","") -> <<< Required Information
C25: =C24+1 -> 15 | T25: Apr | W25: =IF(U25="","<<< Required Information","") -> <<< Required Information
C26: =C25+1 -> 16 | T26: May (1x) | W26: =IF(U26="","<<< Required Information",IF(SUM(U26:U27)>100,"Cannot exceed 100% for May","")) -> <<< Required Information
C27: =C26+1 -> 17 | T27: May (4x) | W27: =IF(U27="","<<< Required Information","") -> <<< Required Information
C28: =C27+1 -> 18 | T28: Jun | W28: =IF(U28="","<<< Required Information","") -> <<< Required Information
C29: =C28+1 -> 19 | T29: Jul | W29: =IF(U29="","<<< Required Information","") -> <<< Required Information
C30: =C29+1 -> 20 | T30: Aug | W30: =IF(U30="","<<< Required Information","") -> <<< Required Information
C31: =C30+1 -> 21 | T31: Sep (4x) | W31: =IF(U30="","<<< Required Information",IF(SUM(U31:U32)>100,"Cannot exceed 100% for September","")) -> <<< Required Information
C32: =C31+1 -> 22 | T32: Sep (1x) | W32: =IF(U32="","<<< Required Information","") -> <<< Required Information
C33: =C32+1 -> 23 | T33: Oct | W33: =IF(U33="","<<< Required Information","") -> <<< Required Information
C34: =C33+1 -> 24 | T34: Nov | W34: =IF(U34="","<<< Required Information","") -> <<< Required Information
C35: =C34+1 -> 25 | T35: Dec | W35: =IF(U35="","<<< Required Information","") -> <<< Required Information
C36: =C35+1 -> 26
C37: =C36+1 -> 27
C38: =C37+1 -> 28
C39: =C38+1 -> 29
C40: =C39+1 -> 30 | S40: For conditional formatting in Part VII (a)
C41: =C40+1 -> 31 | S41: {=TRANSPOSE(D76:D88)} -> Month | T41: January | U41: February | V41: March | W41: April | X41: May | Y41: June | Z41: July | AA41: August | AB41: September | AC41: October | AD41: November | AE41: December
C42: IMPORTANT: These CPECS are for specific months and calendar years. The first entry must coincide with the project start date or contract service term start date. Cells with red background exceed the Contract Maximum Amount as calculated below. | S42: {=TRANSPOSE(G76:G88)} -> CMA after 10 years* | T42: 0 | U42: 0 | V42: 0 | W42: 0 | X42: 0 | Y42: 0 | Z42: 0 | AA42: 0 | AB42: 0 | AC42: 0 | AD42: 0 | AE42: 0
S43: {=TRANSPOSE(E76:E88)} -> CMA | T43: 0 | U43: 0 | V43: 0 | W43: 0 | X43: 0 | Y43: 0 | Z43: 0 | AA43: 0 | AB43: 0 | AC43: 0 | AD43: 0 | AE43: 0
R53: =IF(C53="","<<< Required Information","") -> <<< Required Information
B59: ="Version " & Version -> Version RD2 FINAL | P59: ="Version " & Version -> Version RD2 FINAL
B60: Part VII (b) | P60: Part VII (b) (i)
B61: Contract Maximum Amount | P61: Contract Maximum Amount Calculator - No Input Required
Q63: Project Title | S63: =IF(ProjTitle="","Auto-Filled",ProjTitle) -> Auto-Filled | AD63: =IF(S63="","<<< Enter Information in Part II","")
C64: Project Title | F64: =IF(ProjTitle="","Auto-Filled",ProjTitle) -> Auto-Filled | L64: =IF(B64="","<<< Enter Information in Part II","") -> <<< Enter Information in Part II
Q65: Seasonal CPECs
D66: Environmental Attribute Product: | H66: =IF('Part III'!J21="","Auto-Filled",'Part III'!J21) -> Auto-Filled | L66: =IF(H66="Auto-Filled","<<< Enter Information in Part III","") -> <<< Enter Information in Part III | Q66: Month | R66: Days | S66: Weekend Days | T66: Holidays | U66: Max Business days | V66: Seasonal Multiplier | W66: =IF(DxMult="DCM","Distribution Circuit Multiplier",IF(DxMult="NTRM","Near-term Resource Multiplier","No Additional Multipliers")) -> No Additional Multipliers | Y66: 4 hours CPS window | Z66: CPECs | AB66: CPECs after year 10
Q67: January | R67: 31 | S67: 8 | T67: 2 | U67: =R67-S67-T67 -> 21 | V67: 4 | W67: =IF(OR(DxMult="DCM",DxMult="NTRM"),2,1) -> 1 | Y67: 4 | Z67: =IFERROR(Y67*V67*U67*($H$68-DxMultReservedMW)*$H$70/100,0)+IFERROR(W67*Y67*V67*U67*(DxMultReservedMW)*$H$70/100,0) -> 0 | AB67: =IFERROR(Y67*V67*U67*$H$68*$H$70/100,0) -> 0
G68: Capacity of the proposal (MW), Delivered | H68: =IF(CapNet="","Auto-Filled",CapNet) -> Auto-Filled | I68: MW | L68: =IF(H68="Auto-Filled","<<< Enter Information in Part IV","") -> <<< Enter Information in Part IV | Q68: February | R68: 29 | S68: 8 | T68: 1 | U68: =R68-S68-T68 -> 20 | V68: 4 | W68: =IF(OR(DxMult="DCM",DxMult="NTRM"),2,1) -> 1 | Y68: =Y67 -> 4 | Z68: =IFERROR(Y68*V68*U68*($H$68-DxMultReservedMW)*$H$70/100,0)+IFERROR(W68*Y68*V68*U68*(DxMultReservedMW)*$H$70/100,0) -> 0 | AB68: =IFERROR(Y68*V68*U68*$H$68*$H$70/100,0) -> 0
Q69: March | R69: 31 | S69: 8 | T69: 0 | U69: =R69-S69-T69 -> 23 | V69: 1 | W69: =IF(OR(DxMult="DCM",DxMult="NTRM"),2,1) -> 1 | Y69: =Y68 -> 4 | Z69: =IFERROR(Y69*V69*U69*($H$68-DxMultReservedMW)*$H$70/100,0)+IFERROR(W69*Y69*V69*U69*(DxMultReservedMW)*$H$70/100,0) -> 0 | AB69: =IFERROR(Y69*V69*U69*$H$68*$H$70/100,0) -> 0
G70: Buyers' Percentage Entitlement of facility output | H70: =IF(PctEnt="","Auto-Filled",PctEnt) -> Auto-Filled | I70: % | L70: =IF(H70="Auto-Filled","<<< Enter Information in Part IV","") -> <<< Enter Information in Part IV | Q70: April | R70: 30 | S70: 8 | T70: 1 | U70: =R70-S70-T70 -> 21 | V70: 1 | W70: =IF(OR(DxMult="DCM",DxMult="NTRM"),2,1) -> 1 | Y70: =Y69 -> 4 | Z70: =IFERROR(Y70*V70*U70*($H$68-DxMultReservedMW)*$H$70/100,0)+IFERROR(W70*Y70*V70*U70*(DxMultReservedMW)*$H$70/100,0) -> 0 | AB70: =IFERROR(Y70*V70*U70*$H$68*$H$70/100,0) -> 0
Q71: May | R71: 14 | S71: 4 | T71: 0 | U71: =R71-S71-T71 -> 10 | V71: 1 | W71: =IF(OR(DxMult="DCM",DxMult="NTRM"),2,1) -> 1 | Y71: =Y70 -> 4 | Z71: =IFERROR(Y71*V71*U71*($H$68-DxMultReservedMW)*$H$70/100,0)+IFERROR(W71*Y71*V71*U71*(DxMultReservedMW)*$H$70/100,0) -> 0 | AB71: =IFERROR(Y71*V71*U71*$H$68*$H$70/100,0) -> 0
D72: Confirm the below Contract Maximum Amount, as defined in form LTC | Q72: May | R72: 17 | S72: 4 | T72: 1 | U72: =R72-S72-T72 -> 12 | V72: 4 | W72: =IF(OR(DxMult="DCM",DxMult="NTRM"),2,1) -> 1 | Y72: =Y71 -> 4 | Z72: =IFERROR(Y72*V72*U72*($H$68-DxMultReservedMW)*$H$70/100,0)+IFERROR(W72*Y72*V72*U72*(DxMultReservedMW)*$H$70/100,0) -> 0 | AB72: =IFERROR(Y72*V72*U72*$H$68*$H$70/100,0) -> 0
L73: =IF(H73="","<<< Required Confirmation","") -> <<< Required Confirmation | Q73: June | R73: 30 | S73: 8 | T73: 1 | U73: =R73-S73-T73 -> 21 | V73: 4 | W73: =IF(OR(DxMult="DCM",DxMult="NTRM"),2,1) -> 1 | Y73: =Y72 -> 4 | Z73: =IFERROR(Y73*V73*U73*($H$68-DxMultReservedMW)*$H$70/100,0)+IFERROR(W73*Y73*V73*U73*(DxMultReservedMW)*$H$70/100,0) -> 0 | AB73: =IFERROR(Y73*V73*U73*$H$68*$H$70/100,0) -> 0
Q74: July | R74: 31 | S74: 8 | T74: 1 | U74: =R74-S74-T74 -> 22 | V74: 4 | W74: =IF(OR(DxMult="DCM",DxMult="NTRM"),2,1) -> 1 | Y74: =Y73 -> 4 | Z74: =IFERROR(Y74*V74*U74*($H$68-DxMultReservedMW)*$H$70/100,0)+IFERROR(W74*Y74*V74*U74*(DxMultReservedMW)*$H$70/100,0) -> 0 | AB74: =IFERROR(Y74*V74*U74*$H$68*$H$70/100,0) -> 0
D75: Contract Maximum Amount | Q75: August | R75: 31 | S75: 8 | T75: 0 | U75: =R75-S75-T75 -> 23 | V75: 4 | W75: =IF(OR(DxMult="DCM",DxMult="NTRM"),2,1) -> 1 | Y75: =Y74 -> 4 | Z75: =IFERROR(Y75*V75*U75*($H$68-DxMultReservedMW)*$H$70/100,0)+IFERROR(W75*Y75*V75*U75*(DxMultReservedMW)*$H$70/100,0) -> 0 | AB75: =IFERROR(Y75*V75*U75*$H$68*$H$70/100,0) -> 0
D76: Month | E76: CMA | G76: CMA after 10 years* | Q76: September | R76: 14 | S76: 4 | T76: 1 | U76: =R76-S76-T76 -> 9 | V76: 4 | W76: =IF(OR(DxMult="DCM",DxMult="NTRM"),2,1) -> 1 | Y76: =Y75 -> 4 | Z76: =IFERROR(Y76*V76*U76*($H$68-DxMultReservedMW)*$H$70/100,0)+IFERROR(W76*Y76*V76*U76*(DxMultReservedMW)*$H$70/100,0) -> 0 | AB76: =IFERROR(Y76*V76*U76*$H$68*$H$70/100,0) -> 0
D77: January | E77: =ROUNDDOWN(SUMIF(Q$67:Q$80,D77,Z$85:Z$98)+SUMIF(Q$85:Q$98,D77,Z$67:Z$80),0) -> 0 | G77: =ROUNDDOWN(SUMIF(Q$67:Q$80,D77,AB$85:AB$98)+SUMIF(Q$85:Q$98,D77,AB$67:AB$80),0) -> 0 | Q77: September | R77: 16 | S77: 4 | T77: 0 | U77: =R77-S77-T77 -> 12 | V77: 1 | W77: =IF(OR(DxMult="DCM",DxMult="NTRM"),2,1) -> 1 | Y77: =Y76 -> 4 | Z77: =IFERROR(Y77*V77*U77*($H$68-DxMultReservedMW)*$H$70/100,0)+IFERROR(W77*Y77*V77*U77*(DxMultReservedMW)*$H$70/100,0) -> 0 | AB77: =IFERROR(Y77*V77*U77*$H$68*$H$70/100,0) -> 0
D78: February | E78: =ROUNDDOWN(SUMIF(Q$67:Q$80,D78,Z$85:Z$98)+SUMIF(Q$85:Q$98,D78,Z$67:Z$80),0) -> 0 | G78: =ROUNDDOWN(SUMIF(Q$67:Q$80,D78,AB$85:AB$98)+SUMIF(Q$85:Q$98,D78,AB$67:AB$80),0) -> 0 | Q78: October | R78: 31 | S78: 8 | T78: 1 | U78: =R78-S78-T78 -> 22 | V78: 1 | W78: =IF(OR(DxMult="DCM",DxMult="NTRM"),2,1) -> 1 | Y78: =Y77 -> 4 | Z78: =IFERROR(Y78*V78*U78*($H$68-DxMultReservedMW)*$H$70/100,0)+IFERROR(W78*Y78*V78*U78*(DxMultReservedMW)*$H$70/100,0) -> 0 | AB78: =IFERROR(Y78*V78*U78*$H$68*$H$70/100,0) -> 0
D79: March | E79: =ROUNDDOWN(SUMIF(Q$67:Q$80,D79,Z$85:Z$98)+SUMIF(Q$85:Q$98,D79,Z$67:Z$80),0) -> 0 | G79: =ROUNDDOWN(SUMIF(Q$67:Q$80,D79,AB$85:AB$98)+SUMIF(Q$85:Q$98,D79,AB$67:AB$80),0) -> 0 | Q79: November | R79: 30 | S79: 8 | T79: 2 | U79: =R79-S79-T79 -> 20 | V79: 1 | W79: =IF(OR(DxMult="DCM",DxMult="NTRM"),2,1) -> 1 | Y79: =Y78 -> 4 | Z79: =IFERROR(Y79*V79*U79*($H$68-DxMultReservedMW)*$H$70/100,0)+IFERROR(W79*Y79*V79*U79*(DxMultReservedMW)*$H$70/100,0) -> 0 | AB79: =IFERROR(Y79*V79*U79*$H$68*$H$70/100,0) -> 0
D80: April | E80: =ROUNDDOWN(SUMIF(Q$67:Q$80,D80,Z$85:Z$98)+SUMIF(Q$85:Q$98,D80,Z$67:Z$80),0) -> 0 | G80: =ROUNDDOWN(SUMIF(Q$67:Q$80,D80,AB$85:AB$98)+SUMIF(Q$85:Q$98,D80,AB$67:AB$80),0) -> 0 | Q80: December | R80: 31 | S80: 8 | T80: 1 | U80: =R80-S80-T80 -> 22 | V80: 4 | W80: =IF(OR(DxMult="DCM",DxMult="NTRM"),2,1) -> 1 | Y80: =Y79 -> 4 | Z80: =IFERROR(Y80*V80*U80*($H$68-DxMultReservedMW)*$H$70/100,0)+IFERROR(W80*Y80*V80*U80*(DxMultReservedMW)*$H$70/100,0) -> 0 | AB80: =IFERROR(Y80*V80*U80*$H$68*$H$70/100,0) -> 0
D81: May | E81: =ROUNDDOWN(SUMIF(Q$67:Q$80,D81,Z$85:Z$98)+SUMIF(Q$85:Q$98,D81,Z$67:Z$80),0) -> 0 | G81: =ROUNDDOWN(SUMIF(Q$67:Q$80,D81,AB$85:AB$98)+SUMIF(Q$85:Q$98,D81,AB$67:AB$80),0) -> 0
D82: June | E82: =ROUNDDOWN(SUMIF(Q$67:Q$80,D82,Z$85:Z$98)+SUMIF(Q$85:Q$98,D82,Z$67:Z$80),0) -> 0 | G82: =ROUNDDOWN(SUMIF(Q$67:Q$80,D82,AB$85:AB$98)+SUMIF(Q$85:Q$98,D82,AB$67:AB$80),0) -> 0 | T82: Max Business days
D83: July | E83: =ROUNDDOWN(SUMIF(Q$67:Q$80,D83,Z$85:Z$98)+SUMIF(Q$85:Q$98,D83,Z$67:Z$80),0) -> 0 | G83: =ROUNDDOWN(SUMIF(Q$67:Q$80,D83,AB$85:AB$98)+SUMIF(Q$85:Q$98,D83,AB$67:AB$80),0) -> 0 | Q83: Actual Peak CPECs
D84: August | E84: =ROUNDDOWN(SUMIF(Q$67:Q$80,D84,Z$85:Z$98)+SUMIF(Q$85:Q$98,D84,Z$67:Z$80),0) -> 0 | G84: =ROUNDDOWN(SUMIF(Q$67:Q$80,D84,AB$85:AB$98)+SUMIF(Q$85:Q$98,D84,AB$67:AB$80),0) -> 0 | Q84: Month | R84: Days | S84: Weekend Days | U84: Seasonal Multiplier | V84: Actual Peak Multiplier | W84: =W66 -> No Additional Multipliers | Y84: Actual Peak Hour | Z84: CPECs | AB84: CPECs after year 10
D85: September | E85: =ROUNDDOWN(SUMIF(Q$67:Q$80,D85,Z$85:Z$98)+SUMIF(Q$85:Q$98,D85,Z$67:Z$80),0) -> 0 | G85: =ROUNDDOWN(SUMIF(Q$67:Q$80,D85,AB$85:AB$98)+SUMIF(Q$85:Q$98,D85,AB$67:AB$80),0) -> 0 | Q85: January | R85: 1 | S85: 0 | T85: =R85-S85 -> 1 | U85: 4 | V85: 25 | W85: =IF(OR(DxMult="DCM",DxMult="NTRM"),2,1) -> 1 | Y85: 1 | Z85: =IFERROR((Y85*U85*T85*(V85-1))*($H$68-DxMultReservedMW)*$H$70/100,0)+IFERROR((W85*Y85*U85*T85*(V85-1))*(DxMultReservedMW)*$H$70/100,0) -> 0 | AB85: =IFERROR((Y85*U85*T85*(V85-1))*($H$68)*$H$70/100,0) -> 0
D86: October | E86: =ROUNDDOWN(SUMIF(Q$67:Q$80,D86,Z$85:Z$98)+SUMIF(Q$85:Q$98,D86,Z$67:Z$80),0) -> 0 | G86: =ROUNDDOWN(SUMIF(Q$67:Q$80,D86,AB$85:AB$98)+SUMIF(Q$85:Q$98,D86,AB$67:AB$80),0) -> 0 | Q86: February | R86: 1 | S86: 0 | T86: =R86-S86 -> 1 | U86: 4 | V86: =V85 -> 25 | W86: =IF(OR(DxMult="DCM",DxMult="NTRM"),2,1) -> 1 | Y86: =Y85 -> 1 | Z86: =IFERROR((Y86*U86*T86*(V86-1))*($H$68-DxMultReservedMW)*$H$70/100,0)+IFERROR((W86*Y86*U86*T86*(V86-1))*(DxMultReservedMW)*$H$70/100,0) -> 0 | AB86: =IFERROR((Y86*U86*T86*(V86-1))*($H$68)*$H$70/100,0) -> 0
D87: November | E87: =ROUNDDOWN(SUMIF(Q$67:Q$80,D87,Z$85:Z$98)+SUMIF(Q$85:Q$98,D87,Z$67:Z$80),0) -> 0 | G87: =ROUNDDOWN(SUMIF(Q$67:Q$80,D87,AB$85:AB$98)+SUMIF(Q$85:Q$98,D87,AB$67:AB$80),0) -> 0 | Q87: March | R87: 1 | S87: 0 | T87: =R87-S87 -> 1 | U87: 1 | V87: =V86 -> 25 | W87: =IF(OR(DxMult="DCM",DxMult="NTRM"),2,1) -> 1 | Y87: =Y86 -> 1 | Z87: =IFERROR((Y87*U87*T87*(V87-1))*($H$68-DxMultReservedMW)*$H$70/100,0)+IFERROR((W87*Y87*U87*T87*(V87-1))*(DxMultReservedMW)*$H$70/100,0) -> 0 | AB87: =IFERROR((Y87*U87*T87*(V87-1))*($H$68)*$H$70/100,0) -> 0
D88: December | E88: =ROUNDDOWN(SUMIF(Q$67:Q$80,D88,Z$85:Z$98)+SUMIF(Q$85:Q$98,D88,Z$67:Z$80),0) -> 0 | G88: =ROUNDDOWN(SUMIF(Q$67:Q$80,D88,AB$85:AB$98)+SUMIF(Q$85:Q$98,D88,AB$67:AB$80),0) -> 0 | Q88: April | R88: 1 | S88: 0 | T88: =R88-S88 -> 1 | U88: 1 | V88: =V87 -> 25 | W88: =IF(OR(DxMult="DCM",DxMult="NTRM"),2,1) -> 1 | Y88: =Y87 -> 1 | Z88: =IFERROR((Y88*U88*T88*(V88-1))*($H$68-DxMultReservedMW)*$H$70/100,0)+IFERROR((W88*Y88*U88*T88*(V88-1))*(DxMultReservedMW)*$H$70/100,0) -> 0 | AB88: =IFERROR((Y88*U88*T88*(V88-1))*($H$68)*$H$70/100,0) -> 0
Q89: May | R89: 0 | S89: 0 | T89: =R89-S89 -> 0 | U89: 1 | V89: =V88 -> 25 | W89: =IF(OR(DxMult="DCM",DxMult="NTRM"),2,1) -> 1 | Y89: =Y88 -> 1 | Z89: =IFERROR((Y89*U89*T89*(V89-1))*($H$68-DxMultReservedMW)*$H$70/100,0)+IFERROR((W89*Y89*U89*T89*(V89-1))*(DxMultReservedMW)*$H$70/100,0) -> 0 | AB89: =IFERROR((Y89*U89*T89*(V89-1))*($H$68)*$H$70/100,0) -> 0
C90: Contract Maximum Amount by Buyer | Q90: May | R90: 1 | S90: 0 | T90: =R90-S90 -> 1 | U90: 4 | V90: =V89 -> 25 | W90: =IF(OR(DxMult="DCM",DxMult="NTRM"),2,1) -> 1 | Y90: =Y89 -> 1 | Z90: =IFERROR((Y90*U90*T90*(V90-1))*($H$68-DxMultReservedMW)*$H$70/100,0)+IFERROR((W90*Y90*U90*T90*(V90-1))*(DxMultReservedMW)*$H$70/100,0) -> 0 | AB90: =IFERROR((Y90*U90*T90*(V90-1))*($H$68)*$H$70/100,0) -> 0
D91: CMA | H91: CMA after 10 years* | Q91: June | R91: 1 | S91: 0 | T91: =R91-S91 -> 1 | U91: 4 | V91: =V90 -> 25 | W91: =IF(OR(DxMult="DCM",DxMult="NTRM"),2,1) -> 1 | Y91: =Y90 -> 1 | Z91: =IFERROR((Y91*U91*T91*(V91-1))*($H$68-DxMultReservedMW)*$H$70/100,0)+IFERROR((W91*Y91*U91*T91*(V91-1))*(DxMultReservedMW)*$H$70/100,0) -> 0 | AB91: =IFERROR((Y91*U91*T91*(V91-1))*($H$68)*$H$70/100,0) -> 0
C92: Month | D92: Eversource | E92: National Grid | F92: Unitil | H92: Eversource | I92: National Grid | J92: Unitil | Q92: July | R92: 1 | S92: 0 | T92: =R92-S92 -> 1 | U92: 4 | V92: =V91 -> 25 | W92: =IF(OR(DxMult="DCM",DxMult="NTRM"),2,1) -> 1 | Y92: =Y91 -> 1 | Z92: =IFERROR((Y92*U92*T92*(V92-1))*($H$68-DxMultReservedMW)*$H$70/100,0)+IFERROR((W92*Y92*U92*T92*(V92-1))*(DxMultReservedMW)*$H$70/100,0) -> 0 | AB92: =IFERROR((Y92*U92*T92*(V92-1))*($H$68)*$H$70/100,0) -> 0
C93: January | D93: =ROUNDDOWN($E77*0.5326,0) -> 0 | E93: =ROUNDDOWN($E77*0.4575,0) -> 0 | F93: =ROUNDDOWN($E77*0.0099,0) -> 0 | H93: =ROUNDDOWN($G77*0.5326,0) -> 0 | I93: =ROUNDDOWN($G77*0.4575,0) -> 0 | J93: =ROUNDDOWN($G77*0.0099,0) -> 0 | Q93: August | R93: 1 | S93: 0 | T93: =R93-S93 -> 1 | U93: 4 | V93: =V92 -> 25 | W93: =IF(OR(DxMult="DCM",DxMult="NTRM"),2,1) -> 1 | Y93: =Y92 -> 1 | Z93: =IFERROR((Y93*U93*T93*(V93-1))*($H$68-DxMultReservedMW)*$H$70/100,0)+IFERROR((W93*Y93*U93*T93*(V93-1))*(DxMultReservedMW)*$H$70/100,0) -> 0 | AB93: =IFERROR((Y93*U93*T93*(V93-1))*($H$68)*$H$70/100,0) -> 0
C94: February | D94: =ROUNDDOWN($E78*0.5326,0) -> 0 | E94: =ROUNDDOWN($E78*0.4575,0) -> 0 | F94: =ROUNDDOWN($E78*0.0099,0) -> 0 | H94: =ROUNDDOWN($G78*0.5326,0) -> 0 | I94: =ROUNDDOWN($G78*0.4575,0) -> 0 | J94: =ROUNDDOWN($G78*0.0099,0) -> 0 | Q94: September | R94: 1 | S94: 0 | T94: =R94-S94 -> 1 | U94: 4 | V94: =V93 -> 25 | W94: =IF(OR(DxMult="DCM",DxMult="NTRM"),2,1) -> 1 | Y94: =Y93 -> 1 | Z94: =IFERROR((Y94*U94*T94*(V94-1))*($H$68-DxMultReservedMW)*$H$70/100,0)+IFERROR((W94*Y94*U94*T94*(V94-1))*(DxMultReservedMW)*$H$70/100,0) -> 0 | AB94: =IFERROR((Y94*U94*T94*(V94-1))*($H$68)*$H$70/100,0) -> 0
C95: March | D95: =ROUNDDOWN($E79*0.5326,0) -> 0 | E95: =ROUNDDOWN($E79*0.4575,0) -> 0 | F95: =ROUNDDOWN($E79*0.0099,0) -> 0 | H95: =ROUNDDOWN($G79*0.5326,0) -> 0 | I95: =ROUNDDOWN($G79*0.4575,0) -> 0 | J95: =ROUNDDOWN($G79*0.0099,0) -> 0 | Q95: September | R95: 0 | S95: 0 | T95: =R95-S95 -> 0 | U95: 1 | V95: =V94 -> 25 | W95: =IF(OR(DxMult="DCM",DxMult="NTRM"),2,1) -> 1 | Y95: =Y94 -> 1 | Z95: =IFERROR((Y95*U95*T95*(V95-1))*($H$68-DxMultReservedMW)*$H$70/100,0)+IFERROR((W95*Y95*U95*T95*(V95-1))*(DxMultReservedMW)*$H$70/100,0) -> 0 | AB95: =IFERROR((Y95*U95*T95*(V95-1))*($H$68)*$H$70/100,0) -> 0
C96: April | D96: =ROUNDDOWN($E80*0.5326,0) -> 0 | E96: =ROUNDDOWN($E80*0.4575,0) -> 0 | F96: =ROUNDDOWN($E80*0.0099,0) -> 0 | H96: =ROUNDDOWN($G80*0.5326,0) -> 0 | I96: =ROUNDDOWN($G80*0.4575,0) -> 0 | J96: =ROUNDDOWN($G80*0.0099,0) -> 0 | Q96: October | R96: 1 | S96: 0 | T96: =R96-S96 -> 1 | U96: 1 | V96: =V95 -> 25 | W96: =IF(OR(DxMult="DCM",DxMult="NTRM"),2,1) -> 1 | Y96: =Y95 -> 1 | Z96: =IFERROR((Y96*U96*T96*(V96-1))*($H$68-DxMultReservedMW)*$H$70/100,0)+IFERROR((W96*Y96*U96*T96*(V96-1))*(DxMultReservedMW)*$H$70/100,0) -> 0 | AB96: =IFERROR((Y96*U96*T96*(V96-1))*($H$68)*$H$70/100,0) -> 0
C97: May | D97: =ROUNDDOWN($E81*0.5326,0) -> 0 | E97: =ROUNDDOWN($E81*0.4575,0) -> 0 | F97: =ROUNDDOWN($E81*0.0099,0) -> 0 | H97: =ROUNDDOWN($G81*0.5326,0) -> 0 | I97: =ROUNDDOWN($G81*0.4575,0) -> 0 | J97: =ROUNDDOWN($G81*0.0099,0) -> 0 | Q97: November | R97: 1 | S97: 0 | T97: =R97-S97 -> 1 | U97: 1 | V97: =V96 -> 25 | W97: =IF(OR(DxMult="DCM",DxMult="NTRM"),2,1) -> 1 | Y97: =Y96 -> 1 | Z97: =IFERROR((Y97*U97*T97*(V97-1))*($H$68-DxMultReservedMW)*$H$70/100,0)+IFERROR((W97*Y97*U97*T97*(V97-1))*(DxMultReservedMW)*$H$70/100,0) -> 0 | AB97: =IFERROR((Y97*U97*T97*(V97-1))*($H$68)*$H$70/100,0) -> 0
C98: June | D98: =ROUNDDOWN($E82*0.5326,0) -> 0 | E98: =ROUNDDOWN($E82*0.4575,0) -> 0 | F98: =ROUNDDOWN($E82*0.0099,0) -> 0 | H98: =ROUNDDOWN($G82*0.5326,0) -> 0 | I98: =ROUNDDOWN($G82*0.4575,0) -> 0 | J98: =ROUNDDOWN($G82*0.0099,0) -> 0 | Q98: December | R98: 1 | S98: 0 | T98: =R98-S98 -> 1 | U98: 4 | V98: =V97 -> 25 | W98: =IF(OR(DxMult="DCM",DxMult="NTRM"),2,1) -> 1 | Y98: =Y97 -> 1 | Z98: =IFERROR((Y98*U98*T98*(V98-1))*($H$68-DxMultReservedMW)*$H$70/100,0)+IFERROR((W98*Y98*U98*T98*(V98-1))*(DxMultReservedMW)*$H$70/100,0) -> 0 | AB98: =IFERROR((Y98*U98*T98*(V98-1))*($H$68)*$H$70/100,0) -> 0
C99: July | D99: =ROUNDDOWN($E83*0.5326,0) -> 0 | E99: =ROUNDDOWN($E83*0.4575,0) -> 0 | F99: =ROUNDDOWN($E83*0.0099,0) -> 0 | H99: =ROUNDDOWN($G83*0.5326,0) -> 0 | I99: =ROUNDDOWN($G83*0.4575,0) -> 0 | J99: =ROUNDDOWN($G83*0.0099,0) -> 0
C100: August | D100: =ROUNDDOWN($E84*0.5326,0) -> 0 | E100: =ROUNDDOWN($E84*0.4575,0) -> 0 | F100: =ROUNDDOWN($E84*0.0099,0) -> 0 | H100: =ROUNDDOWN($G84*0.5326,0) -> 0 | I100: =ROUNDDOWN($G84*0.4575,0) -> 0 | J100: =ROUNDDOWN($G84*0.0099,0) -> 0
C101: September | D101: =ROUNDDOWN($E85*0.5326,0) -> 0 | E101: =ROUNDDOWN($E85*0.4575,0) -> 0 | F101: =ROUNDDOWN($E85*0.0099,0) -> 0 | H101: =ROUNDDOWN($G85*0.5326,0) -> 0 | I101: =ROUNDDOWN($G85*0.4575,0) -> 0 | J101: =ROUNDDOWN($G85*0.0099,0) -> 0
C102: October | D102: =ROUNDDOWN($E86*0.5326,0) -> 0 | E102: =ROUNDDOWN($E86*0.4575,0) -> 0 | F102: =ROUNDDOWN($E86*0.0099,0) -> 0 | H102: =ROUNDDOWN($G86*0.5326,0) -> 0 | I102: =ROUNDDOWN($G86*0.4575,0) -> 0 | J102: =ROUNDDOWN($G86*0.0099,0) -> 0
C103: November | D103: =ROUNDDOWN($E87*0.5326,0) -> 0 | E103: =ROUNDDOWN($E87*0.4575,0) -> 0 | F103: =ROUNDDOWN($E87*0.0099,0) -> 0 | H103: =ROUNDDOWN($G87*0.5326,0) -> 0 | I103: =ROUNDDOWN($G87*0.4575,0) -> 0 | J103: =ROUNDDOWN($G87*0.0099,0) -> 0
C104: December | D104: =ROUNDDOWN($E88*0.5326,0) -> 0 | E104: =ROUNDDOWN($E88*0.4575,0) -> 0 | F104: =ROUNDDOWN($E88*0.0099,0) -> 0 | H104: =ROUNDDOWN($G88*0.5326,0) -> 0 | I104: =ROUNDDOWN($G88*0.4575,0) -> 0 | J104: =ROUNDDOWN($G88*0.0099,0) -> 0
C106: *Applies to Near-Term Resource Multiplier (NTRM) or Distribution Circuit Multiplier (DCM) qualified projects. 10 years after SoQ, or for NTRM qualified proposals after December 31, 2036.
B110: ="Version: " & Version -> Version: RD2 FINAL
H111: Part VII (other)
C112: EXPECTED STORAGE non-CPEC Environmental Attribute - Description of schedule for delivery
C114: Project Title | E114: =IF(ProjTitle="","Auto-Filled",ProjTitle) -> Auto-Filled | R114: =IF(E114="","<<< Enter Information in Part II","")
R119: =IF(ISBLANK(C119),IF('Part III'!J21="Other","<<< Information may be Required.",""),"")
K335: {=IF('Part VII (Phase 1)'!H68>0,'Part VII (Phase 1)'!H68/('Part VII (Phase 1)'!K335:N277CntMax*8766),0)} -> #VALUE!

Sheet Part VII (Phase 2)
B1: =IF('Part IV'!J8="Yes","Storage Energy System - Phase 2 ONLY","Not Required") -> Not Required
B2: ="Version: " & Version -> Version: RD2 FINAL
H3: Part VII (a) | R3: =IF(S3<T2*12,"<<< Information may be Required. Refer to Notes below.","")
H4: Environmental Attribute Delivery Schedule
C5: Project Title | E5: =IF(ProjTitle="","Auto-Filled",ProjTitle) -> Auto-Filled
D7: EXPECTED STORAGE CLEAN PEAK ENERGY CERTIFICATES (CPECs) TO BE DELIVERED UNDER THE LONG-TERM CONTRACT - Representative Month for Each Year
D9: 1 | E9: 2 | F9: 3 | G9: 4 | H9: 5 | I9: 6 | J9: 7 | K9: 8 | L9: 9 | M9: 10 | N9: 11 | O9: 12 | S9: Max Term | T9: ='Part VI'!$G$11 -> 0
C10: Year | D10: Jan | E10: Feb | F10: Mar | G10: Apr | H10: May | I10: Jun | J10: Jul | K10: Aug | L10: Sep | M10: Oct | N10: Nov | O10: Dec | S10: =COUNT(D11:O41) -> 0
C11: =IF(ISBLANK(EstCOD),1,YEAR(EstCOD)) -> 1 | R11: =IF('Part IV'!J8="Yes",IF(AND(_xlfn.XLOOKUP(0.1,D11:O11,D9:O9,-10,1,1)=MONTH(EstCOD),'Part VII (Phase 2)'!C11=YEAR(EstCOD)),"","<<< Information may be required. Refer to Notes below. Please confirm CPEC schedule alings with COD or contract service term start date."),"")
C12: =C11+1 -> 2 | R12: =IF(S10<T9*12,"<<< Information may be Required. Refer to Notes below.",IF(S10>T9*12,"<<< CPEC Delivery Term exceeds Contract Services Term as entered in Part VI.",""))
C13: =C12+1 -> 3 | S13: ="Version " & Version -> Version RD2 FINAL
C14: =C13+1 -> 4 | S14: Part VII (a) (i)
C15: =C14+1 -> 5 | S15: Actual Monthly System Peak Multiplier Assumptions
C16: =C15+1 -> 6
C17: =C16+1 -> 7
C18: =C17+1 -> 8
C19: =C18+1 -> 9
C20: =C19+1 -> 10 | T20: Period | U20: System Peak Assumption (%)
C21: =C20+1 -> 11
C22: =C21+1 -> 12 | T22: Jan | W22: =IF('Part IV'!J8="Yes",IF(U22="","<<< Required Information",""),"")
C23: =C22+1 -> 13 | T23: Feb | W23: =IF('Part IV'!J9="Yes",IF(U23="","<<< Required Information",""),"")
C24: =C23+1 -> 14 | T24: Mar | W24: =IF('Part IV'!J10="Yes",IF(U24="","<<< Required Information",""),"")
C25: =C24+1 -> 15 | T25: Apr | W25: =IF('Part IV'!J11="Yes",IF(U25="","<<< Required Information",""),"")
C26: =C25+1 -> 16 | T26: May (1x) | W26: =IF('Part IV'!J8="Yes",IF(U26="","<<< Required Information",IF(SUM(U26:U27)>100,"Cannot exceed 100% for May","")),"")
C27: =C26+1 -> 17 | T27: May (4x) | W27: =IF('Part IV'!J13="Yes",IF(U27="","<<< Required Information",""),"")
C28: =C27+1 -> 18 | T28: Jun | W28: =IF('Part IV'!J14="Yes",IF(U28="","<<< Required Information",""),"")
C29: =C28+1 -> 19 | T29: Jul | W29: =IF('Part IV'!J15="Yes",IF(U29="","<<< Required Information",""),"")
C30: =C29+1 -> 20 | T30: Aug | W30: =IF('Part IV'!J16="Yes",IF(U30="","<<< Required Information",""),"")
C31: =C30+1 -> 21 | T31: Sep (4x) | W31: =IF('Part IV'!J8="Yes",IF(U30="","<<< Required Information",IF(SUM(U31:U32)>100,"Cannot exceed 100% for September","")),"")
C32: =C31+1 -> 22 | T32: Sep (1x) | W32: =IF('Part IV'!J18="Yes",IF(U32="","<<< Required Information",""),"")
C33: =C32+1 -> 23 | T33: Oct | W33: =IF('Part IV'!J19="Yes",IF(U33="","<<< Required Information",""),"")
C34: =C33+1 -> 24 | T34: Nov | W34: =IF('Part IV'!J20="Yes",IF(U34="","<<< Required Information",""),"")
C35: =C34+1 -> 25 | T35: Dec | W35: =IF('Part IV'!J21="Yes",IF(U35="","<<< Required Information",""),"")
C36: =C35+1 -> 26
C37: =C36+1 -> 27
C38: =C37+1 -> 28
C39: =C38+1 -> 29
C40: =C39+1 -> 30 | S40: For conditional formatting in Part VII (a)
C41: =C40+1 -> 31 | S41: {=TRANSPOSE(D76:D88)} -> Month | T41: January | U41: February | V41: March | W41: April | X41: May | Y41: June | Z41: July | AA41: August | AB41: September | AC41: October | AD41: November | AE41: December
C42: IMPORTANT: These CPECS are for specific months and calendar years. The first entry must coincide with the project start date or contract service term start date. Cells with red background exceed the Contract Maximum Amount as calculated below. | S42: {=TRANSPOSE(G76:G88)} -> CMA after 10 years* | T42: 0 | U42: 0 | V42: 0 | W42: 0 | X42: 0 | Y42: 0 | Z42: 0 | AA42: 0 | AB42: 0 | AC42: 0 | AD42: 0 | AE42: 0
S43: {=TRANSPOSE(E76:E88)} -> CMA | T43: 0 | U43: 0 | V43: 0 | W43: 0 | X43: 0 | Y43: 0 | Z43: 0 | AA43: 0 | AB43: 0 | AC43: 0 | AD43: 0 | AE43: 0
R53: =IF('Part IV'!J8="Yes",IF(C53="","<<< Required Information",""),"")
B59: ="Version " & Version -> Version RD2 FINAL | P59: ="Version " & Version -> Version RD2 FINAL
B60: Part VII (b) | P60: Part VII (b) (i)
B61: Contract Maximum Amount | P61: Contract Maximum Amount Calculator - No Input Required
Q63: Project Title | S63: =IF(ProjTitle="","Auto-Filled",ProjTitle) -> Auto-Filled | AD63: =IF(S63="","<<< Enter Information in Part II","")
C64: Project Title | F64: =IF(ProjTitle="","Auto-Filled",ProjTitle) -> Auto-Filled | L64: =IF(B64="","<<< Enter Information in Part II","") -> <<< Enter Information in Part II
Q65: Seasonal CPECs
D66: Environmental Attribute Product: | H66: =IF('Part III'!J21="","Auto-Filled",'Part III'!J21) -> Auto-Filled | L66: =IF(H66="Auto-Filled","<<< Enter Information in Part III","") -> <<< Enter Information in Part III | Q66: Month | R66: Days | S66: Weekend Days | T66: Holidays | U66: Max Business days | V66: Seasonal Multiplier | W66: =IF(DxMult="DCM","Distribution Circuit Multiplier",IF(DxMult="NTRM","Near-term Resource Multiplier","No Additional Multipliers")) -> No Additional Multipliers | Y66: 4 hours CPS window | Z66: CPECs | AB66: CPECs after year 10
Q67: January | R67: 31 | S67: 8 | T67: 2 | U67: =R67-S67-T67 -> 21 | V67: 4 | W67: =IF(OR(DxMult="DCM",DxMult="NTRM"),2,1) -> 1 | Y67: 4 | Z67: =IFERROR(Y67*V67*U67*($H$68-DxMultReservedMW)*$H$70/100,0)+IFERROR(W67*Y67*V67*U67*(DxMultReservedMW)*$H$70/100,0) -> 0 | AB67: =IFERROR(Y67*V67*U67*$H$68*$H$70/100,0) -> 0
G68: Capacity of the proposal (MW), Delivered | H68: =IF('Part IV'!J87="","Auto-Filled",'Part IV'!J87) -> Auto-Filled | I68: MW | L68: =IF(H68="Auto-Filled","<<< Enter Information in Part IV","") -> <<< Enter Information in Part IV | Q68: February | R68: 29 | S68: 8 | T68: 1 | U68: =R68-S68-T68 -> 20 | V68: 4 | W68: =IF(OR(DxMult="DCM",DxMult="NTRM"),2,1) -> 1 | Y68: =Y67 -> 4 | Z68: =IFERROR(Y68*V68*U68*($H$68-DxMultReservedMW)*$H$70/100,0)+IFERROR(W68*Y68*V68*U68*(DxMultReservedMW)*$H$70/100,0) -> 0 | AB68: =IFERROR(Y68*V68*U68*$H$68*$H$70/100,0) -> 0
Q69: March | R69: 31 | S69: 8 | T69: 0 | U69: =R69-S69-T69 -> 23 | V69: 1 | W69: =IF(OR(DxMult="DCM",DxMult="NTRM"),2,1) -> 1 | Y69: =Y68 -> 4 | Z69: =IFERROR(Y69*V69*U69*($H$68-DxMultReservedMW)*$H$70/100,0)+IFERROR(W69*Y69*V69*U69*(DxMultReservedMW)*$H$70/100,0) -> 0 | AB69: =IFERROR(Y69*V69*U69*$H$68*$H$70/100,0) -> 0
G70: Buyers' Percentage Entitlement of facility output | H70: =IF('Part IV'!J121="","Auto-Filled",'Part IV'!J121) -> Auto-Filled | I70: % | L70: =IF(H70="Auto-Filled","<<< Enter Information in Part IV","") -> <<< Enter Information in Part IV | Q70: April | R70: 30 | S70: 8 | T70: 1 | U70: =R70-S70-T70 -> 21 | V70: 1 | W70: =IF(OR(DxMult="DCM",DxMult="NTRM"),2,1) -> 1 | Y70: =Y69 -> 4 | Z70: =IFERROR(Y70*V70*U70*($H$68-DxMultReservedMW)*$H$70/100,0)+IFERROR(W70*Y70*V70*U70*(DxMultReservedMW)*$H$70/100,0) -> 0 | AB70: =IFERROR(Y70*V70*U70*$H$68*$H$70/100,0) -> 0
Q71: May | R71: 14 | S71: 4 | T71: 0 | U71: =R71-S71-T71 -> 10 | V71: 1 | W71: =IF(OR(DxMult="DCM",DxMult="NTRM"),2,1) -> 1 | Y71: =Y70 -> 4 | Z71: =IFERROR(Y71*V71*U71*($H$68-DxMultReservedMW)*$H$70/100,0)+IFERROR(W71*Y71*V71*U71*(DxMultReservedMW)*$H$70/100,0) -> 0 | AB71: =IFERROR(Y71*V71*U71*$H$68*$H$70/100,0) -> 0
D72: Confirm the below Contract Maximum Amount, as defined in form LTC | Q72: May | R72: 17 | S72: 4 | T72: 1 | U72: =R72-S72-T72 -> 12 | V72: 4 | W72: =IF(OR(DxMult="DCM",DxMult="NTRM"),2,1) -> 1 | Y72: =Y71 -> 4 | Z72: =IFERROR(Y72*V72*U72*($H$68-DxMultReservedMW)*$H$70/100,0)+IFERROR(W72*Y72*V72*U72*(DxMultReservedMW)*$H$70/100,0) -> 0 | AB72: =IFERROR(Y72*V72*U72*$H$68*$H$70/100,0) -> 0
L73: =IF('Part IV'!J8="Yes",IF(H73="","<<< Required Confirmation",""),"") | Q73: June | R73: 30 | S73: 8 | T73: 1 | U73: =R73-S73-T73 -> 21 | V73: 4 | W73: =IF(OR(DxMult="DCM",DxMult="NTRM"),2,1) -> 1 | Y73: =Y72 -> 4 | Z73: =IFERROR(Y73*V73*U73*($H$68-DxMultReservedMW)*$H$70/100,0)+IFERROR(W73*Y73*V73*U73*(DxMultReservedMW)*$H$70/100,0) -> 0 | AB73: =IFERROR(Y73*V73*U73*$H$68*$H$70/100,0) -> 0
Q74: July | R74: 31 | S74: 8 | T74: 1 | U74: =R74-S74-T74 -> 22 | V74: 4 | W74: =IF(OR(DxMult="DCM",DxMult="NTRM"),2,1) -> 1 | Y74: =Y73 -> 4 | Z74: =IFERROR(Y74*V74*U74*($H$68-DxMultReservedMW)*$H$70/100,0)+IFERROR(W74*Y74*V74*U74*(DxMultReservedMW)*$H$70/100,0) -> 0 | AB74: =IFERROR(Y74*V74*U74*$H$68*$H$70/100,0) -> 0
D75: Contract Maximum Amount | Q75: August | R75: 31 | S75: 8 | T75: 0 | U75: =R75-S75-T75 -> 23 | V75: 4 | W75: =IF(OR(DxMult="DCM",DxMult="NTRM"),2,1) -> 1 | Y75: =Y74 -> 4 | Z75: =IFERROR(Y75*V75*U75*($H$68-DxMultReservedMW)*$H$70/100,0)+IFERROR(W75*Y75*V75*U75*(DxMultReservedMW)*$H$70/100,0) -> 0 | AB75: =IFERROR(Y75*V75*U75*$H$68*$H$70/100,0) -> 0
D76: Month | E76: CMA | G76: CMA after 10 years* | Q76: September | R76: 14 | S76: 4 | T76: 1 | U76: =R76-S76-T76 -> 9 | V76: 4 | W76: =IF(OR(DxMult="DCM",DxMult="NTRM"),2,1) -> 1 | Y76: =Y75 -> 4 | Z76: =IFERROR(Y76*V76*U76*($H$68-DxMultReservedMW)*$H$70/100,0)+IFERROR(W76*Y76*V76*U76*(DxMultReservedMW)*$H$70/100,0) -> 0 | AB76: =IFERROR(Y76*V76*U76*$H$68*$H$70/100,0) -> 0
D77: January | E77: =ROUNDDOWN(SUMIF(Q$67:Q$80,D77,Z$85:Z$98)+SUMIF(Q$85:Q$98,D77,Z$67:Z$80),0) -> 0 | G77: =ROUNDDOWN(SUMIF(Q$67:Q$80,D77,AB$85:AB$98)+SUMIF(Q$85:Q$98,D77,AB$67:AB$80),0) -> 0 | Q77: September | R77: 16 | S77: 4 | T77: 0 | U77: =R77-S77-T77 -> 12 | V77: 1 | W77: =IF(OR(DxMult="DCM",DxMult="NTRM"),2,1) -> 1 | Y77: =Y76 -> 4 | Z77: =IFERROR(Y77*V77*U77*($H$68-DxMultReservedMW)*$H$70/100,0)+IFERROR(W77*Y77*V77*U77*(DxMultReservedMW)*$H$70/100,0) -> 0 | AB77: =IFERROR(Y77*V77*U77*$H$68*$H$70/100,0) -> 0
D78: February | E78: =ROUNDDOWN(SUMIF(Q$67:Q$80,D78,Z$85:Z$98)+SUMIF(Q$85:Q$98,D78,Z$67:Z$80),0) -> 0 | G78: =ROUNDDOWN(SUMIF(Q$67:Q$80,D78,AB$85:AB$98)+SUMIF(Q$85:Q$98,D78,AB$67:AB$80),0) -> 0 | Q78: October | R78: 31 | S78: 8 | T78: 1 | U78: =R78-S78-T78 -> 22 | V78: 1 | W78: =IF(OR(DxMult="DCM",DxMult="NTRM"),2,1) -> 1 | Y78: =Y77 -> 4 | Z78: =IFERROR(Y78*V78*U78*($H$68-DxMultReservedMW)*$H$70/100,0)+IFERROR(W78*Y78*V78*U78*(DxMultReservedMW)*$H$70/100,0) -> 0 | AB78: =IFERROR(Y78*V78*U78*$H$68*$H$70/100,0) -> 0
D79: March | E79: =ROUNDDOWN(SUMIF(Q$67:Q$80,D79,Z$85:Z$98)+SUMIF(Q$85:Q$98,D79,Z$67:Z$80),0) -> 0 | G79: =ROUNDDOWN(SUMIF(Q$67:Q$80,D79,AB$85:AB$98)+SUMIF(Q$85:Q$98,D79,AB$67:AB$80),0) -> 0 | Q79: November | R79: 30 | S79: 8 | T79: 2 | U79: =R79-S79-T79 -> 20 | V79: 1 | W79: =IF(OR(DxMult="DCM",DxMult="NTRM"),2,1) -> 1 | Y79: =Y78 -> 4 | Z79: =IFERROR(Y79*V79*U79*($H$68-DxMultReservedMW)*$H$70/100,0)+IFERROR(W79*Y79*V79*U79*(DxMultReservedMW)*$H$70/100,0) -> 0 | AB79: =IFERROR(Y79*V79*U79*$H$68*$H$70/100,0) -> 0
D80: April | E80: =ROUNDDOWN(SUMIF(Q$67:Q$80,D80,Z$85:Z$98)+SUMIF(Q$85:Q$98,D80,Z$67:Z$80),0) -> 0 | G80: =ROUNDDOWN(SUMIF(Q$67:Q$80,D80,AB$85:AB$98)+SUMIF(Q$85:Q$98,D80,AB$67:AB$80),0) -> 0 | Q80: December | R80: 31 | S80: 8 | T80: 1 | U80: =R80-S80-T80 -> 22 | V80: 4 | W80: =IF(OR(DxMult="DCM",DxMult="NTRM"),2,1) -> 1 | Y80: =Y79 -> 4 | Z80: =IFERROR(Y80*V80*U80*($H$68-DxMultReservedMW)*$H$70/100,0)+IFERROR(W80*Y80*V80*U80*(DxMultReservedMW)*$H$70/100,0) -> 0 | AB80: =IFERROR(Y80*V80*U80*$H$68*$H$70/100,0) -> 0
D81: May | E81: =ROUNDDOWN(SUMIF(Q$67:Q$80,D81,Z$85:Z$98)+SUMIF(Q$85:Q$98,D81,Z$67:Z$80),0) -> 0 | G81: =ROUNDDOWN(SUMIF(Q$67:Q$80,D81,AB$85:AB$98)+SUMIF(Q$85:Q$98,D81,AB$67:AB$80),0) -> 0
D82: June | E82: =ROUNDDOWN(SUMIF(Q$67:Q$80,D82,Z$85:Z$98)+SUMIF(Q$85:Q$98,D82,Z$67:Z$80),0) -> 0 | G82: =ROUNDDOWN(SUMIF(Q$67:Q$80,D82,AB$85:AB$98)+SUMIF(Q$85:Q$98,D82,AB$67:AB$80),0) -> 0 | T82: Max Business days
D83: July | E83: =ROUNDDOWN(SUMIF(Q$67:Q$80,D83,Z$85:Z$98)+SUMIF(Q$85:Q$98,D83,Z$67:Z$80),0) -> 0 | G83: =ROUNDDOWN(SUMIF(Q$67:Q$80,D83,AB$85:AB$98)+SUMIF(Q$85:Q$98,D83,AB$67:AB$80),0) -> 0 | Q83: Actual Peak CPECs
D84: August | E84: =ROUNDDOWN(SUMIF(Q$67:Q$80,D84,Z$85:Z$98)+SUMIF(Q$85:Q$98,D84,Z$67:Z$80),0) -> 0 | G84: =ROUNDDOWN(SUMIF(Q$67:Q$80,D84,AB$85:AB$98)+SUMIF(Q$85:Q$98,D84,AB$67:AB$80),0) -> 0 | Q84: Month | R84: Days | S84: Weekend Days | U84: Seasonal Multiplier | V84: Actual Peak Multiplier | W84: =W66 -> No Additional Multipliers | Y84: Actual Peak Hour | Z84: CPECs | AB84: CPECs after year 10
D85: September | E85: =ROUNDDOWN(SUMIF(Q$67:Q$80,D85,Z$85:Z$98)+SUMIF(Q$85:Q$98,D85,Z$67:Z$80),0) -> 0 | G85: =ROUNDDOWN(SUMIF(Q$67:Q$80,D85,AB$85:AB$98)+SUMIF(Q$85:Q$98,D85,AB$67:AB$80),0) -> 0 | Q85: January | R85: 1 | S85: 0 | T85: =R85-S85 -> 1 | U85: 4 | V85: 25 | W85: =IF(OR(DxMult="DCM",DxMult="NTRM"),2,1) -> 1 | Y85: 1 | Z85: =IFERROR((Y85*U85*T85*(V85-1))*($H$68-DxMultReservedMW)*$H$70/100,0)+IFERROR((W85*Y85*U85*T85*(V85-1))*(DxMultReservedMW)*$H$70/100,0) -> 0 | AB85: =IFERROR((Y85*U85*T85*(V85-1))*($H$68)*$H$70/100,0) -> 0
D86: October | E86: =ROUNDDOWN(SUMIF(Q$67:Q$80,D86,Z$85:Z$98)+SUMIF(Q$85:Q$98,D86,Z$67:Z$80),0) -> 0 | G86: =ROUNDDOWN(SUMIF(Q$67:Q$80,D86,AB$85:AB$98)+SUMIF(Q$85:Q$98,D86,AB$67:AB$80),0) -> 0 | Q86: February | R86: 1 | S86: 0 | T86: =R86-S86 -> 1 | U86: 4 | V86: =V85 -> 25 | W86: =IF(OR(DxMult="DCM",DxMult="NTRM"),2,1) -> 1 | Y86: =Y85 -> 1 | Z86: =IFERROR((Y86*U86*T86*(V86-1))*($H$68-DxMultReservedMW)*$H$70/100,0)+IFERROR((W86*Y86*U86*T86*(V86-1))*(DxMultReservedMW)*$H$70/100,0) -> 0 | AB86: =IFERROR((Y86*U86*T86*(V86-1))*($H$68)*$H$70/100,0) -> 0
D87: November | E87: =ROUNDDOWN(SUMIF(Q$67:Q$80,D87,Z$85:Z$98)+SUMIF(Q$85:Q$98,D87,Z$67:Z$80),0) -> 0 | G87: =ROUNDDOWN(SUMIF(Q$67:Q$80,D87,AB$85:AB$98)+SUMIF(Q$85:Q$98,D87,AB$67:AB$80),0) -> 0 | Q87: March | R87: 1 | S87: 0 | T87: =R87-S87 -> 1 | U87: 1 | V87: =V86 -> 25 | W87: =IF(OR(DxMult="DCM",DxMult="NTRM"),2,1) -> 1 | Y87: =Y86 -> 1 | Z87: =IFERROR((Y87*U87*T87*(V87-1))*($H$68-DxMultReservedMW)*$H$70/100,0)+IFERROR((W87*Y87*U87*T87*(V87-1))*(DxMultReservedMW)*$H$70/100,0) -> 0 | AB87: =IFERROR((Y87*U87*T87*(V87-1))*($H$68)*$H$70/100,0) -> 0
D88: December | E88: =ROUNDDOWN(SUMIF(Q$67:Q$80,D88,Z$85:Z$98)+SUMIF(Q$85:Q$98,D88,Z$67:Z$80),0) -> 0 | G88: =ROUNDDOWN(SUMIF(Q$67:Q$80,D88,AB$85:AB$98)+SUMIF(Q$85:Q$98,D88,AB$67:AB$80),0) -> 0 | Q88: April | R88: 1 | S88: 0 | T88: =R88-S88 -> 1 | U88: 1 | V88: =V87 -> 25 | W88: =IF(OR(DxMult="DCM",DxMult="NTRM"),2,1) -> 1 | Y88: =Y87 -> 1 | Z88: =IFERROR((Y88*U88*T88*(V88-1))*($H$68-DxMultReservedMW)*$H$70/100,0)+IFERROR((W88*Y88*U88*T88*(V88-1))*(DxMultReservedMW)*$H$70/100,0) -> 0 | AB88: =IFERROR((Y88*U88*T88*(V88-1))*($H$68)*$H$70/100,0) -> 0
Q89: May | R89: 0 | S89: 0 | T89: =R89-S89 -> 0 | U89: 1 | V89: =V88 -> 25 | W89: =IF(OR(DxMult="DCM",DxMult="NTRM"),2,1) -> 1 | Y89: =Y88 -> 1 | Z89: =IFERROR((Y89*U89*T89*(V89-1))*($H$68-DxMultReservedMW)*$H$70/100,0)+IFERROR((W89*Y89*U89*T89*(V89-1))*(DxMultReservedMW)*$H$70/100,0) -> 0 | AB89: =IFERROR((Y89*U89*T89*(V89-1))*($H$68)*$H$70/100,0) -> 0
C90: Contract Maximum Amount by Buyer | Q90: May | R90: 1 | S90: 0 | T90: =R90-S90 -> 1 | U90: 4 | V90: =V89 -> 25 | W90: =IF(OR(DxMult="DCM",DxMult="NTRM"),2,1) -> 1 | Y90: =Y89 -> 1 | Z90: =IFERROR((Y90*U90*T90*(V90-1))*($H$68-DxMultReservedMW)*$H$70/100,0)+IFERROR((W90*Y90*U90*T90*(V90-1))*(DxMultReservedMW)*$H$70/100,0) -> 0 | AB90: =IFERROR((Y90*U90*T90*(V90-1))*($H$68)*$H$70/100,0) -> 0
D91: CMA | H91: CMA after 10 years* | Q91: June | R91: 1 | S91: 0 | T91: =R91-S91 -> 1 | U91: 4 | V91: =V90 -> 25 | W91: =IF(OR(DxMult="DCM",DxMult="NTRM"),2,1) -> 1 | Y91: =Y90 -> 1 | Z91: =IFERROR((Y91*U91*T91*(V91-1))*($H$68-DxMultReservedMW)*$H$70/100,0)+IFERROR((W91*Y91*U91*T91*(V91-1))*(DxMultReservedMW)*$H$70/100,0) -> 0 | AB91: =IFERROR((Y91*U91*T91*(V91-1))*($H$68)*$H$70/100,0) -> 0
C92: Month | D92: Eversource | E92: National Grid | F92: Unitil | H92: Eversource | I92: National Grid | J92: Unitil | Q92: July | R92: 1 | S92: 0 | T92: =R92-S92 -> 1 | U92: 4 | V92: =V91 -> 25 | W92: =IF(OR(DxMult="DCM",DxMult="NTRM"),2,1) -> 1 | Y92: =Y91 -> 1 | Z92: =IFERROR((Y92*U92*T92*(V92-1))*($H$68-DxMultReservedMW)*$H$70/100,0)+IFERROR((W92*Y92*U92*T92*(V92-1))*(DxMultReservedMW)*$H$70/100,0) -> 0 | AB92: =IFERROR((Y92*U92*T92*(V92-1))*($H$68)*$H$70/100,0) -> 0
C93: January | D93: =ROUNDDOWN($E77*0.5326,0) -> 0 | E93: =ROUNDDOWN($E77*0.4575,0) -> 0 | F93: =ROUNDDOWN($E77*0.0099,0) -> 0 | H93: =ROUNDDOWN($G77*0.5326,0) -> 0 | I93: =ROUNDDOWN($G77*0.4575,0) -> 0 | J93: =ROUNDDOWN($G77*0.0099,0) -> 0 | Q93: August | R93: 1 | S93: 0 | T93: =R93-S93 -> 1 | U93: 4 | V93: =V92 -> 25 | W93: =IF(OR(DxMult="DCM",DxMult="NTRM"),2,1) -> 1 | Y93: =Y92 -> 1 | Z93: =IFERROR((Y93*U93*T93*(V93-1))*($H$68-DxMultReservedMW)*$H$70/100,0)+IFERROR((W93*Y93*U93*T93*(V93-1))*(DxMultReservedMW)*$H$70/100,0) -> 0 | AB93: =IFERROR((Y93*U93*T93*(V93-1))*($H$68)*$H$70/100,0) -> 0
C94: February | D94: =ROUNDDOWN($E78*0.5326,0) -> 0 | E94: =ROUNDDOWN($E78*0.4575,0) -> 0 | F94: =ROUNDDOWN($E78*0.0099,0) -> 0 | H94: =ROUNDDOWN($G78*0.5326,0) -> 0 | I94: =ROUNDDOWN($G78*0.4575,0) -> 0 | J94: =ROUNDDOWN($G78*0.0099,0) -> 0 | Q94: September | R94: 1 | S94: 0 | T94: =R94-S94 -> 1 | U94: 4 | V94: =V93 -> 25 | W94: =IF(OR(DxMult="DCM",DxMult="NTRM"),2,1) -> 1 | Y94: =Y93 -> 1 | Z94: =IFERROR((Y94*U94*T94*(V94-1))*($H$68-DxMultReservedMW)*$H$70/100,0)+IFERROR((W94*Y94*U94*T94*(V94-1))*(DxMultReservedMW)*$H$70/100,0) -> 0 | AB94: =IFERROR((Y94*U94*T94*(V94-1))*($H$68)*$H$70/100,0) -> 0
C95: March | D95: =ROUNDDOWN($E79*0.5326,0) -> 0 | E95: =ROUNDDOWN($E79*0.4575,0) -> 0 | F95: =ROUNDDOWN($E79*0.0099,0) -> 0 | H95: =ROUNDDOWN($G79*0.5326,0) -> 0 | I95: =ROUNDDOWN($G79*0.4575,0) -> 0 | J95: =ROUNDDOWN($G79*0.0099,0) -> 0 | Q95: September | R95: 0 | S95: 0 | T95: =R95-S95 -> 0 | U95: 1 | V95: =V94 -> 25 | W95: =IF(OR(DxMult="DCM",DxMult="NTRM"),2,1) -> 1 | Y95: =Y94 -> 1 | Z95: =IFERROR((Y95*U95*T95*(V95-1))*($H$68-DxMultReservedMW)*$H$70/100,0)+IFERROR((W95*Y95*U95*T95*(V95-1))*(DxMultReservedMW)*$H$70/100,0) -> 0 | AB95: =IFERROR((Y95*U95*T95*(V95-1))*($H$68)*$H$70/100,0) -> 0
C96: April | D96: =ROUNDDOWN($E80*0.5326,0) -> 0 | E96: =ROUNDDOWN($E80*0.4575,0) -> 0 | F96: =ROUNDDOWN($E80*0.0099,0) -> 0 | H96: =ROUNDDOWN($G80*0.5326,0) -> 0 | I96: =ROUNDDOWN($G80*0.4575,0) -> 0 | J96: =ROUNDDOWN($G80*0.0099,0) -> 0 | Q96: October | R96: 1 | S96: 0 | T96: =R96-S96 -> 1 | U96: 1 | V96: =V95 -> 25 | W96: =IF(OR(DxMult="DCM",DxMult="NTRM"),2,1) -> 1 | Y96: =Y95 -> 1 | Z96: =IFERROR((Y96*U96*T96*(V96-1))*($H$68-DxMultReservedMW)*$H$70/100,0)+IFERROR((W96*Y96*U96*T96*(V96-1))*(DxMultReservedMW)*$H$70/100,0) -> 0 | AB96: =IFERROR((Y96*U96*T96*(V96-1))*($H$68)*$H$70/100,0) -> 0
C97: May | D97: =ROUNDDOWN($E81*0.5326,0) -> 0 | E97: =ROUNDDOWN($E81*0.4575,0) -> 0 | F97: =ROUNDDOWN($E81*0.0099,0) -> 0 | H97: =ROUNDDOWN($G81*0.5326,0) -> 0 | I97: =ROUNDDOWN($G81*0.4575,0) -> 0 | J97: =ROUNDDOWN($G81*0.0099,0) -> 0 | Q97: November | R97: 1 | S97: 0 | T97: =R97-S97 -> 1 | U97: 1 | V97: =V96 -> 25 | W97: =IF(OR(DxMult="DCM",DxMult="NTRM"),2,1) -> 1 | Y97: =Y96 -> 1 | Z97: =IFERROR((Y97*U97*T97*(V97-1))*($H$68-DxMultReservedMW)*$H$70/100,0)+IFERROR((W97*Y97*U97*T97*(V97-1))*(DxMultReservedMW)*$H$70/100,0) -> 0 | AB97: =IFERROR((Y97*U97*T97*(V97-1))*($H$68)*$H$70/100,0) -> 0
C98: June | D98: =ROUNDDOWN($E82*0.5326,0) -> 0 | E98: =ROUNDDOWN($E82*0.4575,0) -> 0 | F98: =ROUNDDOWN($E82*0.0099,0) -> 0 | H98: =ROUNDDOWN($G82*0.5326,0) -> 0 | I98: =ROUNDDOWN($G82*0.4575,0) -> 0 | J98: =ROUNDDOWN($G82*0.0099,0) -> 0 | Q98: December | R98: 1 | S98: 0 | T98: =R98-S98 -> 1 | U98: 4 | V98: =V97 -> 25 | W98: =IF(OR(DxMult="DCM",DxMult="NTRM"),2,1) -> 1 | Y98: =Y97 -> 1 | Z98: =IFERROR((Y98*U98*T98*(V98-1))*($H$68-DxMultReservedMW)*$H$70/100,0)+IFERROR((W98*Y98*U98*T98*(V98-1))*(DxMultReservedMW)*$H$70/100,0) -> 0 | AB98: =IFERROR((Y98*U98*T98*(V98-1))*($H$68)*$H$70/100,0) -> 0
C99: July | D99: =ROUNDDOWN($E83*0.5326,0) -> 0 | E99: =ROUNDDOWN($E83*0.4575,0) -> 0 | F99: =ROUNDDOWN($E83*0.0099,0) -> 0 | H99: =ROUNDDOWN($G83*0.5326,0) -> 0 | I99: =ROUNDDOWN($G83*0.4575,0) -> 0 | J99: =ROUNDDOWN($G83*0.0099,0) -> 0
C100: August | D100: =ROUNDDOWN($E84*0.5326,0) -> 0 | E100: =ROUNDDOWN($E84*0.4575,0) -> 0 | F100: =ROUNDDOWN($E84*0.0099,0) -> 0 | H100: =ROUNDDOWN($G84*0.5326,0) -> 0 | I100: =ROUNDDOWN($G84*0.4575,0) -> 0 | J100: =ROUNDDOWN($G84*0.0099,0) -> 0
C101: September | D101: =ROUNDDOWN($E85*0.5326,0) -> 0 | E101: =ROUNDDOWN($E85*0.4575,0) -> 0 | F101: =ROUNDDOWN($E85*0.0099,0) -> 0 | H101: =ROUNDDOWN($G85*0.5326,0) -> 0 | I101: =ROUNDDOWN($G85*0.4575,0) -> 0 | J101: =ROUNDDOWN($G85*0.0099,0) -> 0
C102: October | D102: =ROUNDDOWN($E86*0.5326,0) -> 0 | E102: =ROUNDDOWN($E86*0.4575,0) -> 0 | F102: =ROUNDDOWN($E86*0.0099,0) -> 0 | H102: =ROUNDDOWN($G86*0.5326,0) -> 0 | I102: =ROUNDDOWN($G86*0.4575,0) -> 0 | J102: =ROUNDDOWN($G86*0.0099,0) -> 0
C103: November | D103: =ROUNDDOWN($E87*0.5326,0) -> 0 | E103: =ROUNDDOWN($E87*0.4575,0) -> 0 | F103: =ROUNDDOWN($E87*0.0099,0) -> 0 | H103: =ROUNDDOWN($G87*0.5326,0) -> 0 | I103: =ROUNDDOWN($G87*0.4575,0) -> 0 | J103: =ROUNDDOWN($G87*0.0099,0) -> 0
C104: December | D104: =ROUNDDOWN($E88*0.5326,0) -> 0 | E104: =ROUNDDOWN($E88*0.4575,0) -> 0 | F104: =ROUNDDOWN($E88*0.0099,0) -> 0 | H104: =ROUNDDOWN($G88*0.5326,0) -> 0 | I104: =ROUNDDOWN($G88*0.4575,0) -> 0 | J104: =ROUNDDOWN($G88*0.0099,0) -> 0
C106: *Applies to Near-Term Resource Multiplier (NTRM) or Distribution Circuit Multiplier (DCM) qualified projects. 10 years after SoQ, or for NTRM qualified proposals after December 31, 2036.
B110: ="Version: " & Version -> Version: RD2 FINAL
H111: Part VII (other)
C112: EXPECTED STORAGE non-CPEC Environmental Attribute - Description of schedule for delivery
C114: Project Title | E114: =IF(ProjTitle="","Auto-Filled",ProjTitle) -> Auto-Filled | R114: =IF(E114="","<<< Enter Information in Part II","")
R119: =IF(ISBLANK(C119),IF('Part III'!J21="Other","<<< Information may be Required.",""),"")
K335: {=IF('Part VII (Phase 2)'!H68>0,'Part VII (Phase 2)'!H68/('Part VII (Phase 2)'!K335:N277CntMax*8766),0)} -> #VALUE!

Sheet Part VIII
B2: ="Version " & Version -> Version RD2 FINAL
B3: Part VIII
B4: ISO-NE Capacity Auction Qualification
C8: Project Title | E8: =IF(ProjTitle="","Auto-Filled",ProjTitle) -> Auto-Filled
C10: Provide MW of expected qualified capacity for the Facility determined in accordance with the Forward Capacity Auction Qualification (“FCAQ”) process, or the ISO-NE replacement process, implemented after the FERC Order on Compliance with Order Nos. 2023/2023-A, which proposes to shift the Capacity Network Resource Interconnection Service (“CNRIS”) milestones from the Forward Capacity Market to the interconnection (cluster study) process.
C12: Phase | E12: First Capacity Commitment Period | G12: Summer | I12: Winter
C13: Phase 1 | E13: June 20xx through May 20yy | G13: MW | I13: MW | L13: =IF(OR(H13="",J13=""),"<<< Required Information","") -> <<< Required Information
C15: Phase 2 | E15: June 20xx through May 20yy | G15: MW | I15: MW | L15: =IF(NOT('Part IV'!J8="Yes"),"",IF(OR(H15="",J15=""),"<<< Required Information",""))
C16: (Change xx and yy to reflect first Capacity Commitment Period)
C18: Please confirm if you have completed the studies referenced in RFP Section 2.2.1.6 and included any completed studies with your bid submission. Please indicate the status of any studies not completed.
C23: Please explain:

Sheet Tables
B1: Validation Tables and Data
A3: Titles
A7: ISO NE Load Zones
B8: 4001 .Z.MAINE
B9: 4002 .Z.NEWHAMPSHIRE
B10: 4003 .Z.VERMONT
B11: 4004 .Z.CONNECTICUT
B12: 4005 .Z.RHODEISLAND
B13: 4006 .Z.SEMASS
B14: 4007 .Z.WCMASS
B15: 4008 .Z.NEMASSBOST
B16: External Interface
A18: Version
B19: RD2 FINAL
A21: CPS ACP
B22: 2025 | C22: 45
B23: 2026 | C23: 65
B24: 2027 | C24: 65
B25: 2028 | C25: 65
B26: 2029 | C26: 65
B27: 2030 | C27: 65
B28: 2031 | C28: 65
B29: 2032 | C29: 65
B30: 2033 | C30: 45
B31: 2034 | C31: 45
B32: 2035 | C32: 45
B33: 2036 | C33: 45
... B57: 2060 | C57: 0
A59: CPS Qualification
B60: Co-location with a Qualified RPS Resource
B61: Contractual pairing with a Qualified RPS Resource
B62: Charging coincident with periods of typically high renewable energy
B63: Demonstration of an operational schedule that serves to resolve load flow or power quality concerns otherwise associated with intermittent renewable energy resources
