Workbook
Name AnnTotGen1: 'Part V (Phase 2)'!$I$270:$J$270
Name AnnTotGen1: 'Part V (Phase 1)'!$I$270:$J$270
Name AvailFac: 'Part IV'!$J$46
Name BidderName: 'Part II'!$F$48
Name BidderRep: 'Part II'!$F$51
Name BidderRepTitle: 'Part II'!$D$53
Name Caddr1: 'Part II'!$E$72
Name Caddr1_2: 'Part II'!$E$83
Name Caddr2: 'Part II'!$E$73
Name Caddr2_2: 'Part II'!$E$84
Name CalcStorEff1: 'Part V (Phase 2)'!$O$265:$Q$265
Name CalcStorEff1: 'Part V (Phase 1)'!$O$265:$Q$265
Name CapGross: 'Part IV'!$G$16
Name CapNet: 'Part IV'!$J$16
Name CntMax: 'Part VII (Phase 2)'!$H$68*('Part VII (Phase 2)'!$H$70/100)
Name CntMax: 'Part VII (Phase 1)'!$H$68*('Part VII (Phase 1)'!$H$70/100)
Name CntName: 'Part II'!$E$69
Name CntName_2: 'Part II'!$E$80
Name DurationHrs: 'Part IV'!$J$20
Name DxMult: 'Part III'!$J$39
Name DxMultReservedMW: 'Part III'!$J$41
Name EligBidCategory: 'Part III'!$H$35:$O$35
Name Email: 'Part II'!$E$75
Name Email_2: 'Part II'!$E$86
Name EstCOD: 'Part IV'!$J$12
Name EvalCOD1: 'Part IV'!$J$14
Name IQ_CH: 110000
Name IQ_CQ: 5000
Name IQ_CY: 10000
Name IQ_DAILY: 500000
Name IQ_FH: 100000
Name IQ_FQ: 500
Name IQ_FY: 1000
Name IQ_LTM: 2000
Name IQ_MONTH: 15000
Name IQ_NTM: 6000
Name IQ_WEEK: 50000
Name IQ_YTD: 3000
Name LoadZone: 'Part IV'!$H$62
Name Maddr1: 'Part II'!$E$70
Name Maddr1_2: 'Part II'!$E$81
Name Maddr2: 'Part II'!$E$71
Name Maddr2_2: 'Part II'!$E$82
Name minChargeRate: 'Part IV'!$J$22
Name minDischargeRate: 'Part IV'!$J$28
Name MinPct: 'Part IV'!$J$56
Name MxChgRate1: 'Part IV'!$J$24
Name MxChgRate2: 'Part IV'!$J$95
Name MxDisch1: 'Part IV'!$J$30
Name MxDisch2: 'Part IV'!$J$101
Name PctAdj: 'Part IV'!$J$54
Name PctEnt: 'Part IV'!$J$50
Name PointDlvd: 'Part IV'!$G$60
Name ProjTitle: 'Part II'!$F$45
Name SignDate: 'Part II'!$I$53
Name SoQDate: 'Part III'!$J$45
Name StorageMWh: 'Part IV'!$J$18
Name StorCap: 'Part IV'!$J$18
Name StorEff1: 'Part IV'!$J$38
Name SumCSO: 'Part VIII'!$H$15

Sheet Part I
B2: ="Version " & Version -> Version RD2 FINAL
B3: Part I
F4: Guidelines and Instructions
B5: =Title2
B6: Certification, Project and Pricing Data (CPPD)
B40: ="Version " & Version -> Version RD2 FINAL
B41: Part I (continued)
F42: Guidelines and Instructions
B93: ="Version " & Version -> Version RD2 FINAL
B94: Part I (continued)
F95: Guidelines and Instructions

Sheet Part II
B2: ="Version " & Version -> Version RD2 FINAL
B3: Part II (a)
B4: Proposal Certification and Authorization (Appendix C)
B5: =Title1
B6: =Title2
D45: Project Title(s) | M45: =IF(F45="","<<< Required Information","") -> <<< Required Information
D46: (as Submitted to the Soliciting Parties)
D48: Bidder Name | M48: =IF(F48="","<<< Required Information","") -> <<< Required Information
D50: Bidder or Authorized
D51: Representative | M51: =IF(F51="","<<< Required Information","") -> <<< Required Information
M53: =IF(OR(D53="",I53=""),"<<< Required Information","") -> <<< Required Information
D54: Bidder Representative's Title | I54: Date
D56: See signed Certification form provided separately
D57: Signature of Bidder or Authorized Representative
B61: ="Version " & Version -> Version RD2 FINAL
B62: Part II (b)
B63: Bidder and Contact Information
C68: Contact Information For Project
C69: Name | M69: =IF(E69="","<<< Required Information","") -> <<< Required Information
C70: Mailing Address | M70: =IF(E70="","<<< Required Information","") -> <<< Required Information
C72: Courier Address (If Different)
C74: Telephone Number | M74: =IF(E74="","<<< Required Information","") -> <<< Required Information
C75: E-mail Address | M75: =IF(E75="","<<< Required Information","") -> <<< Required Information
C79: Alternate Contact (Optional)
C80: Name | M80: =IF(E80="","<<< Optional","") -> <<< Optional
C81: Mailing Address | M81: =IF(E81="","<<< Optional","") -> <<< Optional
C83: Courier Address (If Different)
C85: Telephone Number | M85: =IF(E85="","<<< Optional","") -> <<< Optional
C86: E-mail Address | M86: =IF(E86="","<<< Optional","") -> <<< Optional

Sheet Part III
B2: ="Version " & Version -> Version RD2 FINAL
B3: Part III
B4: Proposal Identification and Definitions
C6: Bidder Name | G6: =IF(BidderName<>"",BidderName,"") | Q6: =IF(G6="","<<< Enter Information in Part II","") -> <<< Enter Information in Part II
C8: Project Title | G8: =IF(ProjTitle<>"",ProjTitle,"") | Q8: =IF(G8="","<<< Enter Information in Part II","") -> <<< Enter Information in Part II
C10: How this proposal meets the definition of "Mid-duration Energy Storage System"?
Q12: =IF(C11="","<<< Required Information","") -> <<< Required Information
C16: Is the proposal a new or existing facility? If existing, but the proposal to compete for a long-term contract is only for an upgraded portion, select new.
L17: (New/Existing) | Q17: =IF(J17="","<<< Required Information","") -> <<< Required Information
C19: Is the proposal Transmission- or Distribution-Connected? | L19: (Tx/Dx) | Q19: =IF(I19="","<<< Required Information","") -> <<< Required Information
C21: Environmental Attribute Product: | L21: (CPEC/Other) | Q21: =IF(J21="","<<< Required Information","") -> <<< Required Information
C23: If other, please provide details of proposed Environmental Attribute:
Q25: =IF(J$21="Other",IF(C24="","<<< Required Information",""),"")
C29: How this proposal meets the definition of "Qualified Energy Storage System" per 225 CMR 21.02 of the Clean Peak Energy Portfolio Standard?
Q31: =IF(J$21="CPEC",IF(C30="","<<< Required Information",""),"")
C35: Indicate primary Eligibility Criteria to be used to demonstrate the project will be a Qualified Energy Storage System per 225 CMR 21.05 of the Clean Peak Energy Portfolio Standard: | Q35: =IF(J$21="CPEC",IF(H35="","<<< Required Information",""),"")
C37: Has this proposal reserved capacity or does the bidder intend to reserve the proposal capacity in either the Near-Term Resource Multiplier (NTRM) or Distribution Circuit Multiplier (DCM) programs within the CPS? | K37: (Yes, No, No - but intended, N/A) | Q37: =IF(AND($I$19="Distribution-Connected",J$21="CPEC"),IF(J37="","<<< Required Information",""),"")
D39: =IF(J37="Yes","If Yes, please identify which program and provide the reservation approval date as given in the approval letter from DOER.","If intended, please identify which program. A reservation approval date response is not required.") -> If intended, please identify which program. A reservation approval date response is not required. | K39: (DCM, NTRM, N/A) | N39: mm-dd-yyyy
D41: =IF(J37="Yes","If Yes, how much of the proposals capacity is reserved under the selected program?","If intended, how much of the proposals capacity might be reserved under the selected program?") -> If intended, how much of the proposals capacity might be reserved under the selected program? | K41: MW
C43: Has the proposal already received its Statement of Qualification (SoQ) from DOER? | K43: (Yes, No)
D45: =IF(J43="No","If the proposal has not received its SoQ, what is the assumed date the proposal with receive the SoQ? (This date will be used to determine the assumption around the 10 year application of the NTRM or DCM during the evaluation)","And when did the proposal receive its SoQ?") -> And when did the proposal receive its SoQ? | K45: mm-dd-yyyy

Sheet Part IV
B2: ="Version " & Version -> Version RD2 FINAL
B3: Part IV (a)
B4: Eligible Facility Summary Information
C6: Project Title | E6: =IF(ProjTitle<>"",ProjTitle,"") | M6: =IF(E6="","<<< Enter Information in Part II","") -> <<< Enter Information in Part II
C8: Does this proposal include a second phase of development? | K8: (Yes/No) | M8: =IF(J8="","<<< Required Information","") -> <<< Required Information
C9: =IF(J8="Yes","Complete Part IV (a) for the first phase and Part IV (b) for the second phase","")
C11: Guaranteed Commercial Operation Date (If an existing facility, please enter the proposed date of the Contract Services Term)
M12: =IF(J12="","<<< Required Information",IF(EstCOD>=DATE(2033,1,1),"COD must be before 1/1/2033","")) -> <<< Required Information
C14: For evaluation purposes, the term is assumed to start on the first day of the first full calendar month beginning on or after the Proposed Delivery Term Start Date or the Guaranteed Commercial Operation Date as applicable, as shown to the right: | J14: =MAX(EstCOD,IF(DAY(EstCOD)>1,DATE(YEAR(EstCOD),MONTH(EstCOD)+1,1),EstCOD)) -> 0
C16: Capacity of the proposal (MW) | G16: MW Full Rated Capacity | K16: MW Delivery | M16: =IF(OR(F16="",J16=""),"<<< Required Information","") -> <<< Required Information
J17: =IF(CapNet>CapGross,"(Value exceeds Gross Capacity)","")
C18: Storage Energy Capacity (MWh) | K18: MWh | M18: =IF(J18="","<<< Required Information","") -> <<< Required Information
C20: Discharge Duration at Full-Rated Capacity (hrs.) | K20: Hrs. | M20: =IF(J20="","<<< Required Information","") -> <<< Required Information
C22: Minimum Charge Rate (MW) | K22: MW | M22: =IF(J22="","<<< Required Information","") -> <<< Required Information
C24: Maximum Charge Rate (MW) | K24: MW | M24: =IF(J24="","<<< Required Information","") -> <<< Required Information
C26: Charge Ramp Rate (MW/min) | K26: MW/min | M26: =IF(J26="","<<< Required Information","") -> <<< Required Information
C28: Minimum Discharge Rate (MW) | K28: MW | M28: =IF(J28="","<<< Required Information","") -> <<< Required Information
C30: Maximum Discharge Rate (MW) | K30: MW | M30: =IF(J30="","<<< Required Information","") -> <<< Required Information
C32: Discharge Ramp Rate (MW/min)* | K32: MW/min | M32: =IF(J32="","<<< Required Information","") -> <<< Required Information
C34: Charging Efficiency (%) | K34: % | M34: =IF(J34="","<<< Required Information","") -> <<< Required Information
C36: Discharging Efficiency (%) | K36: % | M36: =IF(J36="","<<< Required Information","") -> <<< Required Information
C38: Round Trip Efficiency (%) | K38: % | M38: =IF(J38="","<<< Required Information","") -> <<< Required Information
C40: Maximum Station Service Load (kW) | K40: kW | M40: =IF(J40="","<<< Required Information","") -> <<< Required Information
... C50: Buyers' Percentage Entitlement of facility output | K50: % | M50: =IF(J50="","<<< Required Information","") -> <<< Required Information
C51: (Enter Percent relative to entire Facility)
C53: Is the Buyers' Percentage Entitlement scalable downward in the event that acceptance of the full amount offered would result in exceedance of the target procurement amount? (note: if the percentage the buyers would be entitled to is scalable, the full capacity of the facility must still be developed.)
K54: (Yes/No) | M54: =IF(J54="","<<< Required Information","") -> <<< Required Information
C56: What is the minimum Buyers' Percentage Entitlement acceptable ? | K56: % | M56: =IF(J56="","<<< Required Information","") -> <<< Required Information
C58: Does the bidder intend to seek additional buyers or offtakers, other than the MA EDCs included here? | K58: (Yes/No) | M58: =IF(J58="","<<< Required Information","") -> <<< Required Information
C60: Proposed Delivery Point(s)** | M60: =IF(G60="","<<< Required Information","") -> <<< Required Information
C62: ISO New England Load Zone for Proposed Delivery Point | M62: =IF(H62="","<<< Required Information","") -> <<< Required Information
C64: For distribution-connected only, proposed interconnection point is approved per ISA (yes/no)
K65: (Yes/No) | M65: =IF(AND(TxDx="Distribution-connected",H65=""),"<<< Required Information","")
C67: Note: Please provide any additional technical information about the Energy Storage System that the Evaluation Team would need to consider to evaluate the Opertional Information Bidder provided in Part V (e.g., Min/Max cycles per day or year or lifetime, factors that impact above stated technical information and how that technical information would change) as part of the response to Section A-3 of the Bidder Response Form.
B73: Please note: For transmission-connected projects, the Delivery Point must be the specific Node on the ISO-NE Pool Transmission Facilities, as determined by ISO-NE, where Seller shall transmit its Energy to Buyer, as set forth in Exhibit A to the contract. Seller shall be responsible for all applicable charges associated with transmission interconnection, service and delivery charges, including all related ISO-NE administrative fees and other FERC-approved charges in connection with the Delivery of Energy to the Delivery Point.
B74: * Ensure discharge rate complies with technical standards required by distribution systems companies **The single Delivery Point proposed by Buyer or if there are two proposed Delivery Points, only where there is a specified allocation of energy between the Delivery Points (in contrast to a proposed and alternative Delivery Point). For distribution projects only, please enter proposed interconnection point (i.e. substation, feeder) or reference the section of the bidder package that describes the facility and includes interconnection details.
B76: ="Version " & Version -> Version RD2 FINAL
B77: Part IV (b)
B78: Eligible Facility Summary Information, Phase 2 (if applicable)
C80: Project Title | E80: =IF(ProjTitle<>"",ProjTitle,"") | M80: =IF(J8="Yes",IF(E80="","<<< Enter Information in Part II",""),"")
...

Sheet Part V (Phase 1)
B1: =IF('Part IV'!J8="Yes","Storage Energy System - Phase 1 ONLY","Storage Energy System") -> Storage Energy System
B2: ="Version: " & Version -> Version: RD2 FINAL | X2: ="Version " & Version -> Version RD2 FINAL
B3: Part V (a) | X3: Part V (a) (i) - Energy Storage
B4: Operational Information - Energy Storage Charging/Discharging Schedule | R4: Data Entry | Y4: Representative Energy Storage Charging/Discharging Schedule in Representative Year
C5: Project Title | E5: =IF(ProjTitle="","Auto-Filled",ProjTitle) -> Auto-Filled | L5: Data Entry: | M5: Hourly Profile | T5: =IF(M5="","<<< Required Information",IF(M5="hourly profile"," Enter Hourly Profile in Part V(a) (i) >>>>>>","")) -> Enter Hourly Profile in Part V(a) (i) >>>>>>
Z6: Enter Representative Hourly Charging (-) and Discharging (+) Schedule for | AJ6: 2012 | AK6: weather year
X8: JANUARY | Z8: =IFERROR(SUMIF(Z11:Z34,">0",Z11:Z34)/-SUMIF(Z11:Z34,"<0",Z11:Z34),"") | AA8: =IFERROR(SUMIF(AA11:AA34,">0",AA11:AA34)/-SUMIF(AA11:AA34,"<0",AA11:AA34),"") | AB8: =IFERROR(SUMIF(AB11:AB34,">0",AB11:AB34)/-SUMIF(AB11:AB34,"<0",AB11:AB34),"") | AC8: =IFERROR(SUMIF(AC11:AC34,">0",AC11:AC34)/-SUMIF(AC11:AC34,"<0",AC11:AC34),"") | AD8: =IFERROR(SUMIF(AD11:AD34,">0",AD11:AD34)/-SUMIF(AD11:AD34,"<0",AD11:AD34),"") | AE8: =IFERROR(SUMIF(AE11:AE34,">0",AE11:AE34)/-SUMIF(AE11:AE34,"<0",AE11:AE34),"") | AF8: =IFERROR(SUMIF(AF11:AF34,">0",AF11:AF34)/-SUMIF(AF11:AF34,"<0",AF11:AF34),"") | AG8: =IFERROR(SUMIF(AG11:AG34,">0",AG11:AG34)/-SUMIF(AG11:AG34,"<0",AG11:AG34),"") | ... BD8: =IFERROR(SUMIF(BD11:BD34,">0",BD11:BD34)/-SUMIF(BD11:BD34,"<0",BD11:BD34),"")
Y9: HE | Z9: 1 | AA9: 2 | AB9: 3 | AC9: 4 | AD9: 5 | AE9: 6 | AF9: 7 | AG9: 8 | AH9: 9 | AI9: 10 | AJ9: 11 | AK9: 12 | AL9: 13 | AM9: 14 | AN9: 15 | AO9: 16 | AP9: 17 | AQ9: 18 | AR9: 19 | AS9: 20 | AT9: 21 | AU9: 22 | AV9: 23 | AW9: 24 | AX9: 25 | AY9: 26 | AZ9: 27 | BA9: 28 | BB9: 29 | BC9: 30 | BD9: 31 | BE9: Month | BG9: Off-Pk | BH9: On-Peak | BI9: Charging | BJ9: Discharging | BY9: VLOOKUP
Z10: =VLOOKUP(WEEKDAY(CONCATENATE("1","/",Z9,"/",$AJ$6)),$BY$11:$BZ$17,2,FALSE) -> Sun | AA10: =VLOOKUP(WEEKDAY(CONCATENATE("1","/",AA9,"/",$AJ$6)),$BY$11:$BZ$17,2,FALSE) -> Mon | AB10: =VLOOKUP(WEEKDAY(CONCATENATE("1","/",AB9,"/",$AJ$6)),$BY$11:$BZ$17,2,FALSE) -> Tues | AC10: =VLOOKUP(WEEKDAY(CONCATENATE("1","/",AC9,"/",$AJ$6)),$BY$11:$BZ$17,2,FALSE) -> Wed | AD10: =VLOOKUP(WEEKDAY(CONCATENATE("1","/",AD9,"/",$AJ$6)),$BY$11:$BZ$17,2,FALSE) -> Thur | AE10: =VLOOKUP(WEEKDAY(CONCATENATE("1","/",AE9,"/",$AJ$6)),$BY$11:$BZ$17,2,FALSE) -> Fri | AF10: =VLOOKUP(WEEKDAY(CONCATENATE("1","/",AF9,"/",$AJ$6)),$BY$11:$BZ$17,2,FALSE) -> Sat | AG10: =Z10 -> Sun | AH10: =AA10 -> Mon | AI10: =AB10 -> Tues | AJ10: =AC10 -> Wed | AK10: =AD10 -> Thur | AL10: =AE10 -> Fri | AM10: =AF10 -> Sat | AN10: =AG10 -> Sun | ... BD10: =AW10 -> Tues | BE10: Avg | BG10: MWh | BH10: MWh | BI10: MWh | BJ10: MWh | BK10: =COUNT(Z11:BD34,Z42:BA65,Z73:BD96,Z104:BC127,Z135:BD158,Z166:BC189,Z197:BD220,Z228:BD251,Z259:BC282,Z290:BD313,Z321:BC344,Z352:BD375) -> 0 | BL10: Cells with Contents | BY10: Weekday | BZ10: DayofWeek
Y11: 1 | BE11: =SUM(Z11:BD11)/COUNT(Z$9:BD$9) -> 0 | BF11: =SUM(AA11:BC11)/COUNT(AA$40:BC$40) -> 0 | BG11: =SUM($Z11:$BD11) -> 0 | BH11: 0 | BI11: =SUMIF(Z11:BD11,"<0",Z11:BD11) -> 0 | BJ11: =SUMIF(Z11:BD11,">0",Z11:BD11) -> 0 | BY11: 1 | BZ11: Sun
U12: =IF(AND(BK10<8760,M5="Hourly Profile"),"Full Hourly Matrix is Required Information>>>","") -> Full Hourly Matrix is Required Information>>> | Y12: 2 | BE12: =SUM(Z12:BD12)/COUNT(Z$9:BD$9) -> 0 | BF12: =SUM(AA12:BC12)/COUNT(AA$40:BC$40) -> 0 | BG12: =SUM($Z12:$BD12) -> 0 | BH12: 0 | BI12: =SUMIF(Z12:BD12,"<0",Z12:BD12) -> 0 | BJ12: =SUMIF(Z12:BD12,">0",Z12:BD12) -> 0 | BY12: 2 | BZ12: Mon
Y13: 3 | BE13: =SUM(Z13:BD13)/COUNT(Z$9:BD$9) -> 0 | BF13: =SUM(AA13:BC13)/COUNT(AA$40:BC$40) -> 0 | BG13: =SUM($Z13:$BD13) -> 0 | BH13: 0 | BI13: =SUMIF(Z13:BD13,"<0",Z13:BD13) -> 0 | BJ13: =SUMIF(Z13:BD13,">0",Z13:BD13) -> 0 | BY13: 3 | BZ13: Tues
R14: =IF(C13="","<<< Required Information","") -> <<< Required Information | V14: =IF(BL380>0,CONCATENATE("(",BL380,") Hours above Maximum Discharge Rate>>>"),"") | Y14: 4 | BE14: =SUM(Z14:BD14)/COUNT(Z$9:BD$9) -> 0 | BF14: =SUM(AA14:BC14)/COUNT(AA$40:BC$40) -> 0 | BG14: =SUM($Z14:$BD14) -> 0 | BH14: 0 | BI14: =SUMIF(Z14:BD14,"<0",Z14:BD14) -> 0 | BJ14: =SUMIF(Z14:BD14,">0",Z14:BD14) -> 0 | BY14: 4 | BZ14: Wed
Y15: 5 | BE15: =SUM(Z15:BD15)/COUNT(Z$9:BD$9) -> 0 | BF15: =SUM(AA15:BC15)/COUNT(AA$40:BC$40) -> 0 | BG15: =SUM($Z15:$BD15) -> 0 | BH15: 0 | BI15: =SUMIF(Z15:BD15,"<0",Z15:BD15) -> 0 | BJ15: =SUMIF(Z15:BD15,">0",Z15:BD15) -> 0 | BY15: 5 | BZ15: Thur
V16: =IF(BL381>0,CONCATENATE("(",BL381,") Hours above Maximum Charge Rate>>>"),"") | Y16: 6 | BE16: =SUM(Z16:BD16)/COUNT(Z$9:BD$9) -> 0 | BF16: =SUM(AA16:BC16)/COUNT(AA$40:BC$40) -> 0 | BG16: =SUM($Z16:$BD16) -> 0 | BH16: 0 | BI16: =SUMIF(Z16:BD16,"<0",Z16:BD16) -> 0 | BJ16: =SUMIF(Z16:BD16,">0",Z16:BD16) -> 0 | BY16: 6 | BZ16: Fri
Y17: 7 | BE17: =SUM(Z17:BD17)/COUNT(Z$9:BD$9) -> 0 | BF17: =SUM(AA17:BC17)/COUNT(AA$40:BC$40) -> 0 | BG17: =SUM($Z17:$BD17) -> 0 | BH17: 0 | BI17: =SUMIF(Z17:BD17,"<0",Z17:BD17) -> 0 | BJ17: =SUMIF(Z17:BD17,">0",Z17:BD17) -> 0 | BY17: 7 | BZ17: Sat
Y18: 8 | BE18: =SUM(Z18:BD18)/COUNT(Z$9:BD$9) -> 0 | BF18: =SUM(AA18:BC18)/COUNT(AA$40:BC$40) -> 0 | BG18: =(SUMIF($Z$10:$BD$10,"Sat",$Z18:$BD18)+SUMIF($Z$10:$BD$10,"Sun",$Z18:$BD18)) -> 0 | BH18: =(SUM($Z18:$BD18)-(SUMIF($Z$10:$BD$10,"Sat",$Z18:$BD18)+SUMIF($Z$10:$BD$10,"Sun",$Z18:$BD18))) -> 0 | BI18: =SUMIF(Z18:BD18,"<0",Z18:BD18) -> 0 | BJ18: =SUMIF(Z18:BD18,">0",Z18:BD18) -> 0
Y19: 9 | BE19: =SUM(Z19:BD19)/COUNT(Z$9:BD$9) -> 0 | BF19: =SUM(AA19:BC19)/COUNT(AA$40:BC$40) -> 0 | BG19: =(SUMIF($Z$10:$BD$10,"Sat",$Z19:$BD19)+SUMIF($Z$10:$BD$10,"Sun",$Z19:$BD19)) -> 0 | BH19: =(SUM($Z19:$BD19)-(SUMIF($Z$10:$BD$10,"Sat",$Z19:$BD19)+SUMIF($Z$10:$BD$10,"Sun",$Z19:$BD19))) -> 0 | BI19: =SUMIF(Z19:BD19,"<0",Z19:BD19) -> 0 | BJ19: =SUMIF(Z19:BD19,">0",Z19:BD19) -> 0
Y20: 10 | BE20: =SUM(Z20:BD20)/COUNT(Z$9:BD$9) -> 0 | BF20: =SUM(AA20:BC20)/COUNT(AA$40:BC$40) -> 0 | BG20: =(SUMIF($Z$10:$BD$10,"Sat",$Z20:$BD20)+SUMIF($Z$10:$BD$10,"Sun",$Z20:$BD20)) -> 0 | BH20: =(SUM($Z20:$BD20)-(SUMIF($Z$10:$BD$10,"Sat",$Z20:$BD20)+SUMIF($Z$10:$BD$10,"Sun",$Z20:$BD20))) -> 0 | BI20: =SUMIF(Z20:BD20,"<0",Z20:BD20) -> 0 | BJ20: =SUMIF(Z20:BD20,">0",Z20:BD20) -> 0
Y21: 11 | BE21: =SUM(Z21:BD21)/COUNT(Z$9:BD$9) -> 0 | BF21: =SUM(AA21:BC21)/COUNT(AA$40:BC$40) -> 0 | BG21: =(SUMIF($Z$10:$BD$10,"Sat",$Z21:$BD21)+SUMIF($Z$10:$BD$10,"Sun",$Z21:$BD21)) -> 0 | BH21: =(SUM($Z21:$BD21)-(SUMIF($Z$10:$BD$10,"Sat",$Z21:$BD21)+SUMIF($Z$10:$BD$10,"Sun",$Z21:$BD21))) -> 0 | BI21: =SUMIF(Z21:BD21,"<0",Z21:BD21) -> 0 | BJ21: =SUMIF(Z21:BD21,">0",Z21:BD21) -> 0
Y22: 12 | BE22: =SUM(Z22:BD22)/COUNT(Z$9:BD$9) -> 0 | BF22: =SUM(AA22:BC22)/COUNT(AA$40:BC$40) -> 0 | BG22: =(SUMIF($Z$10:$BD$10,"Sat",$Z22:$BD22)+SUMIF($Z$10:$BD$10,"Sun",$Z22:$BD22)) -> 0 | BH22: =(SUM($Z22:$BD22)-(SUMIF($Z$10:$BD$10,"Sat",$Z22:$BD22)+SUMIF($Z$10:$BD$10,"Sun",$Z22:$BD22))) -> 0 | BI22: =SUMIF(Z22:BD22,"<0",Z22:BD22) -> 0 | BJ22: =SUMIF(Z22:BD22,">0",Z22:BD22) -> 0
Y23: 13 | BE23: =SUM(Z23:BD23)/COUNT(Z$9:BD$9) -> 0 | BF23: =SUM(AA23:BC23)/COUNT(AA$40:BC$40) -> 0 | BG23: =(SUMIF($Z$10:$BD$10,"Sat",$Z23:$BD23)+SUMIF($Z$10:$BD$10,"Sun",$Z23:$BD23)) -> 0 | BH23: =(SUM($Z23:$BD23)-(SUMIF($Z$10:$BD$10,"Sat",$Z23:$BD23)+SUMIF($Z$10:$BD$10,"Sun",$Z23:$BD23))) -> 0 | BI23: =SUMIF(Z23:BD23,"<0",Z23:BD23) -> 0 | BJ23: =SUMIF(Z23:BD23,">0",Z23:BD23) -> 0
Y24: 14 | BE24: =SUM(Z24:BD24)/COUNT(Z$9:BD$9) -> 0 | BF24: =SUM(AA24:BC24)/COUNT(AA$40:BC$40) -> 0 | BG24: =(SUMIF($Z$10:$BD$10,"Sat",$Z24:$BD24)+SUMIF($Z$10:$BD$10,"Sun",$Z24:$BD24)) -> 0 | BH24: =(SUM($Z24:$BD24)-(SUMIF($Z$10:$BD$10,"Sat",$Z24:$BD24)+SUMIF($Z$10:$BD$10,"Sun",$Z24:$BD24))) -> 0 | BI24: =SUMIF(Z24:BD24,"<0",Z24:BD24) -> 0 | BJ24: =SUMIF(Z24:BD24,">0",Z24:BD24) -> 0
Y25: 15 | BE25: =SUM(Z25:BD25)/COUNT(Z$9:BD$9) -> 0 | BF25: =SUM(AA25:BC25)/COUNT(AA$40:BC$40) -> 0 | BG25: =(SUMIF($Z$10:$BD$10,"Sat",$Z25:$BD25)+SUMIF($Z$10:$BD$10,"Sun",$Z25:$BD25)) -> 0 | BH25: =(SUM($Z25:$BD25)-(SUMIF($Z$10:$BD$10,"Sat",$Z25:$BD25)+SUMIF($Z$10:$BD$10,"Sun",$Z25:$BD25))) -> 0 | BI25: =SUMIF(Z25:BD25,"<0",Z25:BD25) -> 0 | BJ25: =SUMIF(Z25:BD25,">0",Z25:BD25) -> 0
C26: This table is calculated from data entry in Part V(a). You must insert an Hourly Profile to the right for the entire facility. | Y26: 16 | BE26: =SUM(Z26:BD26)/COUNT(Z$9:BD$9) -> 0 | BF26: =SUM(AA26:BC26)/COUNT(AA$40:BC$40) -> 0 | BG26: =(SUMIF($Z$10:$BD$10,"Sat",$Z26:$BD26)+SUMIF($Z$10:$BD$10,"Sun",$Z26:$BD26)) -> 0 | BH26: =(SUM($Z26:$BD26)-(SUMIF($Z$10:$BD$10,"Sat",$Z26:$BD26)+SUMIF($Z$10:$BD$10,"Sun",$Z26:$BD26))) -> 0 | BI26: =SUMIF(Z26:BD26,"<0",Z26:BD26) -> 0 | BJ26: =SUMIF(Z26:BD26,">0",Z26:BD26) -> 0
D27: HOURLY STORAGE ENERGY FLOW in MW (averaged) - 12 Months by 24 Hours For Representative Day For Each Month | Y27: 17 | BE27: =SUM(Z27:BD27)/COUNT(Z$9:BD$9) -> 0 | BF27: =SUM(AA27:BC27)/COUNT(AA$40:BC$40) -> 0 | BG27: =(SUMIF($Z$10:$BD$10,"Sat",$Z27:$BD27)+SUMIF($Z$10:$BD$10,"Sun",$Z27:$BD27)) -> 0 | BH27: =(SUM($Z27:$BD27)-(SUMIF($Z$10:$BD$10,"Sat",$Z27:$BD27)+SUMIF($Z$10:$BD$10,"Sun",$Z27:$BD27))) -> 0 | BI27: =SUMIF(Z27:BD27,"<0",Z27:BD27) -> 0 | BJ27: =SUMIF(Z27:BD27,">0",Z27:BD27) -> 0
Y28: 18 | BE28: =SUM(Z28:BD28)/COUNT(Z$9:BD$9) -> 0 | BF28: =SUM(AA28:BC28)/COUNT(AA$40:BC$40) -> 0 | BG28: =(SUMIF($Z$10:$BD$10,"Sat",$Z28:$BD28)+SUMIF($Z$10:$BD$10,"Sun",$Z28:$BD28)) -> 0 | BH28: =(SUM($Z28:$BD28)-(SUMIF($Z$10:$BD$10,"Sat",$Z28:$BD28)+SUMIF($Z$10:$BD$10,"Sun",$Z28:$BD28))) -> 0 | BI28: =SUMIF(Z28:BD28,"<0",Z28:BD28) -> 0 | BJ28: =SUMIF(Z28:BD28,">0",Z28:BD28) -> 0
C29: HE | D29: Jan | E29: Feb | F29: Mar | G29: Apr | H29: May | I29: Jun | J29: Jul | K29: Aug | L29: Sep | M29: Oct | N29: Nov | O29: Dec | Y29: 19 | BE29: =SUM(Z29:BD29)/COUNT(Z$9:BD$9) -> 0 | BF29: =SUM(AA29:BC29)/COUNT(AA$40:BC$40) -> 0 | BG29: =(SUMIF($Z$10:$BD$10,"Sat",$Z29:$BD29)+SUMIF($Z$10:$BD$10,"Sun",$Z29:$BD29)) -> 0 | BH29: =(SUM($Z29:$BD29)-(SUMIF($Z$10:$BD$10,"Sat",$Z29:$BD29)+SUMIF($Z$10:$BD$10,"Sun",$Z29:$BD29))) -> 0 | BI29: =SUMIF(Z29:BD29,"<0",Z29:BD29) -> 0 | BJ29: =SUMIF(Z29:BD29,">0",Z29:BD29) -> 0
C30: 1 | D30: =IFERROR(IF($BE11="",0,$BE11),0) -> 0 | E30: =IFERROR(IF($BE42="",0,$BE42),0) -> 0 | F30: =IFERROR(IF($BE73="",0,$BE73),0) -> 0 | G30: =IFERROR(IF($BE104="",0,$BE104),0) -> 0 | H30: =IFERROR(IF($BE135="",0,$BE135),0) -> 0 | I30: =IFERROR(IF($BE166="",0,$BE166),0) -> 0 | J30: =IFERROR(IF($BE197="",0,$BE197),0) -> 0 | K30: =IFERROR(IF($BE228="",0,$BE228),0) -> 0 | L30: =IFERROR(IF($BE259="",0,$BE259),0) -> 0 | M30: =IFERROR(IF($BE290="",0,$BE290),0) -> 0 | N30: =IFERROR(IF($BE321="",0,$BE321),0) -> 0 | O30: =IFERROR(IF($BE352="",0,$BE352),0) -> 0 | Y30: 20 | BE30: =SUM(Z30:BD30)/COUNT(Z$9:BD$9) -> 0 | BF30: =SUM(AA30:BC30)/COUNT(AA$40:BC$40) -> 0 | BG30: =(SUMIF($Z$10:$BD$10,"Sat",$Z30:$BD30)+SUMIF($Z$10:$BD$10,"Sun",$Z30:$BD30)) -> 0 | BH30: =(SUM($Z30:$BD30)-(SUMIF($Z$10:$BD$10,"Sat",$Z30:$BD30)+SUMIF($Z$10:$BD$10,"Sun",$Z30:$BD30))) -> 0 | BI30: =SUMIF(Z30:BD30,"<0",Z30:BD30) -> 0 | BJ30: =SUMIF(Z30:BD30,">0",Z30:BD30) -> 0
C31: 2 | D31: =IFERROR(IF($BE12="",0,$BE12),0) -> 0 | E31: =IFERROR(IF($BE43="",0,$BE43),0) -> 0 | F31: =IFERROR(IF($BE74="",0,$BE74),0) -> 0 | G31: =IFERROR(IF($BE105="",0,$BE105),0) -> 0 | H31: =IFERROR(IF($BE136="",0,$BE136),0) -> 0 | I31: =IFERROR(IF($BE167="",0,$BE167),0) -> 0 | J31: =IFERROR(IF($BE198="",0,$BE198),0) -> 0 | K31: =IFERROR(IF($BE229="",0,$BE229),0) -> 0 | L31: =IFERROR(IF($BE260="",0,$BE260),0) -> 0 | M31: =IFERROR(IF($BE291="",0,$BE291),0) -> 0 | N31: =IFERROR(IF($BE322="",0,$BE322),0) -> 0 | O31: =IFERROR(IF($BE353="",0,$BE353),0) -> 0 | Y31: 21 | BE31: =SUM(Z31:BD31)/COUNT(Z$9:BD$9) -> 0 | BF31: =SUM(AA31:BC31)/COUNT(AA$40:BC$40) -> 0 | BG31: =(SUMIF($Z$10:$BD$10,"Sat",$Z31:$BD31)+SUMIF($Z$10:$BD$10,"Sun",$Z31:$BD31)) -> 0 | BH31: =(SUM($Z31:$BD31)-(SUMIF($Z$10:$BD$10,"Sat",$Z31:$BD31)+SUMIF($Z$10:$BD$10,"Sun",$Z31:$BD31))) -> 0 | BI31: =SUMIF(Z31:BD31,"<0",Z31:BD31) -> 0 | BJ31: =SUMIF(Z31:BD31,">0",Z31:BD31) -> 0
C32: 3 | D32: =IFERROR(IF($BE13="",0,$BE13),0) -> 0 | E32: =IFERROR(IF($BE44="",0,$BE44),0) -> 0 | F32: =IFERROR(IF($BE75="",0,$BE75),0) -> 0 | G32: =IFERROR(IF($BE106="",0,$BE106),0) -> 0 | H32: =IFERROR(IF($BE137="",0,$BE137),0) -> 0 | I32: =IFERROR(IF($BE168="",0,$BE168),0) -> 0 | J32: =IFERROR(IF($BE199="",0,$BE199),0) -> 0 | K32: =IFERROR(IF($BE230="",0,$BE230),0) -> 0 | L32: =IFERROR(IF($BE261="",0,$BE261),0) -> 0 | M32: =IFERROR(IF($BE292="",0,$BE292),0) -> 0 | N32: =IFERROR(IF($BE323="",0,$BE323),0) -> 0 | O32: =IFERROR(IF($BE354="",0,$BE354),0) -> 0 | Y32: 22 | BE32: =SUM(Z32:BD32)/COUNT(Z$9:BD$9) -> 0 | BF32: =SUM(AA32:BC32)/COUNT(AA$40:BC$40) -> 0 | BG32: =(SUMIF($Z$10:$BD$10,"Sat",$Z32:$BD32)+SUMIF($Z$10:$BD$10,"Sun",$Z32:$BD32)) -> 0 | BH32: =(SUM($Z32:$BD32)-(SUMIF($Z$10:$BD$10,"Sat",$Z32:$BD32)+SUMIF($Z$10:$BD$10,"Sun",$Z32:$BD32))) -> 0 | BI32: =SUMIF(Z32:BD32,"<0",Z32:BD32) -> 0 | BJ32: =SUMIF(Z32:BD32,">0",Z32:BD32) -> 0 | BM32: Monthly
C33: 4 | D33: =IFERROR(IF($BE14="",0,$BE14),0) -> 0 | E33: =IFERROR(IF($BE45="",0,$BE45),0) -> 0 | F33: =IFERROR(IF($BE76="",0,$BE76),0) -> 0 | G33: =IFERROR(IF($BE107="",0,$BE107),0) -> 0 | H33: =IFERROR(IF($BE138="",0,$BE138),0) -> 0 | I33: =IFERROR(IF($BE169="",0,$BE169),0) -> 0 | J33: =IFERROR(IF($BE200="",0,$BE200),0) -> 0 | K33: =IFERROR(IF($BE231="",0,$BE231),0) -> 0 | L33: =IFERROR(IF($BE262="",0,$BE262),0) -> 0 | M33: =IFERROR(IF($BE293="",0,$BE293),0) -> 0 | N33: =IFERROR(IF($BE324="",0,$BE324),0) -> 0 | O33: =IFERROR(IF($BE355="",0,$BE355),0) -> 0 | Y33: 23 | BE33: =SUM(Z33:BD33)/COUNT(Z$9:BD$9) -> 0 | BF33: =SUM(AA33:BC33)/COUNT(AA$40:BC$40) -> 0 | BG33: =(SUMIF($Z$10:$BD$10,"Sat",$Z33:$BD33)+SUMIF($Z$10:$BD$10,"Sun",$Z33:$BD33)) -> 0 | BH33: =(SUM($Z33:$BD33)-(SUMIF($Z$10:$BD$10,"Sat",$Z33:$BD33)+SUMIF($Z$10:$BD$10,"Sun",$Z33:$BD33))) -> 0 | BI33: =SUMIF(Z33:BD33,"<0",Z33:BD33) -> 0 | BJ33: =SUMIF(Z33:BD33,">0",Z33:BD33) -> 0 | BL33: =COUNTIF(Z11:BD34,">"&MxDisch1) -> 0 | BM33: Hours above Maximum Discharge Rate
C34: 5 | D34: =IFERROR(IF($BE15="",0,$BE15),0) -> 0 | E34: =IFERROR(IF($BE46="",0,$BE46),0) -> 0 | F34: =IFERROR(IF($BE77="",0,$BE77),0) -> 0 | G34: =IFERROR(IF($BE108="",0,$BE108),0) -> 0 | H34: =IFERROR(IF($BE139="",0,$BE139),0) -> 0 | I34: =IFERROR(IF($BE170="",0,$BE170),0) -> 0 | J34: =IFERROR(IF($BE201="",0,$BE201),0) -> 0 | K34: =IFERROR(IF($BE232="",0,$BE232),0) -> 0 | L34: =IFERROR(IF($BE263="",0,$BE263),0) -> 0 | M34: =IFERROR(IF($BE294="",0,$BE294),0) -> 0 | N34: =IFERROR(IF($BE325="",0,$BE325),0) -> 0 | O34: =IFERROR(IF($BE356="",0,$BE356),0) -> 0 | Y34: 24 | BE34: =SUM(Z34:BD34)/COUNT(Z$9:BD$9) -> 0 | BF34: =SUM(AA34:BC34)/COUNT(AA$40:BC$40) -> 0 | BG34: =SUM($Z34:$BD34) -> 0 | BH34: 0 | BI34: =SUMIF(Z34:BD34,"<0",Z34:BD34) -> 0 | BJ34: =SUMIF(Z34:BD34,">0",Z34:BD34) -> 0 | BL34: =COUNTIF(Z11:BD34,"<"&-MxChgRate1) -> 0 | BM34: Hours above Maximum Charge Rate
C35: 6 | D35: =IFERROR(IF($BE16="",0,$BE16),0) -> 0 | E35: =IFERROR(IF($BE47="",0,$BE47),0) -> 0 | F35: =IFERROR(IF($BE78="",0,$BE78),0) -> 0 | G35: =IFERROR(IF($BE109="",0,$BE109),0) -> 0 | H35: =IFERROR(IF($BE140="",0,$BE140),0) -> 0 | I35: =IFERROR(IF($BE171="",0,$BE171),0) -> 0 | J35: =IFERROR(IF($BE202="",0,$BE202),0) -> 0 | K35: =IFERROR(IF($BE233="",0,$BE233),0) -> 0 | L35: =IFERROR(IF($BE264="",0,$BE264),0) -> 0 | M35: =IFERROR(IF($BE295="",0,$BE295),0) -> 0 | N35: =IFERROR(IF($BE326="",0,$BE326),0) -> 0 | O35: =IFERROR(IF($BE357="",0,$BE357),0) -> 0
C36: 7 | D36: =IFERROR(IF($BE17="",0,$BE17),0) -> 0 | E36: =IFERROR(IF($BE48="",0,$BE48),0) -> 0 | F36: =IFERROR(IF($BE79="",0,$BE79),0) -> 0 | G36: =IFERROR(IF($BE110="",0,$BE110),0) -> 0 | H36: =IFERROR(IF($BE141="",0,$BE141),0) -> 0 | I36: =IFERROR(IF($BE172="",0,$BE172),0) -> 0 | J36: =IFERROR(IF($BE203="",0,$BE203),0) -> 0 | K36: =IFERROR(IF($BE234="",0,$BE234),0) -> 0 | L36: =IFERROR(IF($BE265="",0,$BE265),0) -> 0 | M36: =IFERROR(IF($BE296="",0,$BE296),0) -> 0 | N36: =IFERROR(IF($BE327="",0,$BE327),0) -> 0 | O36: =IFERROR(IF($BE358="",0,$BE358),0) -> 0 | Z36: =IF(SUM(Z11:Z34)>0,"Verify","") | AA36: =IF(SUM(AA11:AA34)>0,"Verify","") | AB36: =IF(SUM(AB11:AB34)>0,"Verify","") | AC36: =IF(SUM(AC11:AC34)>0,"Verify","") | AD36: =IF(SUM(AD11:AD34)>0,"Verify","") | AE36: =IF(SUM(AE11:AE34)>0,"Verify","") | AF36: =IF(SUM(AF11:AF34)>0,"Verify","") | AG36: =IF(SUM(AG11:AG34)>0,"Verify","") | ... BD36: =IF(SUM(BD11:BD34)>0,"Verify","") | BG36: =SUM(BG11:BG34) -> 0 | BH36: =SUM(BH18:BH33) -> 0 | BI36: =SUM(BI11:BI34) -> 0 | BJ36: =SUM(BJ11:BJ34) -> 0
C37: 8 | D37: =IFERROR(IF($BE18="",0,$BE18),0) -> 0 | E37: =IFERROR(IF($BE49="",0,$BE49),0) -> 0 | F37: =IFERROR(IF($BE80="",0,$BE80),0) -> 0 | G37: =IFERROR(IF($BE111="",0,$BE111),0) -> 0 | H37: =IFERROR(IF($BE142="",0,$BE142),0) -> 0 | I37: =IFERROR(IF($BE173="",0,$BE173),0) -> 0 | J37: =IFERROR(IF($BE204="",0,$BE204),0) -> 0 | K37: =IFERROR(IF($BE235="",0,$BE235),0) -> 0 | L37: =IFERROR(IF($BE266="",0,$BE266),0) -> 0 | M37: =IFERROR(IF($BE297="",0,$BE297),0) -> 0 | N37: =IFERROR(IF($BE328="",0,$BE328),0) -> 0 | O37: =IFERROR(IF($BE359="",0,$BE359),0) -> 0
C38: 9 | D38: =IFERROR(IF($BE19="",0,$BE19),0) -> 0 | E38: =IFERROR(IF($BE50="",0,$BE50),0) -> 0 | F38: =IFERROR(IF($BE81="",0,$BE81),0) -> 0 | G38: =IFERROR(IF($BE112="",0,$BE112),0) -> 0 | H38: =IFERROR(IF($BE143="",0,$BE143),0) -> 0 | I38: =IFERROR(IF($BE174="",0,$BE174),0) -> 0 | J38: =IFERROR(IF($BE205="",0,$BE205),0) -> 0 | K38: =IFERROR(IF($BE236="",0,$BE236),0) -> 0 | L38: =IFERROR(IF($BE267="",0,$BE267),0) -> 0 | M38: =IFERROR(IF($BE298="",0,$BE298),0) -> 0 | N38: =IFERROR(IF($BE329="",0,$BE329),0) -> 0 | O38: =IFERROR(IF($BE360="",0,$BE360),0) -> 0 | X38: FEBRUARY
C39: 10 | D39: =IFERROR(IF($BE20="",0,$BE20),0) -> 0 | E39: =IFERROR(IF($BE51="",0,$BE51),0) -> 0 | F39: =IFERROR(IF($BE82="",0,$BE82),0) -> 0 | G39: =IFERROR(IF($BE113="",0,$BE113),0) -> 0 | H39: =IFERROR(IF($BE144="",0,$BE144),0) -> 0 | I39: =IFERROR(IF($BE175="",0,$BE175),0) -> 0 | J39: =IFERROR(IF($BE206="",0,$BE206),0) -> 0 | K39: =IFERROR(IF($BE237="",0,$BE237),0) -> 0 | L39: =IFERROR(IF($BE268="",0,$BE268),0) -> 0 | M39: =IFERROR(IF($BE299="",0,$BE299),0) -> 0 | N39: =IFERROR(IF($BE330="",0,$BE330),0) -> 0 | O39: =IFERROR(IF($BE361="",0,$BE361),0) -> 0 | Z39: =IFERROR(SUMIF(Z42:Z65,">0",Z42:Z65)/-SUMIF(Z42:Z65,"<0",Z42:Z65),"") | AA39: =IFERROR(SUMIF(AA42:AA65,">0",AA42:AA65)/-SUMIF(AA42:AA65,"<0",AA42:AA65),"") | AB39: =IFERROR(SUMIF(AB42:AB65,">0",AB42:AB65)/-SUMIF(AB42:AB65,"<0",AB42:AB65),"") | AC39: =IFERROR(SUMIF(AC42:AC65,">0",AC42:AC65)/-SUMIF(AC42:AC65,"<0",AC42:AC65),"") | AD39: =IFERROR(SUMIF(AD42:AD65,">0",AD42:AD65)/-SUMIF(AD42:AD65,"<0",AD42:AD65),"") | AE39: =IFERROR(SUMIF(AE42:AE65,">0",AE42:AE65)/-SUMIF(AE42:AE65,"<0",AE42:AE65),"") | AF39: =IFERROR(SUMIF(AF42:AF65,">0",AF42:AF65)/-SUMIF(AF42:AF65,"<0",AF42:AF65),"") | AG39: =IFERROR(SUMIF(AG42:AG65,">0",AG42:AG65)/-SUMIF(AG42:AG65,"<0",AG42:AG65),"") | ... BB39: =IFERROR(SUMIF(BB42:BB65,">0",BB42:BB65)/-SUMIF(BB42:BB65,"<0",BB42:BB65),"")
C40: 11 | D40: =IFERROR(IF($BE21="",0,$BE21),0) -> 0 | E40: =IFERROR(IF($BE52="",0,$BE52),0) -> 0 | F40: =IFERROR(IF($BE83="",0,$BE83),0) -> 0 | G40: =IFERROR(IF($BE114="",0,$BE114),0) -> 0 | H40: =IFERROR(IF($BE145="",0,$BE145),0) -> 0 | I40: =IFERROR(IF($BE176="",0,$BE176),0) -> 0 | J40: =IFERROR(IF($BE207="",0,$BE207),0) -> 0 | K40: =IFERROR(IF($BE238="",0,$BE238),0) -> 0 | L40: =IFERROR(IF($BE269="",0,$BE269),0) -> 0 | M40: =IFERROR(IF($BE300="",0,$BE300),0) -> 0 | N40: =IFERROR(IF($BE331="",0,$BE331),0) -> 0 | O40: =IFERROR(IF($BE362="",0,$BE362),0) -> 0 | Y40: HE | Z40: 1 | AA40: 2 | AB40: 3 | AC40: 4 | AD40: 5 | AE40: 6 | AF40: 7 | AG40: 8 | AH40: 9 | AI40: 10 | AJ40: 11 | AK40: 12 | AL40: 13 | AM40: 14 | AN40: 15 | AO40: 16 | AP40: 17 | AQ40: 18 | AR40: 19 | AS40: 20 | AT40: 21 | AU40: 22 | AV40: 23 | AW40: 24 | AX40: 25 | AY40: 26 | AZ40: 27 | BA40: 28 | BB40: 29 | BE40: Month | BG40: Off-Pk | BH40: On-Peak | BI40: Charging | BJ40: Discharging
C41: 12 | D41: =IFERROR(IF($BE22="",0,$BE22),0) -> 0 | E41: =IFERROR(IF($BE53="",0,$BE53),0) -> 0 | F41: =IFERROR(IF($BE84="",0,$BE84),0) -> 0 | G41: =IFERROR(IF($BE115="",0,$BE115),0) -> 0 | H41: =IFERROR(IF($BE146="",0,$BE146),0) -> 0 | I41: =IFERROR(IF($BE177="",0,$BE177),0) -> 0 | J41: =IFERROR(IF($BE208="",0,$BE208),0) -> 0 | K41: =IFERROR(IF($BE239="",0,$BE239),0) -> 0 | L41: =IFERROR(IF($BE270="",0,$BE270),0) -> 0 | M41: =IFERROR(IF($BE301="",0,$BE301),0) -> 0 | N41: =IFERROR(IF($BE332="",0,$BE332),0) -> 0 | O41: =IFERROR(IF($BE363="",0,$BE363),0) -> 0 | Z41: =VLOOKUP(WEEKDAY(CONCATENATE("2","/",Z40,"/",$AJ$6)),$BY$11:$BZ$17,2,FALSE) -> Wed | AA41: =VLOOKUP(WEEKDAY(CONCATENATE("2","/",AA40,"/",$AJ$6)),$BY$11:$BZ$17,2,FALSE) -> Thur | AB41: =VLOOKUP(WEEKDAY(CONCATENATE("2","/",AB40,"/",$AJ$6)),$BY$11:$BZ$17,2,FALSE) -> Fri | AC41: =VLOOKUP(WEEKDAY(CONCATENATE("2","/",AC40,"/",$AJ$6)),$BY$11:$BZ$17,2,FALSE) -> Sat | AD41: =VLOOKUP(WEEKDAY(CONCATENATE("2","/",AD40,"/",$AJ$6)),$BY$11:$BZ$17,2,FALSE) -> Sun | AE41: =VLOOKUP(WEEKDAY(CONCATENATE("2","/",AE40,"/",$AJ$6)),$BY$11:$BZ$17,2,FALSE) -> Mon | AF41: =VLOOKUP(WEEKDAY(CONCATENATE("2","/",AF40,"/",$AJ$6)),$BY$11:$BZ$17,2,FALSE) -> Tues | AG41: =VLOOKUP(WEEKDAY(CONCATENATE("2","/",AG40,"/",$AJ$6)),$BY$11:$BZ$17,2,FALSE) -> Wed | ... BB41: =VLOOKUP(WEEKDAY(CONCATENATE("2","/",BB40,"/",$AJ$6)),$BY$11:$BZ$17,2,FALSE) -> Wed | BE41: Avg | BG41: MWh | BH41: MWh | BI41: MWh | BJ41: MWh
...

Sheet Part V (Phase 2)
B1: =IF('Part IV'!J8="Yes","Storage Energy System - Phase 2 ONLY","Not Required") -> Not Required
B2: ="Version: " & Version -> Version: RD2 FINAL | X2: ="Version " & Version -> Version RD2 FINAL
B3: Part V (a) | X3: Part V (a) (i) - Energy Storage
B4: Operational Information - Energy Storage Charging/Discharging Schedule | R4: Data Entry | Y4: Representative Energy Storage Charging/Discharging Schedule in Representative Year
C5: Project Title | E5: =IF(ProjTitle="","Auto-Filled",ProjTitle) -> Auto-Filled | L5: Data Entry: | M5: Hourly Profile | T5: =IF(M5="","<<< Required Information",IF(M5="hourly profile"," Enter Hourly Profile in Part V(a) (i) >>>>>>","")) -> Enter Hourly Profile in Part V(a) (i) >>>>>>
Z6: Enter Representative Hourly Charging (-) and Discharging (+) Schedule for | AJ6: 2012 | AK6: weather year
X8: JANUARY | Z8: =IFERROR(SUMIF(Z11:Z34,">0",Z11:Z34)/-SUMIF(Z11:Z34,"<0",Z11:Z34),"") | AA8: =IFERROR(SUMIF(AA11:AA34,">0",AA11:AA34)/-SUMIF(AA11:AA34,"<0",AA11:AA34),"") | AB8: =IFERROR(SUMIF(AB11:AB34,">0",AB11:AB34)/-SUMIF(AB11:AB34,"<0",AB11:AB34),"") | AC8: =IFERROR(SUMIF(AC11:AC34,">0",AC11:AC34)/-SUMIF(AC11:AC34,"<0",AC11:AC34),"") | AD8: =IFERROR(SUMIF(AD11:AD34,">0",AD11:AD34)/-SUMIF(AD11:AD34,"<0",AD11:AD34),"") | AE8: =IFERROR(SUMIF(AE11:AE34,">0",AE11:AE34)/-SUMIF(AE11:AE34,"<0",AE11:AE34),"") | AF8: =IFERROR(SUMIF(AF11:AF34,">0",AF11:AF34)/-SUMIF(AF11:AF34,"<0",AF11:AF34),"") | AG8: =IFERROR(SUMIF(AG11:AG34,">0",AG11:AG34)/-SUMIF(AG11:AG34,"<0",AG11:AG34),"") | ... BD8: =IFERROR(SUMIF(BD11:BD34,">0",BD11:BD34)/-SUMIF(BD11:BD34,"<0",BD11:BD34),"")
Y9: HE | Z9: 1 | AA9: 2 | AB9: 3 | AC9: 4 | AD9: 5 | AE9: 6 | AF9: 7 | AG9: 8 | AH9: 9 | AI9: 10 | AJ9: 11 | AK9: 12 | AL9: 13 | AM9: 14 | AN9: 15 | AO9: 16 | AP9: 17 | AQ9: 18 | AR9: 19 | AS9: 20 | AT9: 21 | AU9: 22 | AV9: 23 | AW9: 24 | AX9: 25 | AY9: 26 | AZ9: 27 | BA9: 28 | BB9: 29 | BC9: 30 | BD9: 31 | BE9: Month | BG9: Off-Pk | BH9: On-Peak | BI9: Charging | BJ9: Discharging | BY9: VLOOKUP
Z10: =VLOOKUP(WEEKDAY(CONCATENATE("1","/",Z9,"/",$AJ$6)),$BY$11:$BZ$17,2,FALSE) -> Sun | AA10: =VLOOKUP(WEEKDAY(CONCATENATE("1","/",AA9,"/",$AJ$6)),$BY$11:$BZ$17,2,FALSE) -> Mon | AB10: =VLOOKUP(WEEKDAY(CONCATENATE("1","/",AB9,"/",$AJ$6)),$BY$11:$BZ$17,2,FALSE) -> Tues | AC10: =VLOOKUP(WEEKDAY(CONCATENATE("1","/",AC9,"/",$AJ$6)),$BY$11:$BZ$17,2,FALSE) -> Wed | AD10: =VLOOKUP(WEEKDAY(CONCATENATE("1","/",AD9,"/",$AJ$6)),$BY$11:$BZ$17,2,FALSE) -> Thur | AE10: =VLOOKUP(WEEKDAY(CONCATENATE("1","/",AE9,"/",$AJ$6)),$BY$11:$BZ$17,2,FALSE) -> Fri | AF10: =VLOOKUP(WEEKDAY(CONCATENATE("1","/",AF9,"/",$AJ$6)),$BY$11:$BZ$17,2,FALSE) -> Sat | AG10: =Z10 -> Sun | AH10: =AA10 -> Mon | AI10: =AB10 -> Tues | AJ10: =AC10 -> Wed | AK10: =AD10 -> Thur | AL10: =AE10 -> Fri | AM10: =AF10 -> Sat | AN10: =AG10 -> Sun | ... BD10: =AW10 -> Tues | BE10: Avg | BG10: MWh | BH10: MWh | BI10: MWh | BJ10: MWh | BK10: =COUNT(Z11:BD34,Z42:BA65,Z73:BD96,Z104:BC127,Z135:BD158,Z166:BC189,Z197:BD220,Z228:BD251,Z259:BC282,Z290:BD313,Z321:BC344,Z352:BD375) -> 0 | BL10: Cells with Contents | BY10: Weekday | BZ10: DayofWeek
Y11: 1 | BE11: =SUM(Z11:BD11)/COUNT(Z$9:BD$9) -> 0 | BF11: =SUM(AA11:BC11)/COUNT(AA$40:BC$40) -> 0 | BG11: =SUM($Z11:$BD11) -> 0 | BH11: 0 | BI11: =SUMIF(Z11:BD11,"<0",Z11:BD11) -> 0 | BJ11: =SUMIF(Z11:BD11,">0",Z11:BD11) -> 0 | BY11: 1 | BZ11: Sun
U12: =IF(AND(BK10<8760,M5="Hourly Profile"),"Full Hourly Matrix is Required Information>>>","") -> Full Hourly Matrix is Required Information>>> | Y12: 2 | BE12: =SUM(Z12:BD12)/COUNT(Z$9:BD$9) -> 0 | BF12: =SUM(AA12:BC12)/COUNT(AA$40:BC$40) -> 0 | BG12: =SUM($Z12:$BD12) -> 0 | BH12: 0 | BI12: =SUMIF(Z12:BD12,"<0",Z12:BD12) -> 0 | BJ12: =SUMIF(Z12:BD12,">0",Z12:BD12) -> 0 | BY12: 2 | BZ12: Mon
Y13: 3 | BE13: =SUM(Z13:BD13)/COUNT(Z$9:BD$9) -> 0 | BF13: =SUM(AA13:BC13)/COUNT(AA$40:BC$40) -> 0 | BG13: =SUM($Z13:$BD13) -> 0 | BH13: 0 | BI13: =SUMIF(Z13:BD13,"<0",Z13:BD13) -> 0 | BJ13: =SUMIF(Z13:BD13,">0",Z13:BD13) -> 0 | BY13: 3 | BZ13: Tues
R14: =IF(C13="","<<< Required Information","") -> <<< Required Information | V14: =IF(BL380>0,CONCATENATE("(",BL380,") Hours above Maximum Discharge Rate>>>"),"") | Y14: 4 | BE14: =SUM(Z14:BD14)/COUNT(Z$9:BD$9) -> 0 | BF14: =SUM(AA14:BC14)/COUNT(AA$40:BC$40) -> 0 | BG14: =SUM($Z14:$BD14) -> 0 | BH14: 0 | BI14: =SUMIF(Z14:BD14,"<0",Z14:BD14) -> 0 | BJ14: =SUMIF(Z14:BD14,">0",Z14:BD14) -> 0 | BY14: 4 | BZ14: Wed
Y15: 5 | BE15: =SUM(Z15:BD15)/COUNT(Z$9:BD$9) -> 0 | BF15: =SUM(AA15:BC15)/COUNT(AA$40:BC$40) -> 0 | BG15: =SUM($Z15:$BD15) -> 0 | BH15: 0 | BI15: =SUMIF(Z15:BD15,"<0",Z15:BD15) -> 0 | BJ15: =SUMIF(Z15:BD15,">0",Z15:BD15) -> 0 | BY15: 5 | BZ15: Thur
V16: =IF(BL381>0,CONCATENATE("(",BL381,") Hours above Maximum Charge Rate>>>"),"") | Y16: 6 | BE16: =SUM(Z16:BD16)/COUNT(Z$9:BD$9) -> 0 | BF16: =SUM(AA16:BC16)/COUNT(AA$40:BC$40) -> 0 | BG16: =SUM($Z16:$BD16) -> 0 | BH16: 0 | BI16: =SUMIF(Z16:BD16,"<0",Z16:BD16) -> 0 | BJ16: =SUMIF(Z16:BD16,">0",Z16:BD16) -> 0 | BY16: 6 | BZ16: Fri
Y17: 7 | BE17: =SUM(Z17:BD17)/COUNT(Z$9:BD$9) -> 0 | BF17: =SUM(AA17:BC17)/COUNT(AA$40:BC$40) -> 0 | BG17: =SUM($Z17:$BD17) -> 0 | BH17: 0 | BI17: =SUMIF(Z17:BD17,"<0",Z17:BD17) -> 0 | BJ17: =SUMIF(Z17:BD17,">0",Z17:BD17) -> 0 | BY17: 7 | BZ17: Sat
Y18: 8 | BE18: =SUM(Z18:BD18)/COUNT(Z$9:BD$9) -> 0 | BF18: =SUM(AA18:BC18)/COUNT(AA$40:BC$40) -> 0 | BG18: =(SUMIF($Z$10:$BD$10,"Sat",$Z18:$BD18)+SUMIF($Z$10:$BD$10,"Sun",$Z18:$BD18)) -> 0 | BH18: =(SUM($Z18:$BD18)-(SUMIF($Z$10:$BD$10,"Sat",$Z18:$BD18)+SUMIF($Z$10:$BD$10,"Sun",$Z18:$BD18))) -> 0 | BI18: =SUMIF(Z18:BD18,"<0",Z18:BD18) -> 0 | BJ18: =SUMIF(Z18:BD18,">0",Z18:BD18) -> 0
Y19: 9 | BE19: =SUM(Z19:BD19)/COUNT(Z$9:BD$9) -> 0 | BF19: =SUM(AA19:BC19)/COUNT(AA$40:BC$40) -> 0 | BG19: =(SUMIF($Z$10:$BD$10,"Sat",$Z19:$BD19)+SUMIF($Z$10:$BD$10,"Sun",$Z19:$BD19)) -> 0 | BH19: =(SUM($Z19:$BD19)-(SUMIF($Z$10:$BD$10,"Sat",$Z19:$BD19)+SUMIF($Z$10:$BD$10,"Sun",$Z19:$BD19))) -> 0 | BI19: =SUMIF(Z19:BD19,"<0",Z19:BD19) -> 0 | BJ19: =SUMIF(Z19:BD19,">0",Z19:BD19) -> 0
Y20: 10 | BE20: =SUM(Z20:BD20)/COUNT(Z$9:BD$9) -> 0 | BF20: =SUM(AA20:BC20)/COUNT(AA$40:BC$40) -> 0 | BG20: =(SUMIF($Z$10:$BD$10,"Sat",$Z20:$BD20)+SUMIF($Z$10:$BD$10,"Sun",$Z20:$BD20)) -> 0 | BH20: =(SUM($Z20:$BD20)-(SUMIF($Z$10:$BD$10,"Sat",$Z20:$BD20)+SUMIF($Z$10:$BD$10,"Sun",$Z20:$BD20))) -> 0 | BI20: =SUMIF(Z20:BD20,"<0",Z20:BD20) -> 0 | BJ20: =SUMIF(Z20:BD20,">0",Z20:BD20) -> 0
Y21: 11 | BE21: =SUM(Z21:BD21)/COUNT(Z$9:BD$9) -> 0 | BF21: =SUM(AA21:BC21)/COUNT(AA$40:BC$40) -> 0 | BG21: =(SUMIF($Z$10:$BD$10,"Sat",$Z21:$BD21)+SUMIF($Z$10:$BD$10,"Sun",$Z21:$BD21)) -> 0 | BH21: =(SUM($Z21:$BD21)-(SUMIF($Z$10:$BD$10,"Sat",$Z21:$BD21)+SUMIF($Z$10:$BD$10,"Sun",$Z21:$BD21))) -> 0 | BI21: =SUMIF(Z21:BD21,"<0",Z21:BD21) -> 0 | BJ21: =SUMIF(Z21:BD21,">0",Z21:BD21) -> 0
Y22: 12 | BE22: =SUM(Z22:BD22)/COUNT(Z$9:BD$9) -> 0 | BF22: =SUM(AA22:BC22)/COUNT(AA$40:BC$40) -> 0 | BG22: =(SUMIF($Z$10:$BD$10,"Sat",$Z22:$BD22)+SUMIF($Z$10:$BD$10,"Sun",$Z22:$BD22)) -> 0 | BH22: =(SUM($Z22:$BD22)-(SUMIF($Z$10:$BD$10,"Sat",$Z22:$BD22)+SUMIF($Z$10:$BD$10,"Sun",$Z22:$BD22))) -> 0 | BI22: =SUMIF(Z22:BD22,"<0",Z22:BD22) -> 0 | BJ22: =SUMIF(Z22:BD22,">0",Z22:BD22) -> 0
Y23: 13 | BE23: =SUM(Z23:BD23)/COUNT(Z$9:BD$9) -> 0 | BF23: =SUM(AA23:BC23)/COUNT(AA$40:BC$40) -> 0 | BG23: =(SUMIF($Z$10:$BD$10,"Sat",$Z23:$BD23)+SUMIF($Z$10:$BD$10,"Sun",$Z23:$BD23)) -> 0 | BH23: =(SUM($Z23:$BD23)-(SUMIF($Z$10:$BD$10,"Sat",$Z23:$BD23)+SUMIF($Z$10:$BD$10,"Sun",$Z23:$BD23))) -> 0 | BI23: =SUMIF(Z23:BD23,"<0",Z23:BD23) -> 0 | BJ23: =SUMIF(Z23:BD23,">0",Z23:BD23) -> 0
Y24: 14 | BE24: =SUM(Z24:BD24)/COUNT(Z$9:BD$9) -> 0 | BF24: =SUM(AA24:BC24)/COUNT(AA$40:BC$40) -> 0 | BG24: =(SUMIF($Z$10:$BD$10,"Sat",$Z24:$BD24)+SUMIF($Z$10:$BD$10,"Sun",$Z24:$BD24)) -> 0 | BH24: =(SUM($Z24:$BD24)-(SUMIF($Z$10:$BD$10,"Sat",$Z24:$BD24)+SUMIF($Z$10:$BD$10,"Sun",$Z24:$BD24))) -> 0 | BI24: =SUMIF(Z24:BD24,"<0",Z24:BD24) -> 0 | BJ24: =SUMIF(Z24:BD24,">0",Z24:BD24) -> 0
Y25: 15 | BE25: =SUM(Z25:BD25)/COUNT(Z$9:BD$9) -> 0 | BF25: =SUM(AA25:BC25)/COUNT(AA$40:BC$40) -> 0 | BG25: =(SUMIF($Z$10:$BD$10,"Sat",$Z25:$BD25)+SUMIF($Z$10:$BD$10,"Sun",$Z25:$BD25)) -> 0 | BH25: =(SUM($Z25:$BD25)-(SUMIF($Z$10:$BD$10,"Sat",$Z25:$BD25)+SUMIF($Z$10:$BD$10,"Sun",$Z25:$BD25))) -> 0 | BI25: =SUMIF(Z25:BD25,"<0",Z25:BD25) -> 0 | BJ25: =SUMIF(Z25:BD25,">0",Z25:BD25) -> 0
C26: This table is calculated from data entry in Part V(a). You must insert an Hourly Profile to the right for the entire facility. | Y26: 16 | BE26: =SUM(Z26:BD26)/COUNT(Z$9:BD$9) -> 0 | BF26: =SUM(AA26:BC26)/COUNT(AA$40:BC$40) -> 0 | BG26: =(SUMIF($Z$10:$BD$10,"Sat",$Z26:$BD26)+SUMIF($Z$10:$BD$10,"Sun",$Z26:$BD26)) -> 0 | BH26: =(SUM($Z26:$BD26)-(SUMIF($Z$10:$BD$10,"Sat",$Z26:$BD26)+SUMIF($Z$10:$BD$10,"Sun",$Z26:$BD26))) -> 0 | BI26: =SUMIF(Z26:BD26,"<0",Z26:BD26) -> 0 | BJ26: =SUMIF(Z26:BD26,">0",Z26:BD26) -> 0
D27: HOURLY STORAGE ENERGY FLOW in MW (averaged) - 12 Months by 24 Hours For Representative Day For Each Month | Y27: 17 | BE27: =SUM(Z27:BD27)/COUNT(Z$9:BD$9) -> 0 | BF27: =SUM(AA27:BC27)/COUNT(AA$40:BC$40) -> 0 | BG27: =(SUMIF($Z$10:$BD$10,"Sat",$Z27:$BD27)+SUMIF($Z$10:$BD$10,"Sun",$Z27:$BD27)) -> 0 | BH27: =(SUM($Z27:$BD27)-(SUMIF($Z$10:$BD$10,"Sat",$Z27:$BD27)+SUMIF($Z$10:$BD$10,"Sun",$Z27:$BD27))) -> 0 | BI27: =SUMIF(Z27:BD27,"<0",Z27:BD27) -> 0 | BJ27: =SUMIF(Z27:BD27,">0",Z27:BD27) -> 0
Y28: 18 | BE28: =SUM(Z28:BD28)/COUNT(Z$9:BD$9) -> 0 | BF28: =SUM(AA28:BC28)/COUNT(AA$40:BC$40) -> 0 | BG28: =(SUMIF($Z$10:$BD$10,"Sat",$Z28:$BD28)+SUMIF($Z$10:$BD$10,"Sun",$Z28:$BD28)) -> 0 | BH28: =(SUM($Z28:$BD28)-(SUMIF($Z$10:$BD$10,"Sat",$Z28:$BD28)+SUMIF($Z$10:$BD$10,"Sun",$Z28:$BD28))) -> 0 | BI28: =SUMIF(Z28:BD28,"<0",Z28:BD28) -> 0 | BJ28: =SUMIF(Z28:BD28,">0",Z28:BD28) -> 0
C29: HE | D29: Jan | E29: Feb | F29: Mar | G29: Apr | H29: May | I29: Jun | J29: Jul | K29: Aug | L29: Sep | M29: Oct | N29: Nov | O29: Dec | Y29: 19 | BE29: =SUM(Z29:BD29)/COUNT(Z$9:BD$9) -> 0 | BF29: =SUM(AA29:BC29)/COUNT(AA$40:BC$40) -> 0 | BG29: =(SUMIF($Z$10:$BD$10,"Sat",$Z29:$BD29)+SUMIF($Z$10:$BD$10,"Sun",$Z29:$BD29)) -> 0 | BH29: =(SUM($Z29:$BD29)-(SUMIF($Z$10:$BD$10,"Sat",$Z29:$BD29)+SUMIF($Z$10:$BD$10,"Sun",$Z29:$BD29))) -> 0 | BI29: =SUMIF(Z29:BD29,"<0",Z29:BD29) -> 0 | BJ29: =SUMIF(Z29:BD29,">0",Z29:BD29) -> 0
C30: 1 | D30: =IFERROR(IF($BE11="",0,$BE11),0) -> 0 | E30: =IFERROR(IF($BE42="",0,$BE42),0) -> 0 | F30: =IFERROR(IF($BE73="",0,$BE73),0) -> 0 | G30: =IFERROR(IF($BE104="",0,$BE104),0) -> 0 | H30: =IFERROR(IF($BE135="",0,$BE135),0) -> 0 | I30: =IFERROR(IF($BE166="",0,$BE166),0) -> 0 | J30: =IFERROR(IF($BE197="",0,$BE197),0) -> 0 | K30: =IFERROR(IF($BE228="",0,$BE228),0) -> 0 | L30: =IFERROR(IF($BE259="",0,$BE259),0) -> 0 | M30: =IFERROR(IF($BE290="",0,$BE290),0) -> 0 | N30: =IFERROR(IF($BE321="",0,$BE321),0) -> 0 | O30: =IFERROR(IF($BE352="",0,$BE352),0) -> 0 | Y30: 20 | BE30: =SUM(Z30:BD30)/COUNT(Z$9:BD$9) -> 0 | BF30: =SUM(AA30:BC30)/COUNT(AA$40:BC$40) -> 0 | BG30: =(SUMIF($Z$10:$BD$10,"Sat",$Z30:$BD30)+SUMIF($Z$10:$BD$10,"Sun",$Z30:$BD30)) -> 0 | BH30: =(SUM($Z30:$BD30)-(SUMIF($Z$10:$BD$10,"Sat",$Z30:$BD30)+SUMIF($Z$10:$BD$10,"Sun",$Z30:$BD30))) -> 0 | BI30: =SUMIF(Z30:BD30,"<0",Z30:BD30) -> 0 | BJ30: =SUMIF(Z30:BD30,">0",Z30:BD30) -> 0
C31: 2 | D31: =IFERROR(IF($BE12="",0,$BE12),0) -> 0 | E31: =IFERROR(IF($BE43="",0,$BE43),0) -> 0 | F31: =IFERROR(IF($BE74="",0,$BE74),0) -> 0 | G31: =IFERROR(IF($BE105="",0,$BE105),0) -> 0 | H31: =IFERROR(IF($BE136="",0,$BE136),0) -> 0 | I31: =IFERROR(IF($BE167="",0,$BE167),0) -> 0 | J31: =IFERROR(IF($BE198="",0,$BE198),0) -> 0 | K31: =IFERROR(IF($BE229="",0,$BE229),0) -> 0 | L31: =IFERROR(IF($BE260="",0,$BE260),0) -> 0 | M31: =IFERROR(IF($BE291="",0,$BE291),0) -> 0 | N31: =IFERROR(IF($BE322="",0,$BE322),0) -> 0 | O31: =IFERROR(IF($BE353="",0,$BE353),0) -> 0 | Y31: 21 | BE31: =SUM(Z31:BD31)/COUNT(Z$9:BD$9) -> 0 | BF31: =SUM(AA31:BC31)/COUNT(AA$40:BC$40) -> 0 | BG31: =(SUMIF($Z$10:$BD$10,"Sat",$Z31:$BD31)+SUMIF($Z$10:$BD$10,"Sun",$Z31:$BD31)) -> 0 | BH31: =(SUM($Z31:$BD31)-(SUMIF($Z$10:$BD$10,"Sat",$Z31:$BD31)+SUMIF($Z$10:$BD$10,"Sun",$Z31:$BD31))) -> 0 | BI31: =SUMIF(Z31:BD31,"<0",Z31:BD31) -> 0 | BJ31: =SUMIF(Z31:BD31,">0",Z31:BD31) -> 0
C32: 3 | D32: =IFERROR(IF($BE13="",0,$BE13),0) -> 0 | E32: =IFERROR(IF($BE44="",0,$BE44),0) -> 0 | F32: =IFERROR(IF($BE75="",0,$BE75),0) -> 0 | G32: =IFERROR(IF($BE106="",0,$BE106),0) -> 0 | H32: =IFERROR(IF($BE137="",0,$BE137),0) -> 0 | I32: =IFERROR(IF($BE168="",0,$BE168),0) -> 0 | J32: =IFERROR(IF($BE199="",0,$BE199),0) -> 0 | K32: =IFERROR(IF($BE230="",0,$BE230),0) -> 0 | L32: =IFERROR(IF($BE261="",0,$BE261),0) -> 0 | M32: =IFERROR(IF($BE292="",0,$BE292),0) -> 0 | N32: =IFERROR(IF($BE323="",0,$BE323),0) -> 0 | O32: =IFERROR(IF($BE354="",0,$BE354),0) -> 0 | Y32: 22 | BE32: =SUM(Z32:BD32)/COUNT(Z$9:BD$9) -> 0 | BF32: =SUM(AA32:BC32)/COUNT(AA$40:BC$40) -> 0 | BG32: =(SUMIF($Z$10:$BD$10,"Sat",$Z32:$BD32)+SUMIF($Z$10:$BD$10,"Sun",$Z32:$BD32)) -> 0 | BH32: =(SUM($Z32:$BD32)-(SUMIF($Z$10:$BD$10,"Sat",$Z32:$BD32)+SUMIF($Z$10:$BD$10,"Sun",$Z32:$BD32))) -> 0 | BI32: =SUMIF(Z32:BD32,"<0",Z32:BD32) -> 0 | BJ32: =SUMIF(Z32:BD32,">0",Z32:BD32) -> 0 | BM32: Monthly
C33: 4 | D33: =IFERROR(IF($BE14="",0,$BE14),0) -> 0 | E33: =IFERROR(IF($BE45="",0,$BE45),0) -> 0 | F33: =IFERROR(IF($BE76="",0,$BE76),0) -> 0 | G33: =IFERROR(IF($BE107="",0,$BE107),0) -> 0 | H33: =IFERROR(IF($BE138="",0,$BE138),0) -> 0 | I33: =IFERROR(IF($BE169="",0,$BE169),0) -> 0 | J33: =IFERROR(IF($BE200="",0,$BE200),0) -> 0 | K33: =IFERROR(IF($BE231="",0,$BE231),0) -> 0 | L33: =IFERROR(IF($BE262="",0,$BE262),0) -> 0 | M33: =IFERROR(IF($BE293="",0,$BE293),0) -> 0 | N33: =IFERROR(IF($BE324="",0,$BE324),0) -> 0 | O33: =IFERROR(IF($BE355="",0,$BE355),0) -> 0 | Y33: 23 | BE33: =SUM(Z33:BD33)/COUNT(Z$9:BD$9) -> 0 | BF33: =SUM(AA33:BC33)/COUNT(AA$40:BC$40) -> 0 | BG33: =(SUMIF($Z$10:$BD$10,"Sat",$Z33:$BD33)+SUMIF($Z$10:$BD$10,"Sun",$Z33:$BD33)) -> 0 | BH33: =(SUM($Z33:$BD33)-(SUMIF($Z$10:$BD$10,"Sat",$Z33:$BD33)+SUMIF($Z$10:$BD$10,"Sun",$Z33:$BD33))) -> 0 | BI33: =SUMIF(Z33:BD33,"<0",Z33:BD33) -> 0 | BJ33: =SUMIF(Z33:BD33,">0",Z33:BD33) -> 0 | BL33: =COUNTIF(Z11:BD34,">"&MxDisch1) -> 0 | BM33: Hours above Maximum Discharge Rate
C34: 5 | D34: =IFERROR(IF($BE15="",0,$BE15),0) -> 0 | E34: =IFERROR(IF($BE46="",0,$BE46),0) -> 0 | F34: =IFERROR(IF($BE77="",0,$BE77),0) -> 0 | G34: =IFERROR(IF($BE108="",0,$BE108),0) -> 0 | H34: =IFERROR(IF($BE139="",0,$BE139),0) -> 0 | I34: =IFERROR(IF($BE170="",0,$BE170),0) -> 0 | J34: =IFERROR(IF($BE201="",0,$BE201),0) -> 0 | K34: =IFERROR(IF($BE232="",0,$BE232),0) -> 0 | L34: =IFERROR(IF($BE263="",0,$BE263),0) -> 0 | M34: =IFERROR(IF($BE294="",0,$BE294),0) -> 0 | N34: =IFERROR(IF($BE325="",0,$BE325),0) -> 0 | O34: =IFERROR(IF($BE356="",0,$BE356),0) -> 0 | Y34: 24 | BE34: =SUM(Z34:BD34)/COUNT(Z$9:BD$9) -> 0 | BF34: =SUM(AA34:BC34)/COUNT(AA$40:BC$40) -> 0 | BG34: =SUM($Z34:$BD34) -> 0 | BH34: 0 | BI34: =SUMIF(Z34:BD34,"<0",Z34:BD34) -> 0 | BJ34: =SUMIF(Z34:BD34,">0",Z34:BD34) -> 0 | BL34: =COUNTIF(Z11:BD34,"<"&-MxChgRate1) -> 0 | BM34: Hours above Maximum Charge Rate
C35: 6 | D35: =IFERROR(IF($BE16="",0,$BE16),0) -> 0 | E35: =IFERROR(IF($BE47="",0,$BE47),0) -> 0 | F35: =IFERROR(IF($BE78="",0,$BE78),0) -> 0 | G35: =IFERROR(IF($BE109="",0,$BE109),0) -> 0 | H35: =IFERROR(IF($BE140="",0,$BE140),0) -> 0 | I35: =IFERROR(IF($BE171="",0,$BE171),0) -> 0 | J35: =IFERROR(IF($BE202="",0,$BE202),0) -> 0 | K35: =IFERROR(IF($BE233="",0,$BE233),0) -> 0 | L35: =IFERROR(IF($BE264="",0,$BE264),0) -> 0 | M35: =IFERROR(IF($BE295="",0,$BE295),0) -> 0 | N35: =IFERROR(IF($BE326="",0,$BE326),0) -> 0 | O35: =IFERROR(IF($BE357="",0,$BE357),0) -> 0
C36: 7 | D36: =IFERROR(IF($BE17="",0,$BE17),0) -> 0 | E36: =IFERROR(IF($BE48="",0,$BE48),0) -> 0 | F36: =IFERROR(IF($BE79="",0,$BE79),0) -> 0 | G36: =IFERROR(IF($BE110="",0,$BE110),0) -> 0 | H36: =IFERROR(IF($BE141="",0,$BE141),0) -> 0 | I36: =IFERROR(IF($BE172="",0,$BE172),0) -> 0 | J36: =IFERROR(IF($BE203="",0,$BE203),0) -> 0 | K36: =IFERROR(IF($BE234="",0,$BE234),0) -> 0 | L36: =IFERROR(IF($BE265="",0,$BE265),0) -> 0 | M36: =IFERROR(IF($BE296="",0,$BE296),0) -> 0 | N36: =IFERROR(IF($BE327="",0,$BE327),0) -> 0 | O36: =IFERROR(IF($BE358="",0,$BE358),0) -> 0 | Z36: =IF(SUM(Z11:Z34)>0,"Verify","") | AA36: =IF(SUM(AA11:AA34)>0,"Verify","") | AB36: =IF(SUM(AB11:AB34)>0,"Verify","") | AC36: =IF(SUM(AC11:AC34)>0,"Verify","") | AD36: =IF(SUM(AD11:AD34)>0,"Verify","") | AE36: =IF(SUM(AE11:AE34)>0,"Verify","") | AF36: =IF(SUM(AF11:AF34)>0,"Verify","") | AG36: =IF(SUM(AG11:AG34)>0,"Verify","") | ... BD36: =IF(SUM(BD11:BD34)>0,"Verify","") | BG36: =SUM(BG11:BG34) -> 0 | BH36: =SUM(BH18:BH33) -> 0 | BI36: =SUM(BI11:BI34) -> 0 | BJ36: =SUM(BJ11:BJ34) -> 0
C37: 8 | D37: =IFERROR(IF($BE18="",0,$BE18),0) -> 0 | E37: =IFERROR(IF($BE49="",0,$BE49),0) -> 0 | F37: =IFERROR(IF($BE80="",0,$BE80),0) -> 0 | G37: =IFERROR(IF($BE111="",0,$BE111),0) -> 0 | H37: =IFERROR(IF($BE142="",0,$BE142),0) -> 0 | I37: =IFERROR(IF($BE173="",0,$BE173),0) -> 0 | J37: =IFERROR(IF($BE204="",0,$BE204),0) -> 0 | K37: =IFERROR(IF($BE235="",0,$BE235),0) -> 0 | L37: =IFERROR(IF($BE266="",0,$BE266),0) -> 0 | M37: =IFERROR(IF($BE297="",0,$BE297),0) -> 0 | N37: =IFERROR(IF($BE328="",0,$BE328),0) -> 0 | O37: =IFERROR(IF($BE359="",0,$BE359),0) -> 0
C38: 9 | D38: =IFERROR(IF($BE19="",0,$BE19),0) -> 0 | E38: =IFERROR(IF($BE50="",0,$BE50),0) -> 0 | F38: =IFERROR(IF($BE81="",0,$BE81),0) -> 0 | G38: =IFERROR(IF($BE112="",0,$BE112),0) -> 0 | H38: =IFERROR(IF($BE143="",0,$BE143),0) -> 0 | I38: =IFERROR(IF($BE174="",0,$BE174),0) -> 0 | J38: =IFERROR(IF($BE205="",0,$BE205),0) -> 0 | K38: =IFERROR(IF($BE236="",0,$BE236),0) -> 0 | L38: =IFERROR(IF($BE267="",0,$BE267),0) -> 0 | M38: =IFERROR(IF($BE298="",0,$BE298),0) -> 0 | N38: =IFERROR(IF($BE329="",0,$BE329),0) -> 0 | O38: =IFERROR(IF($BE360="",0,$BE360),0) -> 0 | X38: FEBRUARY
C39: 10 | D39: =IFERROR(IF($BE20="",0,$BE20),0) -> 0 | E39: =IFERROR(IF($BE51="",0,$BE51),0) -> 0 | F39: =IFERROR(IF($BE82="",0,$BE82),0) -> 0 | G39: =IFERROR(IF($BE113="",0,$BE113),0) -> 0 | H39: =IFERROR(IF($BE144="",0,$BE144),0) -> 0 | I39: =IFERROR(IF($BE175="",0,$BE175),0) -> 0 | J39: =IFERROR(IF($BE206="",0,$BE206),0) -> 0 | K39: =IFERROR(IF($BE237="",0,$BE237),0) -> 0 | L39: =IFERROR(IF($BE268="",0,$BE268),0) -> 0 | M39: =IFERROR(IF($BE299="",0,$BE299),0) -> 0 | N39: =IFERROR(IF($BE330="",0,$BE330),0) -> 0 | O39: =IFERROR(IF($BE361="",0,$BE361),0) -> 0 | Z39: =IFERROR(SUMIF(Z42:Z65,">0",Z42:Z65)/-SUMIF(Z42:Z65,"<0",Z42:Z65),"") | AA39: =IFERROR(SUMIF(AA42:AA65,">0",AA42:AA65)/-SUMIF(AA42:AA65,"<0",AA42:AA65),"") | AB39: =IFERROR(SUMIF(AB42:AB65,">0",AB42:AB65)/-SUMIF(AB42:AB65,"<0",AB42:AB65),"") | AC39: =IFERROR(SUMIF(AC42:AC65,">0",AC42:AC65)/-SUMIF(AC42:AC65,"<0",AC42:AC65),"") | AD39: =IFERROR(SUMIF(AD42:AD65,">0",AD42:AD65)/-SUMIF(AD42:AD65,"<0",AD42:AD65),"") | AE39: =IFERROR(SUMIF(AE42:AE65,">0",AE42:AE65)/-SUMIF(AE42:AE65,"<0",AE42:AE65),"") | AF39: =IFERROR(SUMIF(AF42:AF65,">0",AF42:AF65)/-SUMIF(AF42:AF65,"<0",AF42:AF65),"") | AG39: =IFERROR(SUMIF(AG42:AG65,">0",AG42:AG65)/-SUMIF(AG42:AG65,"<0",AG42:AG65),"") | ... BB39: =IFERROR(SUMIF(BB42:BB65,">0",BB42:BB65)/-SUMIF(BB42:BB65,"<0",BB42:BB65),"")
C40: 11 | D40: =IFERROR(IF($BE21="",0,$BE21),0) -> 0 | E40: =IFERROR(IF($BE52="",0,$BE52),0) -> 0 | F40: =IFERROR(IF($BE83="",0,$BE83),0) -> 0 | G40: =IFERROR(IF($BE114="",0,$BE114),0) -> 0 | H40: =IFERROR(IF($BE145="",0,$BE145),0) -> 0 | I40: =IFERROR(IF($BE176="",0,$BE176),0) -> 0 | J40: =IFERROR(IF($BE207="",0,$BE207),0) -> 0 | K40: =IFERROR(IF($BE238="",0,$BE238),0) -> 0 | L40: =IFERROR(IF($BE269="",0,$BE269),0) -> 0 | M40: =IFERROR(IF($BE300="",0,$BE300),0) -> 0 | N40: =IFERROR(IF($BE331="",0,$BE331),0) -> 0 | O40: =IFERROR(IF($BE362="",0,$BE362),0) -> 0 | Y40: HE | Z40: 1 | AA40: 2 | AB40: 3 | AC40: 4 | AD40: 5 | AE40: 6 | AF40: 7 | AG40: 8 | AH40: 9 | AI40: 10 | AJ40: 11 | AK40: 12 | AL40: 13 | AM40: 14 | AN40: 15 | AO40: 16 | AP40: 17 | AQ40: 18 | AR40: 19 | AS40: 20 | AT40: 21 | AU40: 22 | AV40: 23 | AW40: 24 | AX40: 25 | AY40: 26 | AZ40: 27 | BA40: 28 | BB40: 29 | BE40: Month | BG40: Off-Pk | BH40: On-Peak | BI40: Charging | BJ40: Discharging
C41: 12 | D41: =IFERROR(IF($BE22="",0,$BE22),0) -> 0 | E41: =IFERROR(IF($BE53="",0,$BE53),0) -> 0 | F41: =IFERROR(IF($BE84="",0,$BE84),0) -> 0 | G41: =IFERROR(IF($BE115="",0,$BE115),0) -> 0 | H41: =IFERROR(IF($BE146="",0,$BE146),0) -> 0 | I41: =IFERROR(IF($BE177="",0,$BE177),0) -> 0 | J41: =IFERROR(IF($BE208="",0,$BE208),0) -> 0 | K41: =IFERROR(IF($BE239="",0,$BE239),0) -> 0 | L41: =IFERROR(IF($BE270="",0,$BE270),0) -> 0 | M41: =IFERROR(IF($BE301="",0,$BE301),0) -> 0 | N41: =IFERROR(IF($BE332="",0,$BE332),0) -> 0 | O41: =IFERROR(IF($BE363="",0,$BE363),0) -> 0 | Z41: =VLOOKUP(WEEKDAY(CONCATENATE("2","/",Z40,"/",$AJ$6)),$BY$11:$BZ$17,2,FALSE) -> Wed | AA41: =VLOOKUP(WEEKDAY(CONCATENATE("2","/",AA40,"/",$AJ$6)),$BY$11:$BZ$17,2,FALSE) -> Thur | AB41: =VLOOKUP(WEEKDAY(CONCATENATE("2","/",AB40,"/",$AJ$6)),$BY$11:$BZ$17,2,FALSE) -> Fri | AC41: =VLOOKUP(WEEKDAY(CONCATENATE("2","/",AC40,"/",$AJ$6)),$BY$11:$BZ$17,2,FALSE) -> Sat | AD41: =VLOOKUP(WEEKDAY(CONCATENATE("2","/",AD40,"/",$AJ$6)),$BY$11:$BZ$17,2,FALSE) -> Sun | AE41: =VLOOKUP(WEEKDAY(CONCATENATE("2","/",AE40,"/",$AJ$6)),$BY$11:$BZ$17,2,FALSE) -> Mon | AF41: =VLOOKUP(WEEKDAY(CONCATENATE("2","/",AF40,"/",$AJ$6)),$BY$11:$BZ$17,2,FALSE) -> Tues | AG41: =VLOOKUP(WEEKDAY(CONCATENATE("2","/",AG40,"/",$AJ$6)),$BY$11:$BZ$17,2,FALSE) -> Wed | ... BB41: =VLOOKUP(WEEKDAY(CONCATENATE("2","/",BB40,"/",$AJ$6)),$BY$11:$BZ$17,2,FALSE) -> Wed | BE41: Avg | BG41: MWh | BH41: MWh | BI41: MWh | BJ41: MWh
...

Sheet Part VI
B2: ="Version " & Version -> Version RD2 FINAL | P2: ="Version " & Version -> Version RD2 FINAL
B3: Part VI (a)
B4: =IF('Part IV'!J8="Yes","Pricing Information - Phase 1","Pricing Information") -> Pricing Information | P4: Part VI (a) (i)
Q6: Project Title | R6: =IF(ProjTitle="","Auto-Filled",ProjTitle) -> Auto-Filled | X6: =IF(N6="","<<< Enter Information in Part II","") -> <<< Enter Information in Part II
C7: Project Title | F7: =IF(ProjTitle="","Auto-Filled",ProjTitle) -> Auto-Filled | L7: =IF(B7="","<<< Enter Information in Part II","") -> <<< Enter Information in Part II
D9: Environmental Attribute Product: | G9: =IF('Part III'!J21="","Auto-Filled",'Part III'!J21) -> Auto-Filled | L9: =IF(G9="Auto-Filled","<<< Enter Information in Part III","") -> <<< Enter Information in Part III | Q9: Section 2.2.1.3.(a) check | Z9: COD Year | AA9: =YEAR(EvalCOD1) -> 1900
Z10: COD Month | AA10: =MONTH(EvalCOD1) -> 1
D11: Contract Services Term: | H11: (0 to 30 years) | L11: =IF(G11="","<<< Required Information","") -> <<< Required Information | Q11: Contract Year | R11: CPS Compliance Year | S11: CPS ACP | T11: Proposal $/Environmental Attribute (nominal$) | U11: CPEC Price less than 97.75% of the ACP | V11: Defined rate (or with one-time 2033 decrease)
Q12: 1 | R12: =IF(ISBLANK(EstCOD),2026+Q12,YEAR(EstCOD)+Q12-1) -> 2027 | S12: =IFERROR(VLOOKUP(R12,Tables!$B$22:$C$57,2,FALSE),45) -> 65 | T12: =F16 -> 0 | U12: =IF(G$9="CPEC",IF(S12=0,IF(F16>0,"FAIL",IF(F16*1.0225>S12,"FAIL","PASS")),IF(F16*1.0225>S12,"FAIL","PASS")),"PASS") -> PASS | V12: =IF(T12=0,"PASS",IF(Q12<3,"PASS",IF(ROUND(T12,2)=ROUND(T11*T11/T10,2),"PASS",IF(OR(R12=2033,R12=2034),"PASS","FAIL")))) -> PASS | X12: =IF(V12="FAIL", "Check the statement in L18","")
Q13: 2 | R13: =IF(ISBLANK(EstCOD),2026+Q13,YEAR(EstCOD)+Q13-1) -> 2028 | S13: =IFERROR(VLOOKUP(R13,Tables!$B$22:$C$57,2,FALSE),45) -> 65 | T13: =F17 -> 0 | U13: =IF(G$9="CPEC",IF(S13=0,IF(F17>0,"FAIL",IF(F17*1.0225>S13,"FAIL","PASS")),IF(F17*1.0225>S13,"FAIL","PASS")),"PASS") -> PASS | V13: =IF(T13=0,"PASS",IF(Q13<3,"PASS",IF(ROUND(T13,2)=ROUND(T12*T12/T11,2),"PASS",IF(OR(R13=2033,R13=2034),"PASS","FAIL")))) -> PASS | X13: =IF(V13="FAIL", "Check the statement in L18","")
F14: Environmental Attribute Price | L14: =IF(COUNT(F16:G45)<G11,"<<< Required Information","") | Q14: 3 | R14: =IF(ISBLANK(EstCOD),2026+Q14,YEAR(EstCOD)+Q14-1) -> 2029 | S14: =IFERROR(VLOOKUP(R14,Tables!$B$22:$C$57,2,FALSE),45) -> 65 | T14: =F18 -> 0 | U14: =IF(G$9="CPEC",IF(S14=0,IF(F18>0,"FAIL",IF(F18*1.0225>S14,"FAIL","PASS")),IF(F18*1.0225>S14,"FAIL","PASS")),"PASS") -> PASS | V14: =IF(T14=0,"PASS",IF(Q14<3,"PASS",IF(ROUND(T14,2)=ROUND(T13*T13/T12,2),"PASS",IF(OR(R14=2033,R14=2034),"PASS","FAIL")))) -> PASS | X14: =IF(V14="FAIL", "Check the statement in L18","")
E15: Contract Year | F15: $/Environmental Attribute (nominal$) | Q15: 4 | R15: =IF(ISBLANK(EstCOD),2026+Q15,YEAR(EstCOD)+Q15-1) -> 2030 | S15: =IFERROR(VLOOKUP(R15,Tables!$B$22:$C$57,2,FALSE),45) -> 65 | T15: =F19 -> 0 | U15: =IF(G$9="CPEC",IF(S15=0,IF(F19>0,"FAIL",IF(F19*1.0225>S15,"FAIL","PASS")),IF(F19*1.0225>S15,"FAIL","PASS")),"PASS") -> PASS | V15: =IF(T15=0,"PASS",IF(Q15<3,"PASS",IF(ROUND(T15,2)=ROUND(T14*T14/T13,2),"PASS",IF(OR(R15=2033,R15=2034),"PASS","FAIL")))) -> PASS | X15: =IF(V15="FAIL", "Check the statement in L18","")
